BEGIN:VCALENDAR
VERSION:2.0
PRODID:-//Faith Lutheran Church - ECPv6.15.20//NONSGML v1.0//EN
CALSCALE:GREGORIAN
METHOD:PUBLISH
X-WR-CALNAME:Faith Lutheran Church
X-ORIGINAL-URL:https://www.faithlc.com
X-WR-CALDESC:Events for Faith Lutheran Church
REFRESH-INTERVAL;VALUE=DURATION:PT1H
X-Robots-Tag:noindex
X-PUBLISHED-TTL:PT1H
BEGIN:VTIMEZONE
TZID:America/Chicago
BEGIN:DAYLIGHT
TZOFFSETFROM:-0600
TZOFFSETTO:-0500
TZNAME:CDT
DTSTART:20240310T080000
END:DAYLIGHT
BEGIN:STANDARD
TZOFFSETFROM:-0500
TZOFFSETTO:-0600
TZNAME:CST
DTSTART:20241103T070000
END:STANDARD
BEGIN:DAYLIGHT
TZOFFSETFROM:-0600
TZOFFSETTO:-0500
TZNAME:CDT
DTSTART:20250309T080000
END:DAYLIGHT
BEGIN:STANDARD
TZOFFSETFROM:-0500
TZOFFSETTO:-0600
TZNAME:CST
DTSTART:20251102T070000
END:STANDARD
BEGIN:DAYLIGHT
TZOFFSETFROM:-0600
TZOFFSETTO:-0500
TZNAME:CDT
DTSTART:20260308T080000
END:DAYLIGHT
BEGIN:STANDARD
TZOFFSETFROM:-0500
TZOFFSETTO:-0600
TZNAME:CST
DTSTART:20261101T070000
END:STANDARD
END:VTIMEZONE
BEGIN:VEVENT
DTSTART;TZID=America/Chicago:20250515T063000
DTEND;TZID=America/Chicago:20250515T073000
DTSTAMP:20260424T165444
CREATED:20241111T210616Z
LAST-MODIFIED:20241216T212715Z
UID:10001276-1747290600-1747294200@www.faithlc.com
SUMMARY:Men's Bible Study
DESCRIPTION:This is a Bible study for men of all ages that meets year round.
URL:https://www.faithlc.com/event/mens-bible-study-2/2025-05-15/
LOCATION:Office Conference room\, 335 Main St. S.\, Hutchinson\, Minnesota\, 55350-2510
CATEGORIES:Adult
ATTACH;FMTTYPE=image/jpeg:https://www.faithlc.com/wp-content/uploads/2014/02/Bible.jpg
END:VEVENT
BEGIN:VEVENT
DTSTART;TZID=America/Chicago:20250515T080000
DTEND;TZID=America/Chicago:20250515T093000
DTSTAMP:20260424T165444
CREATED:20241111T210801Z
LAST-MODIFIED:20251106T220918Z
UID:10005309-1747296000-1747301400@www.faithlc.com
SUMMARY:TOPS (Take Pounds of Sensibly)
DESCRIPTION:
URL:https://www.faithlc.com/event/tops-take-pounds-of-sensibly-2/2025-05-15/
LOCATION:Third Floor Conference Room\, 335 Main St. S.\, Hutchinson\, Minnesota\, 55350-2510
CATEGORIES:Reserved Space
END:VEVENT
BEGIN:VEVENT
DTSTART;TZID=America/Chicago:20250515T120000
DTEND;TZID=America/Chicago:20250515T130000
DTSTAMP:20260424T165444
CREATED:20250311T162009Z
LAST-MODIFIED:20250311T162010Z
UID:10007795-1747310400-1747314000@www.faithlc.com
SUMMARY:Theo Thursday
DESCRIPTION:An adult book study that takes place in the Faith Center on Thursday’s at 12 noon. Bring your lunch and a copy of the book for discussion. This group does not meet on Senior Potluck weeks.
URL:https://www.faithlc.com/event/theo-thursday/2025-05-15/
CATEGORIES:Adult
ATTACH;FMTTYPE=image/png:https://www.faithlc.com/wp-content/uploads/2025/03/8-Theo-Thurs-e1741709878960.png
END:VEVENT
BEGIN:VEVENT
DTSTART;TZID=America/Chicago:20250515T140000
DTEND;TZID=America/Chicago:20250515T150000
DTSTAMP:20260424T165444
CREATED:20250107T181428Z
LAST-MODIFIED:20250107T181430Z
UID:10006914-1747317600-1747321200@www.faithlc.com
SUMMARY:Bible study at the Pines and Oaks
DESCRIPTION:A monthly time of Bible study led by Faith pastors at the Pines (2 p.m.) and Oaks (2:30 p.m.)
URL:https://www.faithlc.com/event/bible-study-at-the-pines-and-oaks/2025-05-15/
CATEGORIES:Adult
ATTACH;FMTTYPE=image/jpeg:https://www.faithlc.com/wp-content/uploads/2013/07/bible_love_CaptPiper.jpg
END:VEVENT
BEGIN:VEVENT
DTSTART;TZID=America/Chicago:20250515T160000
DTEND;TZID=America/Chicago:20250515T170000
DTSTAMP:20260424T165444
CREATED:20250409T195910Z
LAST-MODIFIED:20250409T195911Z
UID:10007881-1747324800-1747328400@www.faithlc.com
SUMMARY:Grief Support Group
DESCRIPTION:
URL:https://www.faithlc.com/event/grief-support-group-3/2025-05-15/
CATEGORIES:Adult,Miscellaneous,Reserved Space
ATTACH;FMTTYPE=image/jpeg:https://www.faithlc.com/wp-content/uploads/2021/10/Grief.jpeg
END:VEVENT
BEGIN:VEVENT
DTSTART;TZID=America/Chicago:20250515T190000
DTEND;TZID=America/Chicago:20250515T200000
DTSTAMP:20260424T165444
CREATED:20241125T202354Z
LAST-MODIFIED:20251106T221215Z
UID:10005359-1747335600-1747339200@www.faithlc.com
SUMMARY:NA Meeting
DESCRIPTION:
URL:https://www.faithlc.com/event/na-meeting-2/2025-05-15/
LOCATION:Third Floor Conference Room\, 335 Main St. S.\, Hutchinson\, Minnesota\, 55350-2510
CATEGORIES:Reserved Space
END:VEVENT
BEGIN:VEVENT
DTSTART;TZID=America/Chicago:20250515T220000
DTEND;TZID=America/Chicago:20250515T230000
DTSTAMP:20260424T165444
CREATED:20240726T210445Z
LAST-MODIFIED:20240726T210452Z
UID:10003702-1747346400-1747350000@www.faithlc.com
SUMMARY:Pre-Recorded TV Services
DESCRIPTION:Pre-recorded service from the past Sunday (rotating between Sanctuary and Foundation Services: Nuvera Ch. 10\, Mediacom Ch. 8
URL:https://www.faithlc.com/event/pre-recorded-tv-services-2/2025-05-15/
CATEGORIES:TV Broadcast
ATTACH;FMTTYPE=image/jpeg:https://www.faithlc.com/wp-content/uploads/2021/05/HCVN.jpg
END:VEVENT
END:VCALENDAR