BEGIN:VCALENDAR
VERSION:2.0
PRODID:-//Faith Lutheran Church - ECPv6.15.20//NONSGML v1.0//EN
CALSCALE:GREGORIAN
METHOD:PUBLISH
X-ORIGINAL-URL:https://www.faithlc.com
X-WR-CALDESC:Events for Faith Lutheran Church
REFRESH-INTERVAL;VALUE=DURATION:PT1H
X-Robots-Tag:noindex
X-PUBLISHED-TTL:PT1H
BEGIN:VTIMEZONE
TZID:America/Chicago
BEGIN:DAYLIGHT
TZOFFSETFROM:-0600
TZOFFSETTO:-0500
TZNAME:CDT
DTSTART:20240310T080000
END:DAYLIGHT
BEGIN:STANDARD
TZOFFSETFROM:-0500
TZOFFSETTO:-0600
TZNAME:CST
DTSTART:20241103T070000
END:STANDARD
BEGIN:DAYLIGHT
TZOFFSETFROM:-0600
TZOFFSETTO:-0500
TZNAME:CDT
DTSTART:20250309T080000
END:DAYLIGHT
BEGIN:STANDARD
TZOFFSETFROM:-0500
TZOFFSETTO:-0600
TZNAME:CST
DTSTART:20251102T070000
END:STANDARD
BEGIN:DAYLIGHT
TZOFFSETFROM:-0600
TZOFFSETTO:-0500
TZNAME:CDT
DTSTART:20260308T080000
END:DAYLIGHT
BEGIN:STANDARD
TZOFFSETFROM:-0500
TZOFFSETTO:-0600
TZNAME:CST
DTSTART:20261101T070000
END:STANDARD
END:VTIMEZONE
BEGIN:VEVENT
DTSTART;TZID=America/Chicago:20250709T070000
DTEND;TZID=America/Chicago:20250709T073000
DTSTAMP:20260422T115853
CREATED:20250625T202847Z
LAST-MODIFIED:20250625T202849Z
UID:10004232-1752044400-1752046200@www.faithlc.com
SUMMARY:Morning Prayer
DESCRIPTION:A time to gether for prayer. You are invited to join the leading pastor in the sanctuary or tune in via Facebook live to participate.
URL:https://www.faithlc.com/event/morning-prayer-2/2025-07-09/
CATEGORIES:Worship Times
ATTACH;FMTTYPE=image/png:https://www.faithlc.com/wp-content/uploads/2023/01/Matins-praying-hands.png
END:VEVENT
BEGIN:VEVENT
DTSTART;TZID=America/Chicago:20250709T090000
DTEND;TZID=America/Chicago:20250709T120000
DTSTAMP:20260422T115853
CREATED:20240923T200938Z
LAST-MODIFIED:20240923T201316Z
UID:10005099-1752051600-1752062400@www.faithlc.com
SUMMARY:Faith Quilters
DESCRIPTION:This group gathers monthly to work on so many projects. Helping hands of all (or no) sewing/quilting abilities are welcome to join in the fun.
URL:https://www.faithlc.com/event/faith-quilters-2/2025-07-09/
LOCATION:Third Floor Multi-Purpose Space\, 335 Main St. S.\, Hutchinson\, Minnesota\, 55350-2510
CATEGORIES:Miscellaneous
ATTACH;FMTTYPE=image/jpeg:https://www.faithlc.com/wp-content/uploads/2015/05/FLC_Quilters-Slide.jpg
END:VEVENT
BEGIN:VEVENT
DTSTART;TZID=America/Chicago:20250709T103000
DTEND;TZID=America/Chicago:20250709T113000
DTSTAMP:20260422T115853
CREATED:20250311T160213Z
LAST-MODIFIED:20250311T160215Z
UID:10007283-1752057000-1752060600@www.faithlc.com
SUMMARY:Weekly Staff Meeting
DESCRIPTION:The Faith Lutheran staff gathers weekly for a time of devotion\, support\, and planning.
URL:https://www.faithlc.com/event/weekly-staff-meeting-2/2025-07-09/
CATEGORIES:Staff
END:VEVENT
BEGIN:VEVENT
DTSTART;TZID=America/Chicago:20250709T113000
DTEND;TZID=America/Chicago:20250709T121500
DTSTAMP:20260422T115853
CREATED:20250311T160257Z
LAST-MODIFIED:20250311T160259Z
UID:10007543-1752060600-1752063300@www.faithlc.com
SUMMARY:Pastoral Care Team Meeting
DESCRIPTION:The Pastoral Care (PC) Team meets weekly to review the needs of members who are homebound\, hospitalized\, etc.
URL:https://www.faithlc.com/event/pastoral-care-team-meeting-2/2025-07-09/
CATEGORIES:Staff
END:VEVENT
BEGIN:VEVENT
DTSTART;TZID=America/Chicago:20250709T153000
DTEND;TZID=America/Chicago:20250709T170000
DTSTAMP:20260422T115853
CREATED:20250625T202153Z
LAST-MODIFIED:20250625T202154Z
UID:10007962-1752075000-1752080400@www.faithlc.com
SUMMARY:God Squad
DESCRIPTION:For 5-7th grade students
URL:https://www.faithlc.com/event/god-squad/2025-07-09/
CATEGORIES:Children
ATTACH;FMTTYPE=image/jpeg:https://www.faithlc.com/wp-content/uploads/2021/05/God-Squad.jpg
END:VEVENT
BEGIN:VEVENT
DTSTART;TZID=America/Chicago:20250709T190000
DTEND;TZID=America/Chicago:20250709T213000
DTSTAMP:20260422T115853
CREATED:20240726T211826Z
LAST-MODIFIED:20241216T213057Z
UID:10004282-1752087600-1752096600@www.faithlc.com
SUMMARY:FLY (Faith Lutheran Youth) Night
DESCRIPTION:Wednesday nights beginning at 7 p.m. in the Youth Space at Faith Lutheran Church. We dig into the Bible\, play games\, and grow in comunity together. Completed 8th grade through high school seniors welcome!
URL:https://www.faithlc.com/event/fly-faith-lutheran-youth-night/2025-07-09/
LOCATION:Youth Space
CATEGORIES:Youth
ATTACH;FMTTYPE=image/gif:https://www.faithlc.com/wp-content/uploads/2013/08/FLYouth.gif
ORGANIZER;CN="Kristen Durst":MAILTO:kristenm@faithlc.com
END:VEVENT
END:VCALENDAR