BEGIN:VCALENDAR
VERSION:2.0
PRODID:-//Faith Lutheran Church - ECPv6.15.20//NONSGML v1.0//EN
CALSCALE:GREGORIAN
METHOD:PUBLISH
X-ORIGINAL-URL:https://www.faithlc.com
X-WR-CALDESC:Events for Faith Lutheran Church
REFRESH-INTERVAL;VALUE=DURATION:PT1H
X-Robots-Tag:noindex
X-PUBLISHED-TTL:PT1H
BEGIN:VTIMEZONE
TZID:America/Chicago
BEGIN:DAYLIGHT
TZOFFSETFROM:-0600
TZOFFSETTO:-0500
TZNAME:CDT
DTSTART:20240310T080000
END:DAYLIGHT
BEGIN:STANDARD
TZOFFSETFROM:-0500
TZOFFSETTO:-0600
TZNAME:CST
DTSTART:20241103T070000
END:STANDARD
BEGIN:DAYLIGHT
TZOFFSETFROM:-0600
TZOFFSETTO:-0500
TZNAME:CDT
DTSTART:20250309T080000
END:DAYLIGHT
BEGIN:STANDARD
TZOFFSETFROM:-0500
TZOFFSETTO:-0600
TZNAME:CST
DTSTART:20251102T070000
END:STANDARD
BEGIN:DAYLIGHT
TZOFFSETFROM:-0600
TZOFFSETTO:-0500
TZNAME:CDT
DTSTART:20260308T080000
END:DAYLIGHT
BEGIN:STANDARD
TZOFFSETFROM:-0500
TZOFFSETTO:-0600
TZNAME:CST
DTSTART:20261101T070000
END:STANDARD
END:VTIMEZONE
BEGIN:VEVENT
DTSTART;TZID=America/Chicago:20250807T063000
DTEND;TZID=America/Chicago:20250807T073000
DTSTAMP:20260420T120927
CREATED:20250625T203013Z
LAST-MODIFIED:20251106T220823Z
UID:10008227-1754548200-1754551800@www.faithlc.com
SUMMARY:Men's Bible Study
DESCRIPTION:This is a Bible study for men of all ages that meets year round.
URL:https://www.faithlc.com/event/mens-bible-study-3/2025-08-07/
LOCATION:Office Conference room\, 335 Main St. S.\, Hutchinson\, Minnesota\, 55350-2510
CATEGORIES:Adult
ATTACH;FMTTYPE=image/jpeg:https://www.faithlc.com/wp-content/uploads/2014/02/Bible.jpg
END:VEVENT
BEGIN:VEVENT
DTSTART;TZID=America/Chicago:20250807T080000
DTEND;TZID=America/Chicago:20250807T093000
DTSTAMP:20260420T120927
CREATED:20241111T210801Z
LAST-MODIFIED:20251106T220918Z
UID:10009523-1754553600-1754559000@www.faithlc.com
SUMMARY:TOPS (Take Pounds of Sensibly)
DESCRIPTION:
URL:https://www.faithlc.com/event/tops-take-pounds-of-sensibly-2/2025-08-07/
LOCATION:Third Floor Conference Room\, 335 Main St. S.\, Hutchinson\, Minnesota\, 55350-2510
CATEGORIES:Reserved Space
END:VEVENT
BEGIN:VEVENT
DTSTART;TZID=America/Chicago:20250807T090000
DTEND;TZID=America/Chicago:20250807T160000
DTSTAMP:20260420T120927
CREATED:20250625T210707Z
LAST-MODIFIED:20250625T210709Z
UID:10009628-1754557200-1754582400@www.faithlc.com
SUMMARY:Day Camp
DESCRIPTION:Want to experience camp but do not want to stay overnight for a full week? Sign up for Day Camp! Ingham Okoboji Lutheran Bible Camps staff members will lead a week of worship\, games\, crafts\, and Bible studies about our amazing Lord! \n\n\n\nDay Camp will run from August 4 – 7 from 9 a.m. – 2 p.m. at Faith Lutheran Church. This is for children who have completed kindergarten through 5th grade. Cost is $25/ child.  \n\n\n\n\nRegister your child here
URL:https://www.faithlc.com/event/day-camp-2/2025-08-07/
CATEGORIES:Children
ATTACH;FMTTYPE=image/jpeg:https://www.faithlc.com/wp-content/uploads/2024/06/Children-2.jpg
END:VEVENT
BEGIN:VEVENT
DTSTART;TZID=America/Chicago:20250807T133000
DTEND;TZID=America/Chicago:20250807T140000
DTSTAMP:20260420T120927
CREATED:20250107T200645Z
LAST-MODIFIED:20250107T200647Z
UID:10007034-1754573400-1754575200@www.faithlc.com
SUMMARY:Communion at Woodstone
DESCRIPTION:
URL:https://www.faithlc.com/event/communion-at-woodstone/2025-08-07/
CATEGORIES:Miscellaneous
ATTACH;FMTTYPE=image/jpeg:https://www.faithlc.com/wp-content/uploads/2024/06/Communion.jpg
END:VEVENT
BEGIN:VEVENT
DTSTART;TZID=America/Chicago:20250807T190000
DTEND;TZID=America/Chicago:20250807T200000
DTSTAMP:20260420T120927
CREATED:20241125T202354Z
LAST-MODIFIED:20251106T221215Z
UID:10009578-1754593200-1754596800@www.faithlc.com
SUMMARY:NA Meeting
DESCRIPTION:
URL:https://www.faithlc.com/event/na-meeting-2/2025-08-07/
LOCATION:Third Floor Conference Room\, 335 Main St. S.\, Hutchinson\, Minnesota\, 55350-2510
CATEGORIES:Reserved Space
END:VEVENT
BEGIN:VEVENT
DTSTART;TZID=America/Chicago:20250807T220000
DTEND;TZID=America/Chicago:20250807T230000
DTSTAMP:20260420T120927
CREATED:20240726T210445Z
LAST-MODIFIED:20240726T210452Z
UID:10003714-1754604000-1754607600@www.faithlc.com
SUMMARY:Pre-Recorded TV Services
DESCRIPTION:Pre-recorded service from the past Sunday (rotating between Sanctuary and Foundation Services: Nuvera Ch. 10\, Mediacom Ch. 8
URL:https://www.faithlc.com/event/pre-recorded-tv-services-2/2025-08-07/
CATEGORIES:TV Broadcast
ATTACH;FMTTYPE=image/jpeg:https://www.faithlc.com/wp-content/uploads/2021/05/HCVN.jpg
END:VEVENT
END:VCALENDAR