BEGIN:VCALENDAR
VERSION:2.0
PRODID:-//Faith Lutheran Church - ECPv6.15.20//NONSGML v1.0//EN
CALSCALE:GREGORIAN
METHOD:PUBLISH
X-WR-CALNAME:Faith Lutheran Church
X-ORIGINAL-URL:https://www.faithlc.com
X-WR-CALDESC:Events for Faith Lutheran Church
REFRESH-INTERVAL;VALUE=DURATION:PT1H
X-Robots-Tag:noindex
X-PUBLISHED-TTL:PT1H
BEGIN:VTIMEZONE
TZID:America/Chicago
BEGIN:DAYLIGHT
TZOFFSETFROM:-0600
TZOFFSETTO:-0500
TZNAME:CDT
DTSTART:20240310T080000
END:DAYLIGHT
BEGIN:STANDARD
TZOFFSETFROM:-0500
TZOFFSETTO:-0600
TZNAME:CST
DTSTART:20241103T070000
END:STANDARD
BEGIN:DAYLIGHT
TZOFFSETFROM:-0600
TZOFFSETTO:-0500
TZNAME:CDT
DTSTART:20250309T080000
END:DAYLIGHT
BEGIN:STANDARD
TZOFFSETFROM:-0500
TZOFFSETTO:-0600
TZNAME:CST
DTSTART:20251102T070000
END:STANDARD
BEGIN:DAYLIGHT
TZOFFSETFROM:-0600
TZOFFSETTO:-0500
TZNAME:CDT
DTSTART:20260308T080000
END:DAYLIGHT
BEGIN:STANDARD
TZOFFSETFROM:-0500
TZOFFSETTO:-0600
TZNAME:CST
DTSTART:20261101T070000
END:STANDARD
END:VTIMEZONE
BEGIN:VEVENT
DTSTART;TZID=America/Chicago:20251223T090000
DTEND;TZID=America/Chicago:20251223T103000
DTSTAMP:20260421T213455
CREATED:20240729T220514Z
LAST-MODIFIED:20250721T214017Z
UID:10005433-1766480400-1766485800@www.faithlc.com
SUMMARY:Faith Matters Assembly
DESCRIPTION:A group of volunteers gather to put prepare the monthly newsletter for the mail. Extra hands are always welcome!
URL:https://www.faithlc.com/event/faith-matters-assembly/2025-12-23/
LOCATION:Third Floor Multi-Purpose Space\, 335 Main St. S.\, Hutchinson\, Minnesota\, 55350-2510
CATEGORIES:Adult
ATTACH;FMTTYPE=image/bmp:https://www.faithlc.com/wp-content/uploads/2008/10/FaithMatters-e1432926837457.bmp
END:VEVENT
BEGIN:VEVENT
DTSTART;TZID=America/Chicago:20251223T091500
DTEND;TZID=America/Chicago:20251223T100000
DTSTAMP:20260421T213455
CREATED:20250625T211136Z
LAST-MODIFIED:20250625T211138Z
UID:10009653-1766481300-1766484000@www.faithlc.com
SUMMARY:Exercise Group
DESCRIPTION:This is a group that likes to move. They meet every Tuesday throughout the year to walk/exercise to a video. Once in a while when the weather is nice the take a little walk outside.  After this light workout there is time to rehydate and visit for a bit. Any and all are welcome anytime.
URL:https://www.faithlc.com/event/exercise-group-2/2025-12-23/
CATEGORIES:Miscellaneous
ATTACH;FMTTYPE=image/jpeg:https://www.faithlc.com/wp-content/uploads/2020/12/Exercise-walking.jpg
END:VEVENT
BEGIN:VEVENT
DTSTART;TZID=America/Chicago:20251223T091500
DTEND;TZID=America/Chicago:20251223T103000
DTSTAMP:20260421T213455
CREATED:20240726T205654Z
LAST-MODIFIED:20241216T211743Z
UID:10002951-1766481300-1766485800@www.faithlc.com
SUMMARY:Pastoral Planning Meeting
DESCRIPTION:A weekly planning meeting of the FLC Pastors.
URL:https://www.faithlc.com/event/pastoral-planning-meeting/2025-12-23/
CATEGORIES:Staff
END:VEVENT
BEGIN:VEVENT
DTSTART;TZID=America/Chicago:20251223T110000
DTEND;TZID=America/Chicago:20251223T120000
DTSTAMP:20260421T213455
CREATED:20250107T181059Z
LAST-MODIFIED:20250107T181114Z
UID:10006699-1766487600-1766491200@www.faithlc.com
SUMMARY:Prayer Group
DESCRIPTION:This group meets weekly for one hour to pray for the church\, the community\, the world\, etc. All are welcome to join on Tuesday’s at 11 a.m. in the office conference room.
URL:https://www.faithlc.com/event/prayer-group-3/2025-12-23/
CATEGORIES:Adult
ATTACH;FMTTYPE=image/png:https://www.faithlc.com/wp-content/uploads/2023/01/Matins-praying-hands.png
END:VEVENT
BEGIN:VEVENT
DTSTART;TZID=America/Chicago:20251223T120000
DTEND;TZID=America/Chicago:20251223T130000
DTSTAMP:20260421T213455
CREATED:20240726T210927Z
LAST-MODIFIED:20240726T210934Z
UID:10003995-1766491200-1766494800@www.faithlc.com
SUMMARY:Lectionary Study
DESCRIPTION:Prepare for next Sunday’s worship by studying the Bible texts with the pastor who will be preaching. Every Tuesday\, all year\, noon – 1 p.m. in the church office conference room. No commitment\, just come when you can. This group meets all year long and you are welcome to bring your lunch if you are on a lunch break from work.
URL:https://www.faithlc.com/event/lectionary-study/2025-12-23/
CATEGORIES:Adult
ATTACH;FMTTYPE=image/jpeg:https://www.faithlc.com/wp-content/uploads/2014/10/Bible.jpg
END:VEVENT
BEGIN:VEVENT
DTSTART;TZID=America/Chicago:20251223T133000
DTEND;TZID=America/Chicago:20251223T170000
DTSTAMP:20260421T213455
CREATED:20251106T222115Z
LAST-MODIFIED:20251106T222116Z
UID:10011453-1766496600-1766509200@www.faithlc.com
SUMMARY:After Shock- Special Edition
DESCRIPTION:
URL:https://www.faithlc.com/event/after-shock-special-edition/
CATEGORIES:Children
ATTACH;FMTTYPE=image/jpeg:https://www.faithlc.com/wp-content/uploads/2015/05/fly-kids.jpg
END:VEVENT
BEGIN:VEVENT
DTSTART;TZID=America/Chicago:20251223T150000
DTEND;TZID=America/Chicago:20251223T160000
DTSTAMP:20260421T213455
CREATED:20241216T211604Z
LAST-MODIFIED:20241216T211605Z
UID:10005946-1766502000-1766505600@www.faithlc.com
SUMMARY:Worship Planning Meeting
DESCRIPTION:A weekly meeting of staff to plan for the next Sunday’s worship services.
URL:https://www.faithlc.com/event/worship-planning-meeting-3/2025-12-23/
CATEGORIES:Staff
END:VEVENT
BEGIN:VEVENT
DTSTART;TZID=America/Chicago:20251223T170000
DTEND;TZID=America/Chicago:20251223T180000
DTSTAMP:20260421T213455
CREATED:20240726T210227Z
LAST-MODIFIED:20240726T210231Z
UID:10003473-1766509200-1766512800@www.faithlc.com
SUMMARY:Pre-Recorded TV Broadcast
DESCRIPTION:Pre-recorded service from the past Sunday (rotating between Sanctuary and Foundation Services: Nuvera Ch. 10\, Mediacom Ch. 8
URL:https://www.faithlc.com/event/pre-recorded-tv-broadcast/2025-12-23/
CATEGORIES:TV Broadcast
ATTACH;FMTTYPE=image/jpeg:https://www.faithlc.com/wp-content/uploads/2021/05/HCVN.jpg
END:VEVENT
BEGIN:VEVENT
DTSTART;TZID=America/Chicago:20251223T173000
DTEND;TZID=America/Chicago:20251223T183000
DTSTAMP:20260421T213455
CREATED:20250721T201527Z
LAST-MODIFIED:20250721T202035Z
UID:10009910-1766511000-1766514600@www.faithlc.com
SUMMARY:Ringers of Faith
DESCRIPTION:Handbell Ringers will meet weekly begining with an open house August 26.
URL:https://www.faithlc.com/event/ringers-of-faith-3/2025-12-23/
ATTACH;FMTTYPE=image/jpeg:https://www.faithlc.com/wp-content/uploads/2022/02/Bells.jpg
END:VEVENT
END:VCALENDAR