BEGIN:VCALENDAR
VERSION:2.0
PRODID:-//Faith Lutheran Church - ECPv6.15.20//NONSGML v1.0//EN
CALSCALE:GREGORIAN
METHOD:PUBLISH
X-WR-CALNAME:Faith Lutheran Church
X-ORIGINAL-URL:https://www.faithlc.com
X-WR-CALDESC:Events for Faith Lutheran Church
REFRESH-INTERVAL;VALUE=DURATION:PT1H
X-Robots-Tag:noindex
X-PUBLISHED-TTL:PT1H
BEGIN:VTIMEZONE
TZID:America/Chicago
BEGIN:DAYLIGHT
TZOFFSETFROM:-0600
TZOFFSETTO:-0500
TZNAME:CDT
DTSTART:20250309T080000
END:DAYLIGHT
BEGIN:STANDARD
TZOFFSETFROM:-0500
TZOFFSETTO:-0600
TZNAME:CST
DTSTART:20251102T070000
END:STANDARD
BEGIN:DAYLIGHT
TZOFFSETFROM:-0600
TZOFFSETTO:-0500
TZNAME:CDT
DTSTART:20260308T080000
END:DAYLIGHT
BEGIN:STANDARD
TZOFFSETFROM:-0500
TZOFFSETTO:-0600
TZNAME:CST
DTSTART:20261101T070000
END:STANDARD
BEGIN:DAYLIGHT
TZOFFSETFROM:-0600
TZOFFSETTO:-0500
TZNAME:CDT
DTSTART:20270314T080000
END:DAYLIGHT
BEGIN:STANDARD
TZOFFSETFROM:-0500
TZOFFSETTO:-0600
TZNAME:CST
DTSTART:20271107T070000
END:STANDARD
END:VTIMEZONE
BEGIN:VEVENT
DTSTART;TZID=America/Chicago:20260401T070000
DTEND;TZID=America/Chicago:20260401T073000
DTSTAMP:20260420T172817
CREATED:20250625T202847Z
LAST-MODIFIED:20250625T202849Z
UID:10008003-1775026800-1775028600@www.faithlc.com
SUMMARY:Morning Prayer
DESCRIPTION:A time to gether for prayer. You are invited to join the leading pastor in the sanctuary or tune in via Facebook live to participate.
URL:https://www.faithlc.com/event/morning-prayer-2/2026-04-01/
CATEGORIES:Worship Times
ATTACH;FMTTYPE=image/png:https://www.faithlc.com/wp-content/uploads/2023/01/Matins-praying-hands.png
END:VEVENT
BEGIN:VEVENT
DTSTART;TZID=America/Chicago:20260401T090000
DTEND;TZID=America/Chicago:20260401T093000
DTSTAMP:20260420T172817
CREATED:20260226T205456Z
LAST-MODIFIED:20260226T205458Z
UID:10012017-1775034000-1775035800@www.faithlc.com
SUMMARY:Matins
DESCRIPTION:Join the Faith staff in person in the sanctuary\, or via Facebook Tuesday – Thursday at 9 a.m. for a morning matins service.Tuesday and Thursday will be two readings and a brief homily.Wednesdays format is a musical version of matins.
URL:https://www.faithlc.com/event/matins/2026-04-01/
CATEGORIES:Worship Times
ATTACH;FMTTYPE=image/png:https://www.faithlc.com/wp-content/uploads/2026/02/Matins-Logo.png
END:VEVENT
BEGIN:VEVENT
DTSTART;TZID=America/Chicago:20260401T103000
DTEND;TZID=America/Chicago:20260401T113000
DTSTAMP:20260420T172818
CREATED:20250311T160213Z
LAST-MODIFIED:20250311T160215Z
UID:10007321-1775039400-1775043000@www.faithlc.com
SUMMARY:Weekly Staff Meeting
DESCRIPTION:The Faith Lutheran staff gathers weekly for a time of devotion\, support\, and planning.
URL:https://www.faithlc.com/event/weekly-staff-meeting-2/2026-04-01/
CATEGORIES:Staff
END:VEVENT
BEGIN:VEVENT
DTSTART;TZID=America/Chicago:20260401T113000
DTEND;TZID=America/Chicago:20260401T121500
DTSTAMP:20260420T172818
CREATED:20250311T160257Z
LAST-MODIFIED:20250311T160259Z
UID:10007581-1775043000-1775045700@www.faithlc.com
SUMMARY:Pastoral Care Team Meeting
DESCRIPTION:The Pastoral Care (PC) Team meets weekly to review the needs of members who are homebound\, hospitalized\, etc.
URL:https://www.faithlc.com/event/pastoral-care-team-meeting-2/2026-04-01/
CATEGORIES:Staff
END:VEVENT
BEGIN:VEVENT
DTSTART;TZID=America/Chicago:20260401T133000
DTEND;TZID=America/Chicago:20260401T163000
DTSTAMP:20260420T172818
CREATED:20260129T224421Z
LAST-MODIFIED:20260226T205748Z
UID:10007018-1775050200-1775061000@www.faithlc.com
SUMMARY:After Shock
DESCRIPTION:
URL:https://www.faithlc.com/event/after-shock/2026-04-01/
CATEGORIES:Children
ATTACH;FMTTYPE=image/jpeg:https://www.faithlc.com/wp-content/uploads/2024/06/Children-2.jpg
END:VEVENT
BEGIN:VEVENT
DTSTART;TZID=America/Chicago:20260401T173000
DTEND;TZID=America/Chicago:20260401T183000
DTSTAMP:20260420T172818
CREATED:20250721T201644Z
LAST-MODIFIED:20250721T202140Z
UID:10009962-1775064600-1775068200@www.faithlc.com
SUMMARY:Faith Singers
DESCRIPTION:
URL:https://www.faithlc.com/event/faith-singers-4/2026-04-01/
CATEGORIES:Adult
ATTACH;FMTTYPE=image/jpeg:https://www.faithlc.com/wp-content/uploads/2015/05/FLC_Choir-Slide.jpg
END:VEVENT
BEGIN:VEVENT
DTSTART;TZID=America/Chicago:20260401T190000
DTEND;TZID=America/Chicago:20260401T200000
DTSTAMP:20260420T172818
CREATED:20260129T223533Z
LAST-MODIFIED:20260129T223535Z
UID:10011901-1775070000-1775073600@www.faithlc.com
SUMMARY:Confirmation
DESCRIPTION:Wednesday schedules vary – a typical week is from 3:45-5:30 p.m.\, however\, there are some mentor meetings which are from 5:30-6:30 p.m.\, during Lent students (and families) attend worship at 6:30 and then meet with their small groups for about a half hour after worship. Please follow information from Kristen (orientation handouts\, emails\, etc.) over this calendar to have the most accurate and up to date information.
URL:https://www.faithlc.com/event/confirmation/2026-04-01/
LOCATION:Faith Center
ATTACH;FMTTYPE=image/jpeg:https://www.faithlc.com/wp-content/uploads/2022/07/Confirmation-2022.jpg
ORGANIZER;CN="Kristen Durst":MAILTO:kristenm@faithlc.com
END:VEVENT
BEGIN:VEVENT
DTSTART;TZID=America/Chicago:20260401T190000
DTEND;TZID=America/Chicago:20260401T213000
DTSTAMP:20260420T172818
CREATED:20240726T211826Z
LAST-MODIFIED:20241216T213057Z
UID:10004320-1775070000-1775079000@www.faithlc.com
SUMMARY:FLY (Faith Lutheran Youth) Night
DESCRIPTION:Wednesday nights beginning at 7 p.m. in the Youth Space at Faith Lutheran Church. We dig into the Bible\, play games\, and grow in comunity together. Completed 8th grade through high school seniors welcome!
URL:https://www.faithlc.com/event/fly-faith-lutheran-youth-night/2026-04-01/
LOCATION:Youth Space
CATEGORIES:Youth
ATTACH;FMTTYPE=image/gif:https://www.faithlc.com/wp-content/uploads/2013/08/FLYouth.gif
ORGANIZER;CN="Kristen Durst":MAILTO:kristenm@faithlc.com
END:VEVENT
END:VCALENDAR