BEGIN:VCALENDAR
VERSION:2.0
PRODID:-//Faith Lutheran Church - ECPv6.15.20//NONSGML v1.0//EN
CALSCALE:GREGORIAN
METHOD:PUBLISH
X-WR-CALNAME:Faith Lutheran Church
X-ORIGINAL-URL:https://www.faithlc.com
X-WR-CALDESC:Events for Faith Lutheran Church
REFRESH-INTERVAL;VALUE=DURATION:PT1H
X-Robots-Tag:noindex
X-PUBLISHED-TTL:PT1H
BEGIN:VTIMEZONE
TZID:America/Chicago
BEGIN:DAYLIGHT
TZOFFSETFROM:-0600
TZOFFSETTO:-0500
TZNAME:CDT
DTSTART:20250309T080000
END:DAYLIGHT
BEGIN:STANDARD
TZOFFSETFROM:-0500
TZOFFSETTO:-0600
TZNAME:CST
DTSTART:20251102T070000
END:STANDARD
BEGIN:DAYLIGHT
TZOFFSETFROM:-0600
TZOFFSETTO:-0500
TZNAME:CDT
DTSTART:20260308T080000
END:DAYLIGHT
BEGIN:STANDARD
TZOFFSETFROM:-0500
TZOFFSETTO:-0600
TZNAME:CST
DTSTART:20261101T070000
END:STANDARD
BEGIN:DAYLIGHT
TZOFFSETFROM:-0600
TZOFFSETTO:-0500
TZNAME:CDT
DTSTART:20270314T080000
END:DAYLIGHT
BEGIN:STANDARD
TZOFFSETFROM:-0500
TZOFFSETTO:-0600
TZNAME:CST
DTSTART:20271107T070000
END:STANDARD
END:VTIMEZONE
BEGIN:VEVENT
DTSTART;TZID=America/Chicago:20260416T063000
DTEND;TZID=America/Chicago:20260416T073000
DTSTAMP:20260420T115813
CREATED:20250625T203013Z
LAST-MODIFIED:20251106T220823Z
UID:10008263-1776321000-1776324600@www.faithlc.com
SUMMARY:Men's Bible Study
DESCRIPTION:This is a Bible study for men of all ages that meets year round.
URL:https://www.faithlc.com/event/mens-bible-study-3/2026-04-16/
LOCATION:Office Conference room\, 335 Main St. S.\, Hutchinson\, Minnesota\, 55350-2510
CATEGORIES:Adult
ATTACH;FMTTYPE=image/jpeg:https://www.faithlc.com/wp-content/uploads/2014/02/Bible.jpg
END:VEVENT
BEGIN:VEVENT
DTSTART;TZID=America/Chicago:20260416T080000
DTEND;TZID=America/Chicago:20260416T093000
DTSTAMP:20260420T115813
CREATED:20241111T210801Z
LAST-MODIFIED:20251106T220918Z
UID:10009559-1776326400-1776331800@www.faithlc.com
SUMMARY:TOPS (Take Pounds of Sensibly)
DESCRIPTION:
URL:https://www.faithlc.com/event/tops-take-pounds-of-sensibly-2/2026-04-16/
LOCATION:Third Floor Conference Room\, 335 Main St. S.\, Hutchinson\, Minnesota\, 55350-2510
CATEGORIES:Reserved Space
END:VEVENT
BEGIN:VEVENT
DTSTART;TZID=America/Chicago:20260416T090000
DTEND;TZID=America/Chicago:20260416T093000
DTSTAMP:20260420T115813
CREATED:20260226T205456Z
LAST-MODIFIED:20260226T205458Z
UID:10012024-1776330000-1776331800@www.faithlc.com
SUMMARY:Matins
DESCRIPTION:Join the Faith staff in person in the sanctuary\, or via Facebook Tuesday – Thursday at 9 a.m. for a morning matins service.Tuesday and Thursday will be two readings and a brief homily.Wednesdays format is a musical version of matins.
URL:https://www.faithlc.com/event/matins/2026-04-16/
CATEGORIES:Worship Times
ATTACH;FMTTYPE=image/png:https://www.faithlc.com/wp-content/uploads/2026/02/Matins-Logo.png
END:VEVENT
BEGIN:VEVENT
DTSTART;TZID=America/Chicago:20260416T140000
DTEND;TZID=America/Chicago:20260416T150000
DTSTAMP:20260420T115813
CREATED:20250107T181428Z
LAST-MODIFIED:20250107T181430Z
UID:10006925-1776348000-1776351600@www.faithlc.com
SUMMARY:Bible study at the Pines and Oaks
DESCRIPTION:A monthly time of Bible study led by Faith pastors at the Pines (2 p.m.) and Oaks (2:30 p.m.)
URL:https://www.faithlc.com/event/bible-study-at-the-pines-and-oaks/2026-04-16/
CATEGORIES:Adult
ATTACH;FMTTYPE=image/jpeg:https://www.faithlc.com/wp-content/uploads/2013/07/bible_love_CaptPiper.jpg
END:VEVENT
BEGIN:VEVENT
DTSTART;TZID=America/Chicago:20260416T160000
DTEND;TZID=America/Chicago:20260416T170000
DTSTAMP:20260420T115813
CREATED:20250909T134543Z
LAST-MODIFIED:20250909T134544Z
UID:10011174-1776355200-1776358800@www.faithlc.com
SUMMARY:Caregiver Support Group
DESCRIPTION:A support group for those who find themselves in a caregiving role. Members and non-members are welcome. Contact Pastor Paulus Pilgrim or Marsha Schmit for more information.
URL:https://www.faithlc.com/event/caregiver-support-group/2026-04-16/
LOCATION:Office Conference Room
CATEGORIES:Adult
ATTACH;FMTTYPE=image/jpeg:https://www.faithlc.com/wp-content/uploads/2018/01/Caregiver-Support.jpeg
END:VEVENT
BEGIN:VEVENT
DTSTART;TZID=America/Chicago:20260416T190000
DTEND;TZID=America/Chicago:20260416T200000
DTSTAMP:20260420T115813
CREATED:20241125T202354Z
LAST-MODIFIED:20251106T221215Z
UID:10009614-1776366000-1776369600@www.faithlc.com
SUMMARY:NA Meeting
DESCRIPTION:
URL:https://www.faithlc.com/event/na-meeting-2/2026-04-16/
LOCATION:Third Floor Conference Room\, 335 Main St. S.\, Hutchinson\, Minnesota\, 55350-2510
CATEGORIES:Reserved Space
END:VEVENT
BEGIN:VEVENT
DTSTART;TZID=America/Chicago:20260416T220000
DTEND;TZID=America/Chicago:20260416T230000
DTSTAMP:20260420T115813
CREATED:20240726T210445Z
LAST-MODIFIED:20240726T210452Z
UID:10003750-1776376800-1776380400@www.faithlc.com
SUMMARY:Pre-Recorded TV Services
DESCRIPTION:Pre-recorded service from the past Sunday (rotating between Sanctuary and Foundation Services: Nuvera Ch. 10\, Mediacom Ch. 8
URL:https://www.faithlc.com/event/pre-recorded-tv-services-2/2026-04-16/
CATEGORIES:TV Broadcast
ATTACH;FMTTYPE=image/jpeg:https://www.faithlc.com/wp-content/uploads/2021/05/HCVN.jpg
END:VEVENT
END:VCALENDAR