BEGIN:VCALENDAR
VERSION:2.0
PRODID:-//Faith Lutheran Church - ECPv6.15.20//NONSGML v1.0//EN
CALSCALE:GREGORIAN
METHOD:PUBLISH
X-WR-CALNAME:Faith Lutheran Church
X-ORIGINAL-URL:https://www.faithlc.com
X-WR-CALDESC:Events for Faith Lutheran Church
REFRESH-INTERVAL;VALUE=DURATION:PT1H
X-Robots-Tag:noindex
X-PUBLISHED-TTL:PT1H
BEGIN:VTIMEZONE
TZID:America/Chicago
BEGIN:DAYLIGHT
TZOFFSETFROM:-0600
TZOFFSETTO:-0500
TZNAME:CDT
DTSTART:20250309T080000
END:DAYLIGHT
BEGIN:STANDARD
TZOFFSETFROM:-0500
TZOFFSETTO:-0600
TZNAME:CST
DTSTART:20251102T070000
END:STANDARD
BEGIN:DAYLIGHT
TZOFFSETFROM:-0600
TZOFFSETTO:-0500
TZNAME:CDT
DTSTART:20260308T080000
END:DAYLIGHT
BEGIN:STANDARD
TZOFFSETFROM:-0500
TZOFFSETTO:-0600
TZNAME:CST
DTSTART:20261101T070000
END:STANDARD
BEGIN:DAYLIGHT
TZOFFSETFROM:-0600
TZOFFSETTO:-0500
TZNAME:CDT
DTSTART:20270314T080000
END:DAYLIGHT
BEGIN:STANDARD
TZOFFSETFROM:-0500
TZOFFSETTO:-0600
TZNAME:CST
DTSTART:20271107T070000
END:STANDARD
END:VTIMEZONE
BEGIN:VEVENT
DTSTART;TZID=America/Chicago:20260418T090000
DTEND;TZID=America/Chicago:20260418T150000
DTSTAMP:20260420T103551
CREATED:20260226T215416Z
LAST-MODIFIED:20260226T215418Z
UID:10012861-1776502800-1776524400@www.faithlc.com
SUMMARY:Augustana District Men's Retreat
DESCRIPTION:2026 Men’s Retreat \n\n\n\nThe story of the prodigal son from Luke 15 is one we know well. In fact\, maybe we know it too well. We’ve heard it in Sunday School\, preached from the pulpit\, retold in countless sermons\, so familiar that we assume we’ve already mined it for all it’s worth. But have we committed one of Jesus’ most famous parables to memory and convinced ourselves we’ve already figured it out? What if this story still has sharp edges and fresh surprises for us today? What might it reveal specifically to fathers\, brothers\, grandfathers\, and sons about wandering and returning\, resentment and reconciliation\, weakness and strength\, sin and grace? Join us as we look at the parable of the prodigal son with fresh eyes\, listening not only for what it meant then\, but for what it speaks into our lives now. Together we’ll explore how the relentless grace of the Father shapes our vocations as men in our homes\, churches\, and communities. Come to be encouraged\, challenged\, and renewed as we gather around a story that refuses to grow old.
URL:https://www.faithlc.com/event/augustana-district-mens-retreat/
CATEGORIES:Miscellaneous
ATTACH;FMTTYPE=image/jpeg:https://www.faithlc.com/wp-content/uploads/2026/02/Mens-retreat.jpg
END:VEVENT
END:VCALENDAR