BEGIN:VCALENDAR
VERSION:2.0
PRODID:-//Faith Lutheran Church - ECPv6.15.20//NONSGML v1.0//EN
CALSCALE:GREGORIAN
METHOD:PUBLISH
X-WR-CALNAME:Faith Lutheran Church
X-ORIGINAL-URL:https://www.faithlc.com
X-WR-CALDESC:Events for Faith Lutheran Church
REFRESH-INTERVAL;VALUE=DURATION:PT1H
X-Robots-Tag:noindex
X-PUBLISHED-TTL:PT1H
BEGIN:VTIMEZONE
TZID:America/Chicago
BEGIN:DAYLIGHT
TZOFFSETFROM:-0600
TZOFFSETTO:-0500
TZNAME:CDT
DTSTART:20250309T080000
END:DAYLIGHT
BEGIN:STANDARD
TZOFFSETFROM:-0500
TZOFFSETTO:-0600
TZNAME:CST
DTSTART:20251102T070000
END:STANDARD
BEGIN:DAYLIGHT
TZOFFSETFROM:-0600
TZOFFSETTO:-0500
TZNAME:CDT
DTSTART:20260308T080000
END:DAYLIGHT
BEGIN:STANDARD
TZOFFSETFROM:-0500
TZOFFSETTO:-0600
TZNAME:CST
DTSTART:20261101T070000
END:STANDARD
BEGIN:DAYLIGHT
TZOFFSETFROM:-0600
TZOFFSETTO:-0500
TZNAME:CDT
DTSTART:20270314T080000
END:DAYLIGHT
BEGIN:STANDARD
TZOFFSETFROM:-0500
TZOFFSETTO:-0600
TZNAME:CST
DTSTART:20271107T070000
END:STANDARD
END:VTIMEZONE
BEGIN:VEVENT
DTSTART;TZID=America/Chicago:20260420T000000
DTEND;TZID=America/Chicago:20260420T235959
DTSTAMP:20260422T050320
CREATED:20260226T214520Z
LAST-MODIFIED:20260408T212103Z
UID:10012854-1776643200-1776729599@www.faithlc.com
SUMMARY:Rummage Sale Week - Click for Details
DESCRIPTION:Help is needed to set up on Sunday\, April 19\, following the 10:10 a.m. services. Donations can be dropped off April 20-22 from 8 a.m. – 5 p.m. The sale will be held April 23 & 24. Help is also needed for clean up on Saturday\, April 25. Contact Bobbi Knudson at 320-587-2227 to let her know how you would like to help.
URL:https://www.faithlc.com/event/rummage-sale-week-click-for-details/2026-04-20/
CATEGORIES:Miscellaneous
ATTACH;FMTTYPE=image/jpeg:https://www.faithlc.com/wp-content/uploads/2017/09/Rummage-Sale-LG.jpg
END:VEVENT
BEGIN:VEVENT
DTSTART;TZID=America/Chicago:20260420T103000
DTEND;TZID=America/Chicago:20260420T120000
DTSTAMP:20260422T050320
CREATED:20250909T133823Z
LAST-MODIFIED:20260129T220339Z
UID:10011131-1776681000-1776686400@www.faithlc.com
SUMMARY:Monday Morning Bible Study
DESCRIPTION:Monday Morning Bible Study \n\n\n\nBeginning Monday\, September 15. \n\n\n\nThe topic this year is Shaping Israel  for Rest: A Study of Numbers and Deuteronomy. The class meets from 10:30 a.m. to noon. It does not meet during December and finishes in the spring. Anyone in the church or community is welcome to participate  and no registration is necessary. Just bring a Bible and a pen or pencil. To learn more about this year’s study\, contact Pastor Scott.
URL:https://www.faithlc.com/event/monday-morning-bible-study/2026-04-20/
LOCATION:Faith Center\, 335 Main Street S.\, Hutchinson\, 55350
CATEGORIES:Adult
ATTACH;FMTTYPE=image/png:https://www.faithlc.com/wp-content/uploads/2025/09/Numb-Deut-Fall-2025-Monday-BS.png
GEO:44.8884443;-94.3691943
X-APPLE-STRUCTURED-LOCATION;VALUE=URI;X-ADDRESS=Faith Center 335 Main Street S. Hutchinson 55350;X-APPLE-RADIUS=500;X-TITLE=335 Main Street S.:geo:-94.3691943,44.8884443
END:VEVENT
END:VCALENDAR