BEGIN:VCALENDAR
VERSION:2.0
PRODID:-//Faith Lutheran Church - ECPv6.15.20//NONSGML v1.0//EN
CALSCALE:GREGORIAN
METHOD:PUBLISH
X-WR-CALNAME:Faith Lutheran Church
X-ORIGINAL-URL:https://www.faithlc.com
X-WR-CALDESC:Events for Faith Lutheran Church
REFRESH-INTERVAL;VALUE=DURATION:PT1H
X-Robots-Tag:noindex
X-PUBLISHED-TTL:PT1H
BEGIN:VTIMEZONE
TZID:America/Chicago
BEGIN:DAYLIGHT
TZOFFSETFROM:-0600
TZOFFSETTO:-0500
TZNAME:CDT
DTSTART:20250309T080000
END:DAYLIGHT
BEGIN:STANDARD
TZOFFSETFROM:-0500
TZOFFSETTO:-0600
TZNAME:CST
DTSTART:20251102T070000
END:STANDARD
BEGIN:DAYLIGHT
TZOFFSETFROM:-0600
TZOFFSETTO:-0500
TZNAME:CDT
DTSTART:20260308T080000
END:DAYLIGHT
BEGIN:STANDARD
TZOFFSETFROM:-0500
TZOFFSETTO:-0600
TZNAME:CST
DTSTART:20261101T070000
END:STANDARD
BEGIN:DAYLIGHT
TZOFFSETFROM:-0600
TZOFFSETTO:-0500
TZNAME:CDT
DTSTART:20270314T080000
END:DAYLIGHT
BEGIN:STANDARD
TZOFFSETFROM:-0500
TZOFFSETTO:-0600
TZNAME:CST
DTSTART:20271107T070000
END:STANDARD
END:VTIMEZONE
BEGIN:VEVENT
DTSTART;TZID=America/Chicago:20260528T063000
DTEND;TZID=America/Chicago:20260528T073000
DTSTAMP:20260422T193045
CREATED:20250625T203013Z
LAST-MODIFIED:20251106T220823Z
UID:10008269-1779949800-1779953400@www.faithlc.com
SUMMARY:Men's Bible Study
DESCRIPTION:This is a Bible study for men of all ages that meets year round.
URL:https://www.faithlc.com/event/mens-bible-study-3/2026-05-28/
LOCATION:Office Conference room\, 335 Main St. S.\, Hutchinson\, Minnesota\, 55350-2510
CATEGORIES:Adult
ATTACH;FMTTYPE=image/jpeg:https://www.faithlc.com/wp-content/uploads/2014/02/Bible.jpg
END:VEVENT
BEGIN:VEVENT
DTSTART;TZID=America/Chicago:20260528T080000
DTEND;TZID=America/Chicago:20260528T093000
DTSTAMP:20260422T193045
CREATED:20241111T210801Z
LAST-MODIFIED:20251106T220918Z
UID:10009565-1779955200-1779960600@www.faithlc.com
SUMMARY:TOPS (Take Pounds of Sensibly)
DESCRIPTION:
URL:https://www.faithlc.com/event/tops-take-pounds-of-sensibly-2/2026-05-28/
LOCATION:Third Floor Conference Room\, 335 Main St. S.\, Hutchinson\, Minnesota\, 55350-2510
CATEGORIES:Reserved Space
END:VEVENT
BEGIN:VEVENT
DTSTART;TZID=America/Chicago:20260528T090000
DTEND;TZID=America/Chicago:20260528T093000
DTSTAMP:20260422T193045
CREATED:20260226T205456Z
LAST-MODIFIED:20260226T205458Z
UID:10012042-1779958800-1779960600@www.faithlc.com
SUMMARY:Matins
DESCRIPTION:Join the Faith staff in person in the sanctuary\, or via Facebook Tuesday – Thursday at 9 a.m. for a morning matins service.Tuesday and Thursday will be two readings and a brief homily.Wednesdays format is a musical version of matins.
URL:https://www.faithlc.com/event/matins/2026-05-28/
CATEGORIES:Worship Times
ATTACH;FMTTYPE=image/png:https://www.faithlc.com/wp-content/uploads/2026/02/Matins-Logo.png
END:VEVENT
BEGIN:VEVENT
DTSTART;TZID=America/Chicago:20260528T100000
DTEND;TZID=America/Chicago:20260528T113000
DTSTAMP:20260422T193045
CREATED:20260102T194036Z
LAST-MODIFIED:20260102T194038Z
UID:10011685-1779962400-1779967800@www.faithlc.com
SUMMARY:FACe Group (Cancer Support Group)
DESCRIPTION:
URL:https://www.faithlc.com/event/face-group-cancer-support-group/2026-05-28/
CATEGORIES:Miscellaneous
ATTACH;FMTTYPE=image/jpeg:https://www.faithlc.com/wp-content/uploads/2021/10/Support-Groups.jpg
END:VEVENT
BEGIN:VEVENT
DTSTART;TZID=America/Chicago:20260528T120000
DTEND;TZID=America/Chicago:20260528T140000
DTSTAMP:20260422T193045
CREATED:20260102T194546Z
LAST-MODIFIED:20260102T194549Z
UID:10011692-1779969600-1779976800@www.faithlc.com
SUMMARY:Seniors' Potluck
DESCRIPTION:
URL:https://www.faithlc.com/event/seniors-potluck-2/2026-05-28/
CATEGORIES:Adult
ATTACH;FMTTYPE=image/jpeg:https://www.faithlc.com/wp-content/uploads/2018/07/Seniors-Potluck-2018-color.jpeg
END:VEVENT
BEGIN:VEVENT
DTSTART;TZID=America/Chicago:20260528T190000
DTEND;TZID=America/Chicago:20260528T200000
DTSTAMP:20260422T193045
CREATED:20241125T202354Z
LAST-MODIFIED:20251106T221215Z
UID:10009620-1779994800-1779998400@www.faithlc.com
SUMMARY:NA Meeting
DESCRIPTION:
URL:https://www.faithlc.com/event/na-meeting-2/2026-05-28/
LOCATION:Third Floor Conference Room\, 335 Main St. S.\, Hutchinson\, Minnesota\, 55350-2510
CATEGORIES:Reserved Space
END:VEVENT
BEGIN:VEVENT
DTSTART;TZID=America/Chicago:20260528T220000
DTEND;TZID=America/Chicago:20260528T230000
DTSTAMP:20260422T193045
CREATED:20240726T210445Z
LAST-MODIFIED:20240726T210452Z
UID:10003756-1780005600-1780009200@www.faithlc.com
SUMMARY:Pre-Recorded TV Services
DESCRIPTION:Pre-recorded service from the past Sunday (rotating between Sanctuary and Foundation Services: Nuvera Ch. 10\, Mediacom Ch. 8
URL:https://www.faithlc.com/event/pre-recorded-tv-services-2/2026-05-28/
CATEGORIES:TV Broadcast
ATTACH;FMTTYPE=image/jpeg:https://www.faithlc.com/wp-content/uploads/2021/05/HCVN.jpg
END:VEVENT
END:VCALENDAR