BEGIN:VCALENDAR
VERSION:2.0
PRODID:-//Faith Lutheran Church - ECPv6.15.20//NONSGML v1.0//EN
CALSCALE:GREGORIAN
METHOD:PUBLISH
X-ORIGINAL-URL:https://www.faithlc.com
X-WR-CALDESC:Events for Faith Lutheran Church
REFRESH-INTERVAL;VALUE=DURATION:PT1H
X-Robots-Tag:noindex
X-PUBLISHED-TTL:PT1H
BEGIN:VTIMEZONE
TZID:America/Chicago
BEGIN:DAYLIGHT
TZOFFSETFROM:-0600
TZOFFSETTO:-0500
TZNAME:CDT
DTSTART:20250309T080000
END:DAYLIGHT
BEGIN:STANDARD
TZOFFSETFROM:-0500
TZOFFSETTO:-0600
TZNAME:CST
DTSTART:20251102T070000
END:STANDARD
BEGIN:DAYLIGHT
TZOFFSETFROM:-0600
TZOFFSETTO:-0500
TZNAME:CDT
DTSTART:20260308T080000
END:DAYLIGHT
BEGIN:STANDARD
TZOFFSETFROM:-0500
TZOFFSETTO:-0600
TZNAME:CST
DTSTART:20261101T070000
END:STANDARD
BEGIN:DAYLIGHT
TZOFFSETFROM:-0600
TZOFFSETTO:-0500
TZNAME:CDT
DTSTART:20270314T080000
END:DAYLIGHT
BEGIN:STANDARD
TZOFFSETFROM:-0500
TZOFFSETTO:-0600
TZNAME:CST
DTSTART:20271107T070000
END:STANDARD
END:VTIMEZONE
BEGIN:VEVENT
DTSTART;TZID=America/Chicago:20260614T080000
DTEND;TZID=America/Chicago:20260614T090000
DTSTAMP:20260422T032226
CREATED:20240726T201255Z
LAST-MODIFIED:20250721T203538Z
UID:10010058-1781424000-1781427600@www.faithlc.com
SUMMARY:First Word Worship Service
DESCRIPTION:This is a traditional worship service in the sanctuary using the Lutheran Book of Worship. Holy Communion is celebrated on the first and second Sunday of each month as well as on some of the major church holy days.
URL:https://www.faithlc.com/event/first-word-worship-service/2026-06-14/
LOCATION:Sanctuary\, 335 Main Street S.\, Hutchinson\, 55350
CATEGORIES:Worship Times
ATTACH;FMTTYPE=image/jpeg:https://www.faithlc.com/wp-content/uploads/2013/06/sanctuary_empty.jpg
GEO:44.8884443;-94.3691943
X-APPLE-STRUCTURED-LOCATION;VALUE=URI;X-ADDRESS=Sanctuary 335 Main Street S. Hutchinson 55350;X-APPLE-RADIUS=500;X-TITLE=335 Main Street S.:geo:-94.3691943,44.8884443
END:VEVENT
BEGIN:VEVENT
DTSTART;TZID=America/Chicago:20260614T080000
DTEND;TZID=America/Chicago:20260614T090000
DTSTAMP:20260422T032226
CREATED:20240726T203116Z
LAST-MODIFIED:20240726T203120Z
UID:10001882-1781424000-1781427600@www.faithlc.com
SUMMARY:Radio Broadcast (Pre-Recorded from previous week)
DESCRIPTION:The First Word worship services are recorded and submitted to KDUZ to be aired the following Sunday at 8 a.m.
URL:https://www.faithlc.com/event/radio-broadcast-pre-recorded-from-previous-week/2026-06-14/
CATEGORIES:TV Broadcast
ATTACH;FMTTYPE=image/png:https://www.faithlc.com/wp-content/uploads/2021/06/KDUZ-2022.png
END:VEVENT
BEGIN:VEVENT
DTSTART;TZID=America/Chicago:20260614T080000
DTEND;TZID=America/Chicago:20260614T090000
DTSTAMP:20260422T032226
CREATED:20240726T203740Z
LAST-MODIFIED:20240726T203743Z
UID:10002143-1781424000-1781427600@www.faithlc.com
SUMMARY:Live TV Broadcast of First Word Service
DESCRIPTION:The First Word Service is broadcast live on HCVN Ch. 7 and on Mediacom on Ch. 7 each Sunday.
URL:https://www.faithlc.com/event/live-tv-broadcast-of-first-word-service/2026-06-14/
CATEGORIES:TV Broadcast
ATTACH;FMTTYPE=image/jpeg:https://www.faithlc.com/wp-content/uploads/2021/05/HCVN.jpg
END:VEVENT
BEGIN:VEVENT
DTSTART;TZID=America/Chicago:20260614T100000
DTEND;TZID=America/Chicago:20260614T110000
DTSTAMP:20260422T032226
CREATED:20240726T204313Z
LAST-MODIFIED:20240726T204316Z
UID:10002404-1781431200-1781434800@www.faithlc.com
SUMMARY:Pre-Recorded Services on TV
DESCRIPTION:To watch the pre-recorded service from the past Sunday you can tune into Nuvera: Ch. 10  or Mediacom: Ch. 8 at 10 a.m.
URL:https://www.faithlc.com/event/pre-recorded-services-on-tv/2026-06-14/
CATEGORIES:TV Broadcast
ATTACH;FMTTYPE=image/jpeg:https://www.faithlc.com/wp-content/uploads/2021/05/HCVN.jpg
END:VEVENT
BEGIN:VEVENT
DTSTART;TZID=America/Chicago:20260614T160000
DTEND;TZID=America/Chicago:20260614T173000
DTSTAMP:20260422T032226
CREATED:20260421T205637Z
LAST-MODIFIED:20260421T210043Z
UID:10012791-1781452800-1781458200@www.faithlc.com
SUMMARY:Free Community Meal
DESCRIPTION:A free monthly meal provided for anyone in the community and the church that would like to come in for food and fellowship.
URL:https://www.faithlc.com/event/free-community-meal-3/2026-06-14/
CATEGORIES:Miscellaneous
ATTACH;FMTTYPE=image/jpeg:https://www.faithlc.com/wp-content/uploads/2013/06/hungerfreemcleod.jpg
END:VEVENT
BEGIN:VEVENT
DTSTART;TZID=America/Chicago:20260614T170000
DTEND;TZID=America/Chicago:20260614T180000
DTSTAMP:20260422T032226
CREATED:20240726T204632Z
LAST-MODIFIED:20240726T204637Z
UID:10002665-1781456400-1781460000@www.faithlc.com
SUMMARY:Pre-Recorded TV Services
DESCRIPTION:Tune into HCVN Ch. 10 or Mediacom Ch. 8 to watch the service pre-recorded this morning.
URL:https://www.faithlc.com/event/pre-recorded-tv-services/2026-06-14/
CATEGORIES:TV Broadcast
ATTACH;FMTTYPE=image/jpeg:https://www.faithlc.com/wp-content/uploads/2021/05/HCVN.jpg
END:VEVENT
END:VCALENDAR