BEGIN:VCALENDAR
VERSION:2.0
PRODID:-//Faith Lutheran Church - ECPv6.15.20//NONSGML v1.0//EN
CALSCALE:GREGORIAN
METHOD:PUBLISH
X-WR-CALNAME:Faith Lutheran Church
X-ORIGINAL-URL:https://www.faithlc.com
X-WR-CALDESC:Events for Faith Lutheran Church
REFRESH-INTERVAL;VALUE=DURATION:PT1H
X-Robots-Tag:noindex
X-PUBLISHED-TTL:PT1H
BEGIN:VTIMEZONE
TZID:America/Chicago
BEGIN:DAYLIGHT
TZOFFSETFROM:-0600
TZOFFSETTO:-0500
TZNAME:CDT
DTSTART:20250309T080000
END:DAYLIGHT
BEGIN:STANDARD
TZOFFSETFROM:-0500
TZOFFSETTO:-0600
TZNAME:CST
DTSTART:20251102T070000
END:STANDARD
BEGIN:DAYLIGHT
TZOFFSETFROM:-0600
TZOFFSETTO:-0500
TZNAME:CDT
DTSTART:20260308T080000
END:DAYLIGHT
BEGIN:STANDARD
TZOFFSETFROM:-0500
TZOFFSETTO:-0600
TZNAME:CST
DTSTART:20261101T070000
END:STANDARD
BEGIN:DAYLIGHT
TZOFFSETFROM:-0600
TZOFFSETTO:-0500
TZNAME:CDT
DTSTART:20270314T080000
END:DAYLIGHT
BEGIN:STANDARD
TZOFFSETFROM:-0500
TZOFFSETTO:-0600
TZNAME:CST
DTSTART:20271107T070000
END:STANDARD
END:VTIMEZONE
BEGIN:VEVENT
DTSTART;TZID=America/Chicago:20260609T110000
DTEND;TZID=America/Chicago:20260609T120000
DTSTAMP:20260420T104901
CREATED:20250107T181059Z
LAST-MODIFIED:20250107T181114Z
UID:10006723-1781002800-1781006400@www.faithlc.com
SUMMARY:Prayer Group
DESCRIPTION:This group meets weekly for one hour to pray for the church\, the community\, the world\, etc. All are welcome to join on Tuesday’s at 11 a.m. in the office conference room.
URL:https://www.faithlc.com/event/prayer-group-3/2026-06-09/
LOCATION:Minnesota
CATEGORIES:Adult
ATTACH;FMTTYPE=image/png:https://www.faithlc.com/wp-content/uploads/2023/01/Matins-praying-hands.png
END:VEVENT
BEGIN:VEVENT
DTSTART;TZID=America/Chicago:20260609T120000
DTEND;TZID=America/Chicago:20260609T130000
DTSTAMP:20260420T104901
CREATED:20240726T210927Z
LAST-MODIFIED:20240726T210934Z
UID:10004019-1781006400-1781010000@www.faithlc.com
SUMMARY:Lectionary Study
DESCRIPTION:Prepare for next Sunday’s worship by studying the Bible texts with the pastor who will be preaching. Every Tuesday\, all year\, noon – 1 p.m. in the church office conference room. No commitment\, just come when you can. This group meets all year long and you are welcome to bring your lunch if you are on a lunch break from work.
URL:https://www.faithlc.com/event/lectionary-study/2026-06-09/
LOCATION:Minnesota
CATEGORIES:Adult
ATTACH;FMTTYPE=image/jpeg:https://www.faithlc.com/wp-content/uploads/2014/10/Bible.jpg
END:VEVENT
END:VCALENDAR