BEGIN:VCALENDAR
VERSION:2.0
PRODID:-//Faith Lutheran Church - ECPv6.15.20//NONSGML v1.0//EN
CALSCALE:GREGORIAN
METHOD:PUBLISH
X-ORIGINAL-URL:https://www.faithlc.com
X-WR-CALDESC:Events for Faith Lutheran Church
REFRESH-INTERVAL;VALUE=DURATION:PT1H
X-Robots-Tag:noindex
X-PUBLISHED-TTL:PT1H
BEGIN:VTIMEZONE
TZID:America/Chicago
BEGIN:DAYLIGHT
TZOFFSETFROM:-0600
TZOFFSETTO:-0500
TZNAME:CDT
DTSTART:20250309T080000
END:DAYLIGHT
BEGIN:STANDARD
TZOFFSETFROM:-0500
TZOFFSETTO:-0600
TZNAME:CST
DTSTART:20251102T070000
END:STANDARD
BEGIN:DAYLIGHT
TZOFFSETFROM:-0600
TZOFFSETTO:-0500
TZNAME:CDT
DTSTART:20260308T080000
END:DAYLIGHT
BEGIN:STANDARD
TZOFFSETFROM:-0500
TZOFFSETTO:-0600
TZNAME:CST
DTSTART:20261101T070000
END:STANDARD
BEGIN:DAYLIGHT
TZOFFSETFROM:-0600
TZOFFSETTO:-0500
TZNAME:CDT
DTSTART:20270314T080000
END:DAYLIGHT
BEGIN:STANDARD
TZOFFSETFROM:-0500
TZOFFSETTO:-0600
TZNAME:CST
DTSTART:20271107T070000
END:STANDARD
END:VTIMEZONE
BEGIN:VEVENT
DTSTART;TZID=America/Chicago:20260526T090000
DTEND;TZID=America/Chicago:20260526T103000
DTSTAMP:20260421T210610
CREATED:20240729T220514Z
LAST-MODIFIED:20250721T214017Z
UID:10005438-1779786000-1779791400@www.faithlc.com
SUMMARY:Faith Matters Assembly
DESCRIPTION:A group of volunteers gather to put prepare the monthly newsletter for the mail. Extra hands are always welcome!
URL:https://www.faithlc.com/event/faith-matters-assembly/2026-05-26/
LOCATION:Third Floor Multi-Purpose Space\, 335 Main St. S.\, Hutchinson\, Minnesota\, 55350-2510
CATEGORIES:Adult
ATTACH;FMTTYPE=image/bmp:https://www.faithlc.com/wp-content/uploads/2008/10/FaithMatters-e1432926837457.bmp
END:VEVENT
BEGIN:VEVENT
DTSTART;TZID=America/Chicago:20260526T110000
DTEND;TZID=America/Chicago:20260526T120000
DTSTAMP:20260421T210610
CREATED:20250107T181059Z
LAST-MODIFIED:20250107T181114Z
UID:10006721-1779793200-1779796800@www.faithlc.com
SUMMARY:Prayer Group
DESCRIPTION:This group meets weekly for one hour to pray for the church\, the community\, the world\, etc. All are welcome to join on Tuesday’s at 11 a.m. in the office conference room.
URL:https://www.faithlc.com/event/prayer-group-3/2026-05-26/
LOCATION:Minnesota
CATEGORIES:Adult
ATTACH;FMTTYPE=image/png:https://www.faithlc.com/wp-content/uploads/2023/01/Matins-praying-hands.png
END:VEVENT
BEGIN:VEVENT
DTSTART;TZID=America/Chicago:20260526T120000
DTEND;TZID=America/Chicago:20260526T130000
DTSTAMP:20260421T210610
CREATED:20240726T210927Z
LAST-MODIFIED:20240726T210934Z
UID:10004017-1779796800-1779800400@www.faithlc.com
SUMMARY:Lectionary Study
DESCRIPTION:Prepare for next Sunday’s worship by studying the Bible texts with the pastor who will be preaching. Every Tuesday\, all year\, noon – 1 p.m. in the church office conference room. No commitment\, just come when you can. This group meets all year long and you are welcome to bring your lunch if you are on a lunch break from work.
URL:https://www.faithlc.com/event/lectionary-study/2026-05-26/
LOCATION:Minnesota
CATEGORIES:Adult
ATTACH;FMTTYPE=image/jpeg:https://www.faithlc.com/wp-content/uploads/2014/10/Bible.jpg
END:VEVENT
BEGIN:VEVENT
DTSTART;TZID=America/Chicago:20260527T173000
DTEND;TZID=America/Chicago:20260527T183000
DTSTAMP:20260421T210610
CREATED:20250721T201644Z
LAST-MODIFIED:20250721T202140Z
UID:10009970-1779903000-1779906600@www.faithlc.com
SUMMARY:Faith Singers
DESCRIPTION:
URL:https://www.faithlc.com/event/faith-singers-4/2026-05-27/
LOCATION:Minnesota
CATEGORIES:Adult
ATTACH;FMTTYPE=image/jpeg:https://www.faithlc.com/wp-content/uploads/2015/05/FLC_Choir-Slide.jpg
END:VEVENT
BEGIN:VEVENT
DTSTART;TZID=America/Chicago:20260528T063000
DTEND;TZID=America/Chicago:20260528T073000
DTSTAMP:20260421T210610
CREATED:20250625T203013Z
LAST-MODIFIED:20251106T220823Z
UID:10008269-1779949800-1779953400@www.faithlc.com
SUMMARY:Men's Bible Study
DESCRIPTION:This is a Bible study for men of all ages that meets year round.
URL:https://www.faithlc.com/event/mens-bible-study-3/2026-05-28/
LOCATION:Office Conference room\, 335 Main St. S.\, Hutchinson\, Minnesota\, 55350-2510
CATEGORIES:Adult
ATTACH;FMTTYPE=image/jpeg:https://www.faithlc.com/wp-content/uploads/2014/02/Bible.jpg
END:VEVENT
BEGIN:VEVENT
DTSTART;TZID=America/Chicago:20260528T120000
DTEND;TZID=America/Chicago:20260528T140000
DTSTAMP:20260421T210610
CREATED:20260102T194546Z
LAST-MODIFIED:20260102T194549Z
UID:10011692-1779969600-1779976800@www.faithlc.com
SUMMARY:Seniors' Potluck
DESCRIPTION:
URL:https://www.faithlc.com/event/seniors-potluck-2/2026-05-28/
LOCATION:Minnesota
CATEGORIES:Adult
ATTACH;FMTTYPE=image/jpeg:https://www.faithlc.com/wp-content/uploads/2018/07/Seniors-Potluck-2018-color.jpeg
END:VEVENT
BEGIN:VEVENT
DTSTART;TZID=America/Chicago:20260529T070000
DTEND;TZID=America/Chicago:20260529T080000
DTSTAMP:20260421T210610
CREATED:20250625T201343Z
LAST-MODIFIED:20251230T195614Z
UID:10007957-1780038000-1780041600@www.faithlc.com
SUMMARY:Women's Early Bible Study
DESCRIPTION:A Women’s Bible study that meets Friday mornings year-round. This group digs into a variety of book and Bibles studies throughout the year.
URL:https://www.faithlc.com/event/womens-early-bible-study-3/2026-05-29/
LOCATION:Office Conference Room
CATEGORIES:Adult
ATTACH;FMTTYPE=image/jpeg:https://www.faithlc.com/wp-content/uploads/2015/05/Bible.jpg
END:VEVENT
BEGIN:VEVENT
DTSTART;TZID=America/Chicago:20260529T090000
DTEND;TZID=America/Chicago:20260529T100000
DTSTAMP:20260421T210610
CREATED:20260408T204757Z
LAST-MODIFIED:20260408T204759Z
UID:10010009-1780045200-1780048800@www.faithlc.com
SUMMARY:Women's Bible Study
DESCRIPTION:A group of ladies who gather to study the Bible every Friday during the school/program year.
URL:https://www.faithlc.com/event/womens-bible-study-3/2026-05-29/
LOCATION:Third Floor Conference Room\, 335 Main St. S.\, Hutchinson\, Minnesota\, 55350-2510
CATEGORIES:Adult
ATTACH;FMTTYPE=image/jpeg:https://www.faithlc.com/wp-content/uploads/2013/07/bible_love_CaptPiper.jpg
END:VEVENT
BEGIN:VEVENT
DTSTART;TZID=America/Chicago:20260529T123000
DTEND;TZID=America/Chicago:20260529T133000
DTSTAMP:20260421T210610
CREATED:20250625T201714Z
LAST-MODIFIED:20250625T204402Z
UID:10008538-1780057800-1780061400@www.faithlc.com
SUMMARY:Bulletin Assembly
DESCRIPTION:This group of volunteers gathers each week to but the service orders and announcements together into packets for Sunday morning. New hands are always welcome.
URL:https://www.faithlc.com/event/bulletin-assembly-2/2026-05-29/
LOCATION:Office Conference Room
CATEGORIES:Adult
ATTACH;FMTTYPE=image/jpeg:https://www.faithlc.com/wp-content/uploads/2019/06/Bulletin-Assembly.jpg
END:VEVENT
END:VCALENDAR