BEGIN:VCALENDAR
VERSION:2.0
PRODID:-//Faith Lutheran Church - ECPv6.15.20//NONSGML v1.0//EN
CALSCALE:GREGORIAN
METHOD:PUBLISH
X-ORIGINAL-URL:https://www.faithlc.com
X-WR-CALDESC:Events for Faith Lutheran Church
REFRESH-INTERVAL;VALUE=DURATION:PT1H
X-Robots-Tag:noindex
X-PUBLISHED-TTL:PT1H
BEGIN:VTIMEZONE
TZID:America/Chicago
BEGIN:DAYLIGHT
TZOFFSETFROM:-0600
TZOFFSETTO:-0500
TZNAME:CDT
DTSTART:20250309T080000
END:DAYLIGHT
BEGIN:STANDARD
TZOFFSETFROM:-0500
TZOFFSETTO:-0600
TZNAME:CST
DTSTART:20251102T070000
END:STANDARD
BEGIN:DAYLIGHT
TZOFFSETFROM:-0600
TZOFFSETTO:-0500
TZNAME:CDT
DTSTART:20260308T080000
END:DAYLIGHT
BEGIN:STANDARD
TZOFFSETFROM:-0500
TZOFFSETTO:-0600
TZNAME:CST
DTSTART:20261101T070000
END:STANDARD
BEGIN:DAYLIGHT
TZOFFSETFROM:-0600
TZOFFSETTO:-0500
TZNAME:CDT
DTSTART:20270314T080000
END:DAYLIGHT
BEGIN:STANDARD
TZOFFSETFROM:-0500
TZOFFSETTO:-0600
TZNAME:CST
DTSTART:20271107T070000
END:STANDARD
END:VTIMEZONE
BEGIN:VEVENT
DTSTART;TZID=America/Chicago:20260708T103000
DTEND;TZID=America/Chicago:20260708T113000
DTSTAMP:20260422T164947
CREATED:20250311T160213Z
LAST-MODIFIED:20250311T160215Z
UID:10007335-1783506600-1783510200@www.faithlc.com
SUMMARY:Weekly Staff Meeting
DESCRIPTION:The Faith Lutheran staff gathers weekly for a time of devotion\, support\, and planning.
URL:https://www.faithlc.com/event/weekly-staff-meeting-2/2026-07-08/
CATEGORIES:Staff
END:VEVENT
BEGIN:VEVENT
DTSTART;TZID=America/Chicago:20260708T113000
DTEND;TZID=America/Chicago:20260708T121500
DTSTAMP:20260422T164947
CREATED:20250311T160257Z
LAST-MODIFIED:20250311T160259Z
UID:10007595-1783510200-1783512900@www.faithlc.com
SUMMARY:Pastoral Care Team Meeting
DESCRIPTION:The Pastoral Care (PC) Team meets weekly to review the needs of members who are homebound\, hospitalized\, etc.
URL:https://www.faithlc.com/event/pastoral-care-team-meeting-2/2026-07-08/
CATEGORIES:Staff
END:VEVENT
BEGIN:VEVENT
DTSTART;TZID=America/Chicago:20260714T091500
DTEND;TZID=America/Chicago:20260714T103000
DTSTAMP:20260422T164947
CREATED:20240726T205654Z
LAST-MODIFIED:20241216T211743Z
UID:10002980-1784020500-1784025000@www.faithlc.com
SUMMARY:Pastoral Planning Meeting
DESCRIPTION:A weekly planning meeting of the FLC Pastors.
URL:https://www.faithlc.com/event/pastoral-planning-meeting/2026-07-14/
CATEGORIES:Staff
END:VEVENT
BEGIN:VEVENT
DTSTART;TZID=America/Chicago:20260714T150000
DTEND;TZID=America/Chicago:20260714T160000
DTSTAMP:20260422T164947
CREATED:20241216T211604Z
LAST-MODIFIED:20241216T211605Z
UID:10005975-1784041200-1784044800@www.faithlc.com
SUMMARY:Worship Planning Meeting
DESCRIPTION:A weekly meeting of staff to plan for the next Sunday’s worship services.
URL:https://www.faithlc.com/event/worship-planning-meeting-3/2026-07-14/
CATEGORIES:Staff
END:VEVENT
BEGIN:VEVENT
DTSTART;TZID=America/Chicago:20260715T103000
DTEND;TZID=America/Chicago:20260715T113000
DTSTAMP:20260422T164947
CREATED:20250311T160213Z
LAST-MODIFIED:20250311T160215Z
UID:10007336-1784111400-1784115000@www.faithlc.com
SUMMARY:Weekly Staff Meeting
DESCRIPTION:The Faith Lutheran staff gathers weekly for a time of devotion\, support\, and planning.
URL:https://www.faithlc.com/event/weekly-staff-meeting-2/2026-07-15/
CATEGORIES:Staff
END:VEVENT
BEGIN:VEVENT
DTSTART;TZID=America/Chicago:20260715T113000
DTEND;TZID=America/Chicago:20260715T121500
DTSTAMP:20260422T164947
CREATED:20250311T160257Z
LAST-MODIFIED:20250311T160259Z
UID:10007596-1784115000-1784117700@www.faithlc.com
SUMMARY:Pastoral Care Team Meeting
DESCRIPTION:The Pastoral Care (PC) Team meets weekly to review the needs of members who are homebound\, hospitalized\, etc.
URL:https://www.faithlc.com/event/pastoral-care-team-meeting-2/2026-07-15/
CATEGORIES:Staff
END:VEVENT
BEGIN:VEVENT
DTSTART;TZID=America/Chicago:20260721T091500
DTEND;TZID=America/Chicago:20260721T103000
DTSTAMP:20260422T164947
CREATED:20240726T205654Z
LAST-MODIFIED:20241216T211743Z
UID:10002981-1784625300-1784629800@www.faithlc.com
SUMMARY:Pastoral Planning Meeting
DESCRIPTION:A weekly planning meeting of the FLC Pastors.
URL:https://www.faithlc.com/event/pastoral-planning-meeting/2026-07-21/
CATEGORIES:Staff
END:VEVENT
BEGIN:VEVENT
DTSTART;TZID=America/Chicago:20260721T150000
DTEND;TZID=America/Chicago:20260721T160000
DTSTAMP:20260422T164947
CREATED:20241216T211604Z
LAST-MODIFIED:20241216T211605Z
UID:10005976-1784646000-1784649600@www.faithlc.com
SUMMARY:Worship Planning Meeting
DESCRIPTION:A weekly meeting of staff to plan for the next Sunday’s worship services.
URL:https://www.faithlc.com/event/worship-planning-meeting-3/2026-07-21/
CATEGORIES:Staff
END:VEVENT
BEGIN:VEVENT
DTSTART;TZID=America/Chicago:20260722T103000
DTEND;TZID=America/Chicago:20260722T113000
DTSTAMP:20260422T164947
CREATED:20250311T160213Z
LAST-MODIFIED:20250311T160215Z
UID:10007337-1784716200-1784719800@www.faithlc.com
SUMMARY:Weekly Staff Meeting
DESCRIPTION:The Faith Lutheran staff gathers weekly for a time of devotion\, support\, and planning.
URL:https://www.faithlc.com/event/weekly-staff-meeting-2/2026-07-22/
CATEGORIES:Staff
END:VEVENT
BEGIN:VEVENT
DTSTART;TZID=America/Chicago:20260722T113000
DTEND;TZID=America/Chicago:20260722T121500
DTSTAMP:20260422T164947
CREATED:20250311T160257Z
LAST-MODIFIED:20250311T160259Z
UID:10007597-1784719800-1784722500@www.faithlc.com
SUMMARY:Pastoral Care Team Meeting
DESCRIPTION:The Pastoral Care (PC) Team meets weekly to review the needs of members who are homebound\, hospitalized\, etc.
URL:https://www.faithlc.com/event/pastoral-care-team-meeting-2/2026-07-22/
CATEGORIES:Staff
END:VEVENT
BEGIN:VEVENT
DTSTART;TZID=America/Chicago:20260728T091500
DTEND;TZID=America/Chicago:20260728T103000
DTSTAMP:20260422T164947
CREATED:20240726T205654Z
LAST-MODIFIED:20241216T211743Z
UID:10002982-1785230100-1785234600@www.faithlc.com
SUMMARY:Pastoral Planning Meeting
DESCRIPTION:A weekly planning meeting of the FLC Pastors.
URL:https://www.faithlc.com/event/pastoral-planning-meeting/2026-07-28/
CATEGORIES:Staff
END:VEVENT
BEGIN:VEVENT
DTSTART;TZID=America/Chicago:20260728T150000
DTEND;TZID=America/Chicago:20260728T160000
DTSTAMP:20260422T164947
CREATED:20241216T211604Z
LAST-MODIFIED:20241216T211605Z
UID:10005977-1785250800-1785254400@www.faithlc.com
SUMMARY:Worship Planning Meeting
DESCRIPTION:A weekly meeting of staff to plan for the next Sunday’s worship services.
URL:https://www.faithlc.com/event/worship-planning-meeting-3/2026-07-28/
CATEGORIES:Staff
END:VEVENT
BEGIN:VEVENT
DTSTART;TZID=America/Chicago:20260729T103000
DTEND;TZID=America/Chicago:20260729T113000
DTSTAMP:20260422T164947
CREATED:20250311T160213Z
LAST-MODIFIED:20250311T160215Z
UID:10007338-1785321000-1785324600@www.faithlc.com
SUMMARY:Weekly Staff Meeting
DESCRIPTION:The Faith Lutheran staff gathers weekly for a time of devotion\, support\, and planning.
URL:https://www.faithlc.com/event/weekly-staff-meeting-2/2026-07-29/
CATEGORIES:Staff
END:VEVENT
BEGIN:VEVENT
DTSTART;TZID=America/Chicago:20260729T113000
DTEND;TZID=America/Chicago:20260729T121500
DTSTAMP:20260422T164947
CREATED:20250311T160257Z
LAST-MODIFIED:20250311T160259Z
UID:10007598-1785324600-1785327300@www.faithlc.com
SUMMARY:Pastoral Care Team Meeting
DESCRIPTION:The Pastoral Care (PC) Team meets weekly to review the needs of members who are homebound\, hospitalized\, etc.
URL:https://www.faithlc.com/event/pastoral-care-team-meeting-2/2026-07-29/
CATEGORIES:Staff
END:VEVENT
BEGIN:VEVENT
DTSTART;TZID=America/Chicago:20260804T091500
DTEND;TZID=America/Chicago:20260804T103000
DTSTAMP:20260422T164947
CREATED:20240726T205654Z
LAST-MODIFIED:20241216T211743Z
UID:10002983-1785834900-1785839400@www.faithlc.com
SUMMARY:Pastoral Planning Meeting
DESCRIPTION:A weekly planning meeting of the FLC Pastors.
URL:https://www.faithlc.com/event/pastoral-planning-meeting/2026-08-04/
CATEGORIES:Staff
END:VEVENT
BEGIN:VEVENT
DTSTART;TZID=America/Chicago:20260804T150000
DTEND;TZID=America/Chicago:20260804T160000
DTSTAMP:20260422T164947
CREATED:20241216T211604Z
LAST-MODIFIED:20241216T211605Z
UID:10005978-1785855600-1785859200@www.faithlc.com
SUMMARY:Worship Planning Meeting
DESCRIPTION:A weekly meeting of staff to plan for the next Sunday’s worship services.
URL:https://www.faithlc.com/event/worship-planning-meeting-3/2026-08-04/
CATEGORIES:Staff
END:VEVENT
BEGIN:VEVENT
DTSTART;TZID=America/Chicago:20260805T103000
DTEND;TZID=America/Chicago:20260805T113000
DTSTAMP:20260422T164947
CREATED:20250311T160213Z
LAST-MODIFIED:20250311T160215Z
UID:10007339-1785925800-1785929400@www.faithlc.com
SUMMARY:Weekly Staff Meeting
DESCRIPTION:The Faith Lutheran staff gathers weekly for a time of devotion\, support\, and planning.
URL:https://www.faithlc.com/event/weekly-staff-meeting-2/2026-08-05/
CATEGORIES:Staff
END:VEVENT
BEGIN:VEVENT
DTSTART;TZID=America/Chicago:20260805T113000
DTEND;TZID=America/Chicago:20260805T121500
DTSTAMP:20260422T164947
CREATED:20250311T160257Z
LAST-MODIFIED:20250311T160259Z
UID:10007599-1785929400-1785932100@www.faithlc.com
SUMMARY:Pastoral Care Team Meeting
DESCRIPTION:The Pastoral Care (PC) Team meets weekly to review the needs of members who are homebound\, hospitalized\, etc.
URL:https://www.faithlc.com/event/pastoral-care-team-meeting-2/2026-08-05/
CATEGORIES:Staff
END:VEVENT
BEGIN:VEVENT
DTSTART;TZID=America/Chicago:20260811T091500
DTEND;TZID=America/Chicago:20260811T103000
DTSTAMP:20260422T164947
CREATED:20240726T205654Z
LAST-MODIFIED:20241216T211743Z
UID:10002984-1786439700-1786444200@www.faithlc.com
SUMMARY:Pastoral Planning Meeting
DESCRIPTION:A weekly planning meeting of the FLC Pastors.
URL:https://www.faithlc.com/event/pastoral-planning-meeting/2026-08-11/
CATEGORIES:Staff
END:VEVENT
BEGIN:VEVENT
DTSTART;TZID=America/Chicago:20260811T150000
DTEND;TZID=America/Chicago:20260811T160000
DTSTAMP:20260422T164947
CREATED:20241216T211604Z
LAST-MODIFIED:20241216T211605Z
UID:10005979-1786460400-1786464000@www.faithlc.com
SUMMARY:Worship Planning Meeting
DESCRIPTION:A weekly meeting of staff to plan for the next Sunday’s worship services.
URL:https://www.faithlc.com/event/worship-planning-meeting-3/2026-08-11/
CATEGORIES:Staff
END:VEVENT
BEGIN:VEVENT
DTSTART;TZID=America/Chicago:20260812T103000
DTEND;TZID=America/Chicago:20260812T113000
DTSTAMP:20260422T164947
CREATED:20250311T160213Z
LAST-MODIFIED:20250311T160215Z
UID:10007340-1786530600-1786534200@www.faithlc.com
SUMMARY:Weekly Staff Meeting
DESCRIPTION:The Faith Lutheran staff gathers weekly for a time of devotion\, support\, and planning.
URL:https://www.faithlc.com/event/weekly-staff-meeting-2/2026-08-12/
CATEGORIES:Staff
END:VEVENT
BEGIN:VEVENT
DTSTART;TZID=America/Chicago:20260812T113000
DTEND;TZID=America/Chicago:20260812T121500
DTSTAMP:20260422T164947
CREATED:20250311T160257Z
LAST-MODIFIED:20250311T160259Z
UID:10007600-1786534200-1786536900@www.faithlc.com
SUMMARY:Pastoral Care Team Meeting
DESCRIPTION:The Pastoral Care (PC) Team meets weekly to review the needs of members who are homebound\, hospitalized\, etc.
URL:https://www.faithlc.com/event/pastoral-care-team-meeting-2/2026-08-12/
CATEGORIES:Staff
END:VEVENT
BEGIN:VEVENT
DTSTART;TZID=America/Chicago:20260818T091500
DTEND;TZID=America/Chicago:20260818T103000
DTSTAMP:20260422T164947
CREATED:20240726T205654Z
LAST-MODIFIED:20241216T211743Z
UID:10002985-1787044500-1787049000@www.faithlc.com
SUMMARY:Pastoral Planning Meeting
DESCRIPTION:A weekly planning meeting of the FLC Pastors.
URL:https://www.faithlc.com/event/pastoral-planning-meeting/2026-08-18/
CATEGORIES:Staff
END:VEVENT
BEGIN:VEVENT
DTSTART;TZID=America/Chicago:20260818T150000
DTEND;TZID=America/Chicago:20260818T160000
DTSTAMP:20260422T164947
CREATED:20241216T211604Z
LAST-MODIFIED:20241216T211605Z
UID:10005980-1787065200-1787068800@www.faithlc.com
SUMMARY:Worship Planning Meeting
DESCRIPTION:A weekly meeting of staff to plan for the next Sunday’s worship services.
URL:https://www.faithlc.com/event/worship-planning-meeting-3/2026-08-18/
CATEGORIES:Staff
END:VEVENT
BEGIN:VEVENT
DTSTART;TZID=America/Chicago:20260819T103000
DTEND;TZID=America/Chicago:20260819T113000
DTSTAMP:20260422T164947
CREATED:20250311T160213Z
LAST-MODIFIED:20250311T160215Z
UID:10007341-1787135400-1787139000@www.faithlc.com
SUMMARY:Weekly Staff Meeting
DESCRIPTION:The Faith Lutheran staff gathers weekly for a time of devotion\, support\, and planning.
URL:https://www.faithlc.com/event/weekly-staff-meeting-2/2026-08-19/
CATEGORIES:Staff
END:VEVENT
BEGIN:VEVENT
DTSTART;TZID=America/Chicago:20260819T113000
DTEND;TZID=America/Chicago:20260819T121500
DTSTAMP:20260422T164947
CREATED:20250311T160257Z
LAST-MODIFIED:20250311T160259Z
UID:10007601-1787139000-1787141700@www.faithlc.com
SUMMARY:Pastoral Care Team Meeting
DESCRIPTION:The Pastoral Care (PC) Team meets weekly to review the needs of members who are homebound\, hospitalized\, etc.
URL:https://www.faithlc.com/event/pastoral-care-team-meeting-2/2026-08-19/
CATEGORIES:Staff
END:VEVENT
BEGIN:VEVENT
DTSTART;TZID=America/Chicago:20260825T091500
DTEND;TZID=America/Chicago:20260825T103000
DTSTAMP:20260422T164947
CREATED:20240726T205654Z
LAST-MODIFIED:20241216T211743Z
UID:10002986-1787649300-1787653800@www.faithlc.com
SUMMARY:Pastoral Planning Meeting
DESCRIPTION:A weekly planning meeting of the FLC Pastors.
URL:https://www.faithlc.com/event/pastoral-planning-meeting/2026-08-25/
CATEGORIES:Staff
END:VEVENT
BEGIN:VEVENT
DTSTART;TZID=America/Chicago:20260825T150000
DTEND;TZID=America/Chicago:20260825T160000
DTSTAMP:20260422T164947
CREATED:20241216T211604Z
LAST-MODIFIED:20241216T211605Z
UID:10005981-1787670000-1787673600@www.faithlc.com
SUMMARY:Worship Planning Meeting
DESCRIPTION:A weekly meeting of staff to plan for the next Sunday’s worship services.
URL:https://www.faithlc.com/event/worship-planning-meeting-3/2026-08-25/
CATEGORIES:Staff
END:VEVENT
BEGIN:VEVENT
DTSTART;TZID=America/Chicago:20260826T103000
DTEND;TZID=America/Chicago:20260826T113000
DTSTAMP:20260422T164947
CREATED:20250311T160213Z
LAST-MODIFIED:20250311T160215Z
UID:10007342-1787740200-1787743800@www.faithlc.com
SUMMARY:Weekly Staff Meeting
DESCRIPTION:The Faith Lutheran staff gathers weekly for a time of devotion\, support\, and planning.
URL:https://www.faithlc.com/event/weekly-staff-meeting-2/2026-08-26/
CATEGORIES:Staff
END:VEVENT
BEGIN:VEVENT
DTSTART;TZID=America/Chicago:20260826T113000
DTEND;TZID=America/Chicago:20260826T121500
DTSTAMP:20260422T164947
CREATED:20250311T160257Z
LAST-MODIFIED:20250311T160259Z
UID:10007602-1787743800-1787746500@www.faithlc.com
SUMMARY:Pastoral Care Team Meeting
DESCRIPTION:The Pastoral Care (PC) Team meets weekly to review the needs of members who are homebound\, hospitalized\, etc.
URL:https://www.faithlc.com/event/pastoral-care-team-meeting-2/2026-08-26/
CATEGORIES:Staff
END:VEVENT
END:VCALENDAR