BEGIN:VCALENDAR
VERSION:2.0
PRODID:-//Faith Lutheran Church - ECPv6.15.20//NONSGML v1.0//EN
CALSCALE:GREGORIAN
METHOD:PUBLISH
X-ORIGINAL-URL:https://www.faithlc.com
X-WR-CALDESC:Events for Faith Lutheran Church
REFRESH-INTERVAL;VALUE=DURATION:PT1H
X-Robots-Tag:noindex
X-PUBLISHED-TTL:PT1H
BEGIN:VTIMEZONE
TZID:America/Chicago
BEGIN:DAYLIGHT
TZOFFSETFROM:-0600
TZOFFSETTO:-0500
TZNAME:CDT
DTSTART:20250309T080000
END:DAYLIGHT
BEGIN:STANDARD
TZOFFSETFROM:-0500
TZOFFSETTO:-0600
TZNAME:CST
DTSTART:20251102T070000
END:STANDARD
BEGIN:DAYLIGHT
TZOFFSETFROM:-0600
TZOFFSETTO:-0500
TZNAME:CDT
DTSTART:20260308T080000
END:DAYLIGHT
BEGIN:STANDARD
TZOFFSETFROM:-0500
TZOFFSETTO:-0600
TZNAME:CST
DTSTART:20261101T070000
END:STANDARD
BEGIN:DAYLIGHT
TZOFFSETFROM:-0600
TZOFFSETTO:-0500
TZNAME:CDT
DTSTART:20270314T080000
END:DAYLIGHT
BEGIN:STANDARD
TZOFFSETFROM:-0500
TZOFFSETTO:-0600
TZNAME:CST
DTSTART:20271107T070000
END:STANDARD
END:VTIMEZONE
BEGIN:VEVENT
DTSTART;TZID=America/Chicago:20260811T091500
DTEND;TZID=America/Chicago:20260811T103000
DTSTAMP:20260425T230121
CREATED:20240726T205654Z
LAST-MODIFIED:20241216T211743Z
UID:10002984-1786439700-1786444200@www.faithlc.com
SUMMARY:Pastoral Planning Meeting
DESCRIPTION:A weekly planning meeting of the FLC Pastors.
URL:https://www.faithlc.com/event/pastoral-planning-meeting/2026-08-11/
CATEGORIES:Staff
END:VEVENT
BEGIN:VEVENT
DTSTART;TZID=America/Chicago:20260811T150000
DTEND;TZID=America/Chicago:20260811T160000
DTSTAMP:20260425T230121
CREATED:20241216T211604Z
LAST-MODIFIED:20241216T211605Z
UID:10005979-1786460400-1786464000@www.faithlc.com
SUMMARY:Worship Planning Meeting
DESCRIPTION:A weekly meeting of staff to plan for the next Sunday’s worship services.
URL:https://www.faithlc.com/event/worship-planning-meeting-3/2026-08-11/
CATEGORIES:Staff
END:VEVENT
BEGIN:VEVENT
DTSTART;TZID=America/Chicago:20260812T103000
DTEND;TZID=America/Chicago:20260812T113000
DTSTAMP:20260425T230121
CREATED:20250311T160213Z
LAST-MODIFIED:20250311T160215Z
UID:10007340-1786530600-1786534200@www.faithlc.com
SUMMARY:Weekly Staff Meeting
DESCRIPTION:The Faith Lutheran staff gathers weekly for a time of devotion\, support\, and planning.
URL:https://www.faithlc.com/event/weekly-staff-meeting-2/2026-08-12/
CATEGORIES:Staff
END:VEVENT
BEGIN:VEVENT
DTSTART;TZID=America/Chicago:20260812T113000
DTEND;TZID=America/Chicago:20260812T121500
DTSTAMP:20260425T230121
CREATED:20250311T160257Z
LAST-MODIFIED:20250311T160259Z
UID:10007600-1786534200-1786536900@www.faithlc.com
SUMMARY:Pastoral Care Team Meeting
DESCRIPTION:The Pastoral Care (PC) Team meets weekly to review the needs of members who are homebound\, hospitalized\, etc.
URL:https://www.faithlc.com/event/pastoral-care-team-meeting-2/2026-08-12/
CATEGORIES:Staff
END:VEVENT
BEGIN:VEVENT
DTSTART;TZID=America/Chicago:20260818T091500
DTEND;TZID=America/Chicago:20260818T103000
DTSTAMP:20260425T230121
CREATED:20240726T205654Z
LAST-MODIFIED:20241216T211743Z
UID:10002985-1787044500-1787049000@www.faithlc.com
SUMMARY:Pastoral Planning Meeting
DESCRIPTION:A weekly planning meeting of the FLC Pastors.
URL:https://www.faithlc.com/event/pastoral-planning-meeting/2026-08-18/
CATEGORIES:Staff
END:VEVENT
BEGIN:VEVENT
DTSTART;TZID=America/Chicago:20260818T150000
DTEND;TZID=America/Chicago:20260818T160000
DTSTAMP:20260425T230121
CREATED:20241216T211604Z
LAST-MODIFIED:20241216T211605Z
UID:10005980-1787065200-1787068800@www.faithlc.com
SUMMARY:Worship Planning Meeting
DESCRIPTION:A weekly meeting of staff to plan for the next Sunday’s worship services.
URL:https://www.faithlc.com/event/worship-planning-meeting-3/2026-08-18/
CATEGORIES:Staff
END:VEVENT
BEGIN:VEVENT
DTSTART;TZID=America/Chicago:20260819T103000
DTEND;TZID=America/Chicago:20260819T113000
DTSTAMP:20260425T230121
CREATED:20250311T160213Z
LAST-MODIFIED:20250311T160215Z
UID:10007341-1787135400-1787139000@www.faithlc.com
SUMMARY:Weekly Staff Meeting
DESCRIPTION:The Faith Lutheran staff gathers weekly for a time of devotion\, support\, and planning.
URL:https://www.faithlc.com/event/weekly-staff-meeting-2/2026-08-19/
CATEGORIES:Staff
END:VEVENT
BEGIN:VEVENT
DTSTART;TZID=America/Chicago:20260819T113000
DTEND;TZID=America/Chicago:20260819T121500
DTSTAMP:20260425T230121
CREATED:20250311T160257Z
LAST-MODIFIED:20250311T160259Z
UID:10007601-1787139000-1787141700@www.faithlc.com
SUMMARY:Pastoral Care Team Meeting
DESCRIPTION:The Pastoral Care (PC) Team meets weekly to review the needs of members who are homebound\, hospitalized\, etc.
URL:https://www.faithlc.com/event/pastoral-care-team-meeting-2/2026-08-19/
CATEGORIES:Staff
END:VEVENT
BEGIN:VEVENT
DTSTART;TZID=America/Chicago:20260825T091500
DTEND;TZID=America/Chicago:20260825T103000
DTSTAMP:20260425T230121
CREATED:20240726T205654Z
LAST-MODIFIED:20241216T211743Z
UID:10002986-1787649300-1787653800@www.faithlc.com
SUMMARY:Pastoral Planning Meeting
DESCRIPTION:A weekly planning meeting of the FLC Pastors.
URL:https://www.faithlc.com/event/pastoral-planning-meeting/2026-08-25/
CATEGORIES:Staff
END:VEVENT
BEGIN:VEVENT
DTSTART;TZID=America/Chicago:20260825T150000
DTEND;TZID=America/Chicago:20260825T160000
DTSTAMP:20260425T230121
CREATED:20241216T211604Z
LAST-MODIFIED:20241216T211605Z
UID:10005981-1787670000-1787673600@www.faithlc.com
SUMMARY:Worship Planning Meeting
DESCRIPTION:A weekly meeting of staff to plan for the next Sunday’s worship services.
URL:https://www.faithlc.com/event/worship-planning-meeting-3/2026-08-25/
CATEGORIES:Staff
END:VEVENT
BEGIN:VEVENT
DTSTART;TZID=America/Chicago:20260826T103000
DTEND;TZID=America/Chicago:20260826T113000
DTSTAMP:20260425T230121
CREATED:20250311T160213Z
LAST-MODIFIED:20250311T160215Z
UID:10007342-1787740200-1787743800@www.faithlc.com
SUMMARY:Weekly Staff Meeting
DESCRIPTION:The Faith Lutheran staff gathers weekly for a time of devotion\, support\, and planning.
URL:https://www.faithlc.com/event/weekly-staff-meeting-2/2026-08-26/
CATEGORIES:Staff
END:VEVENT
BEGIN:VEVENT
DTSTART;TZID=America/Chicago:20260826T113000
DTEND;TZID=America/Chicago:20260826T121500
DTSTAMP:20260425T230121
CREATED:20250311T160257Z
LAST-MODIFIED:20250311T160259Z
UID:10007602-1787743800-1787746500@www.faithlc.com
SUMMARY:Pastoral Care Team Meeting
DESCRIPTION:The Pastoral Care (PC) Team meets weekly to review the needs of members who are homebound\, hospitalized\, etc.
URL:https://www.faithlc.com/event/pastoral-care-team-meeting-2/2026-08-26/
CATEGORIES:Staff
END:VEVENT
BEGIN:VEVENT
DTSTART;TZID=America/Chicago:20260901T091500
DTEND;TZID=America/Chicago:20260901T103000
DTSTAMP:20260425T230121
CREATED:20240726T205654Z
LAST-MODIFIED:20241216T211743Z
UID:10002987-1788254100-1788258600@www.faithlc.com
SUMMARY:Pastoral Planning Meeting
DESCRIPTION:A weekly planning meeting of the FLC Pastors.
URL:https://www.faithlc.com/event/pastoral-planning-meeting/2026-09-01/
CATEGORIES:Staff
END:VEVENT
BEGIN:VEVENT
DTSTART;TZID=America/Chicago:20260901T150000
DTEND;TZID=America/Chicago:20260901T160000
DTSTAMP:20260425T230121
CREATED:20241216T211604Z
LAST-MODIFIED:20241216T211605Z
UID:10005982-1788274800-1788278400@www.faithlc.com
SUMMARY:Worship Planning Meeting
DESCRIPTION:A weekly meeting of staff to plan for the next Sunday’s worship services.
URL:https://www.faithlc.com/event/worship-planning-meeting-3/2026-09-01/
CATEGORIES:Staff
END:VEVENT
BEGIN:VEVENT
DTSTART;TZID=America/Chicago:20260902T103000
DTEND;TZID=America/Chicago:20260902T113000
DTSTAMP:20260425T230121
CREATED:20250311T160213Z
LAST-MODIFIED:20250311T160215Z
UID:10007343-1788345000-1788348600@www.faithlc.com
SUMMARY:Weekly Staff Meeting
DESCRIPTION:The Faith Lutheran staff gathers weekly for a time of devotion\, support\, and planning.
URL:https://www.faithlc.com/event/weekly-staff-meeting-2/2026-09-02/
CATEGORIES:Staff
END:VEVENT
BEGIN:VEVENT
DTSTART;TZID=America/Chicago:20260902T113000
DTEND;TZID=America/Chicago:20260902T121500
DTSTAMP:20260425T230121
CREATED:20250311T160257Z
LAST-MODIFIED:20250311T160259Z
UID:10007603-1788348600-1788351300@www.faithlc.com
SUMMARY:Pastoral Care Team Meeting
DESCRIPTION:The Pastoral Care (PC) Team meets weekly to review the needs of members who are homebound\, hospitalized\, etc.
URL:https://www.faithlc.com/event/pastoral-care-team-meeting-2/2026-09-02/
CATEGORIES:Staff
END:VEVENT
BEGIN:VEVENT
DTSTART;TZID=America/Chicago:20260908T091500
DTEND;TZID=America/Chicago:20260908T103000
DTSTAMP:20260425T230121
CREATED:20240726T205654Z
LAST-MODIFIED:20241216T211743Z
UID:10002988-1788858900-1788863400@www.faithlc.com
SUMMARY:Pastoral Planning Meeting
DESCRIPTION:A weekly planning meeting of the FLC Pastors.
URL:https://www.faithlc.com/event/pastoral-planning-meeting/2026-09-08/
CATEGORIES:Staff
END:VEVENT
BEGIN:VEVENT
DTSTART;TZID=America/Chicago:20260908T150000
DTEND;TZID=America/Chicago:20260908T160000
DTSTAMP:20260425T230121
CREATED:20241216T211604Z
LAST-MODIFIED:20241216T211605Z
UID:10005983-1788879600-1788883200@www.faithlc.com
SUMMARY:Worship Planning Meeting
DESCRIPTION:A weekly meeting of staff to plan for the next Sunday’s worship services.
URL:https://www.faithlc.com/event/worship-planning-meeting-3/2026-09-08/
CATEGORIES:Staff
END:VEVENT
BEGIN:VEVENT
DTSTART;TZID=America/Chicago:20260909T103000
DTEND;TZID=America/Chicago:20260909T113000
DTSTAMP:20260425T230121
CREATED:20250311T160213Z
LAST-MODIFIED:20250311T160215Z
UID:10007344-1788949800-1788953400@www.faithlc.com
SUMMARY:Weekly Staff Meeting
DESCRIPTION:The Faith Lutheran staff gathers weekly for a time of devotion\, support\, and planning.
URL:https://www.faithlc.com/event/weekly-staff-meeting-2/2026-09-09/
CATEGORIES:Staff
END:VEVENT
BEGIN:VEVENT
DTSTART;TZID=America/Chicago:20260909T113000
DTEND;TZID=America/Chicago:20260909T121500
DTSTAMP:20260425T230121
CREATED:20250311T160257Z
LAST-MODIFIED:20250311T160259Z
UID:10007604-1788953400-1788956100@www.faithlc.com
SUMMARY:Pastoral Care Team Meeting
DESCRIPTION:The Pastoral Care (PC) Team meets weekly to review the needs of members who are homebound\, hospitalized\, etc.
URL:https://www.faithlc.com/event/pastoral-care-team-meeting-2/2026-09-09/
CATEGORIES:Staff
END:VEVENT
BEGIN:VEVENT
DTSTART;TZID=America/Chicago:20260915T091500
DTEND;TZID=America/Chicago:20260915T103000
DTSTAMP:20260425T230121
CREATED:20240726T205654Z
LAST-MODIFIED:20241216T211743Z
UID:10002989-1789463700-1789468200@www.faithlc.com
SUMMARY:Pastoral Planning Meeting
DESCRIPTION:A weekly planning meeting of the FLC Pastors.
URL:https://www.faithlc.com/event/pastoral-planning-meeting/2026-09-15/
CATEGORIES:Staff
END:VEVENT
BEGIN:VEVENT
DTSTART;TZID=America/Chicago:20260915T150000
DTEND;TZID=America/Chicago:20260915T160000
DTSTAMP:20260425T230121
CREATED:20241216T211604Z
LAST-MODIFIED:20241216T211605Z
UID:10005984-1789484400-1789488000@www.faithlc.com
SUMMARY:Worship Planning Meeting
DESCRIPTION:A weekly meeting of staff to plan for the next Sunday’s worship services.
URL:https://www.faithlc.com/event/worship-planning-meeting-3/2026-09-15/
CATEGORIES:Staff
END:VEVENT
BEGIN:VEVENT
DTSTART;TZID=America/Chicago:20260916T103000
DTEND;TZID=America/Chicago:20260916T113000
DTSTAMP:20260425T230121
CREATED:20250311T160213Z
LAST-MODIFIED:20250311T160215Z
UID:10007345-1789554600-1789558200@www.faithlc.com
SUMMARY:Weekly Staff Meeting
DESCRIPTION:The Faith Lutheran staff gathers weekly for a time of devotion\, support\, and planning.
URL:https://www.faithlc.com/event/weekly-staff-meeting-2/2026-09-16/
CATEGORIES:Staff
END:VEVENT
BEGIN:VEVENT
DTSTART;TZID=America/Chicago:20260916T113000
DTEND;TZID=America/Chicago:20260916T121500
DTSTAMP:20260425T230121
CREATED:20250311T160257Z
LAST-MODIFIED:20250311T160259Z
UID:10007605-1789558200-1789560900@www.faithlc.com
SUMMARY:Pastoral Care Team Meeting
DESCRIPTION:The Pastoral Care (PC) Team meets weekly to review the needs of members who are homebound\, hospitalized\, etc.
URL:https://www.faithlc.com/event/pastoral-care-team-meeting-2/2026-09-16/
CATEGORIES:Staff
END:VEVENT
BEGIN:VEVENT
DTSTART;TZID=America/Chicago:20260922T091500
DTEND;TZID=America/Chicago:20260922T103000
DTSTAMP:20260425T230121
CREATED:20240726T205654Z
LAST-MODIFIED:20241216T211743Z
UID:10002990-1790068500-1790073000@www.faithlc.com
SUMMARY:Pastoral Planning Meeting
DESCRIPTION:A weekly planning meeting of the FLC Pastors.
URL:https://www.faithlc.com/event/pastoral-planning-meeting/2026-09-22/
CATEGORIES:Staff
END:VEVENT
BEGIN:VEVENT
DTSTART;TZID=America/Chicago:20260922T150000
DTEND;TZID=America/Chicago:20260922T160000
DTSTAMP:20260425T230121
CREATED:20241216T211604Z
LAST-MODIFIED:20241216T211605Z
UID:10005985-1790089200-1790092800@www.faithlc.com
SUMMARY:Worship Planning Meeting
DESCRIPTION:A weekly meeting of staff to plan for the next Sunday’s worship services.
URL:https://www.faithlc.com/event/worship-planning-meeting-3/2026-09-22/
CATEGORIES:Staff
END:VEVENT
BEGIN:VEVENT
DTSTART;TZID=America/Chicago:20260923T103000
DTEND;TZID=America/Chicago:20260923T113000
DTSTAMP:20260425T230121
CREATED:20250311T160213Z
LAST-MODIFIED:20250311T160215Z
UID:10007346-1790159400-1790163000@www.faithlc.com
SUMMARY:Weekly Staff Meeting
DESCRIPTION:The Faith Lutheran staff gathers weekly for a time of devotion\, support\, and planning.
URL:https://www.faithlc.com/event/weekly-staff-meeting-2/2026-09-23/
CATEGORIES:Staff
END:VEVENT
BEGIN:VEVENT
DTSTART;TZID=America/Chicago:20260923T113000
DTEND;TZID=America/Chicago:20260923T121500
DTSTAMP:20260425T230121
CREATED:20250311T160257Z
LAST-MODIFIED:20250311T160259Z
UID:10007606-1790163000-1790165700@www.faithlc.com
SUMMARY:Pastoral Care Team Meeting
DESCRIPTION:The Pastoral Care (PC) Team meets weekly to review the needs of members who are homebound\, hospitalized\, etc.
URL:https://www.faithlc.com/event/pastoral-care-team-meeting-2/2026-09-23/
CATEGORIES:Staff
END:VEVENT
BEGIN:VEVENT
DTSTART;TZID=America/Chicago:20260929T091500
DTEND;TZID=America/Chicago:20260929T103000
DTSTAMP:20260425T230121
CREATED:20240726T205654Z
LAST-MODIFIED:20241216T211743Z
UID:10002991-1790673300-1790677800@www.faithlc.com
SUMMARY:Pastoral Planning Meeting
DESCRIPTION:A weekly planning meeting of the FLC Pastors.
URL:https://www.faithlc.com/event/pastoral-planning-meeting/2026-09-29/
CATEGORIES:Staff
END:VEVENT
BEGIN:VEVENT
DTSTART;TZID=America/Chicago:20260929T150000
DTEND;TZID=America/Chicago:20260929T160000
DTSTAMP:20260425T230121
CREATED:20241216T211604Z
LAST-MODIFIED:20241216T211605Z
UID:10005986-1790694000-1790697600@www.faithlc.com
SUMMARY:Worship Planning Meeting
DESCRIPTION:A weekly meeting of staff to plan for the next Sunday’s worship services.
URL:https://www.faithlc.com/event/worship-planning-meeting-3/2026-09-29/
CATEGORIES:Staff
END:VEVENT
END:VCALENDAR