BEGIN:VCALENDAR
VERSION:2.0
PRODID:-//Faith Lutheran Church - ECPv6.15.20//NONSGML v1.0//EN
CALSCALE:GREGORIAN
METHOD:PUBLISH
X-ORIGINAL-URL:https://www.faithlc.com
X-WR-CALDESC:Events for Faith Lutheran Church
REFRESH-INTERVAL;VALUE=DURATION:PT1H
X-Robots-Tag:noindex
X-PUBLISHED-TTL:PT1H
BEGIN:VTIMEZONE
TZID:America/Chicago
BEGIN:DAYLIGHT
TZOFFSETFROM:-0600
TZOFFSETTO:-0500
TZNAME:CDT
DTSTART:20240310T080000
END:DAYLIGHT
BEGIN:STANDARD
TZOFFSETFROM:-0500
TZOFFSETTO:-0600
TZNAME:CST
DTSTART:20241103T070000
END:STANDARD
BEGIN:DAYLIGHT
TZOFFSETFROM:-0600
TZOFFSETTO:-0500
TZNAME:CDT
DTSTART:20250309T080000
END:DAYLIGHT
BEGIN:STANDARD
TZOFFSETFROM:-0500
TZOFFSETTO:-0600
TZNAME:CST
DTSTART:20251102T070000
END:STANDARD
BEGIN:DAYLIGHT
TZOFFSETFROM:-0600
TZOFFSETTO:-0500
TZNAME:CDT
DTSTART:20260308T080000
END:DAYLIGHT
BEGIN:STANDARD
TZOFFSETFROM:-0500
TZOFFSETTO:-0600
TZNAME:CST
DTSTART:20261101T070000
END:STANDARD
BEGIN:DAYLIGHT
TZOFFSETFROM:-0600
TZOFFSETTO:-0500
TZNAME:CDT
DTSTART:20270314T080000
END:DAYLIGHT
BEGIN:STANDARD
TZOFFSETFROM:-0500
TZOFFSETTO:-0600
TZNAME:CST
DTSTART:20271107T070000
END:STANDARD
END:VTIMEZONE
BEGIN:VEVENT
DTSTART;TZID=America/Chicago:20251230T150000
DTEND;TZID=America/Chicago:20251230T160000
DTSTAMP:20260422T131427
CREATED:20241216T211604Z
LAST-MODIFIED:20241216T211605Z
UID:10005947-1767106800-1767110400@www.faithlc.com
SUMMARY:Worship Planning Meeting
DESCRIPTION:A weekly meeting of staff to plan for the next Sunday’s worship services.
URL:https://www.faithlc.com/event/worship-planning-meeting-3/2025-12-30/
CATEGORIES:Staff
END:VEVENT
BEGIN:VEVENT
DTSTART;TZID=America/Chicago:20251231T103000
DTEND;TZID=America/Chicago:20251231T113000
DTSTAMP:20260422T131427
CREATED:20250311T160213Z
LAST-MODIFIED:20250311T160215Z
UID:10007308-1767177000-1767180600@www.faithlc.com
SUMMARY:Weekly Staff Meeting
DESCRIPTION:The Faith Lutheran staff gathers weekly for a time of devotion\, support\, and planning.
URL:https://www.faithlc.com/event/weekly-staff-meeting-2/2025-12-31/
CATEGORIES:Staff
END:VEVENT
BEGIN:VEVENT
DTSTART;TZID=America/Chicago:20251231T113000
DTEND;TZID=America/Chicago:20251231T121500
DTSTAMP:20260422T131427
CREATED:20250311T160257Z
LAST-MODIFIED:20250311T160259Z
UID:10007568-1767180600-1767183300@www.faithlc.com
SUMMARY:Pastoral Care Team Meeting
DESCRIPTION:The Pastoral Care (PC) Team meets weekly to review the needs of members who are homebound\, hospitalized\, etc.
URL:https://www.faithlc.com/event/pastoral-care-team-meeting-2/2025-12-31/
CATEGORIES:Staff
END:VEVENT
BEGIN:VEVENT
DTSTART;TZID=America/Chicago:20260106T091500
DTEND;TZID=America/Chicago:20260106T103000
DTSTAMP:20260422T131427
CREATED:20240726T205654Z
LAST-MODIFIED:20241216T211743Z
UID:10002953-1767690900-1767695400@www.faithlc.com
SUMMARY:Pastoral Planning Meeting
DESCRIPTION:A weekly planning meeting of the FLC Pastors.
URL:https://www.faithlc.com/event/pastoral-planning-meeting/2026-01-06/
CATEGORIES:Staff
END:VEVENT
BEGIN:VEVENT
DTSTART;TZID=America/Chicago:20260106T150000
DTEND;TZID=America/Chicago:20260106T160000
DTSTAMP:20260422T131427
CREATED:20241216T211604Z
LAST-MODIFIED:20241216T211605Z
UID:10005948-1767711600-1767715200@www.faithlc.com
SUMMARY:Worship Planning Meeting
DESCRIPTION:A weekly meeting of staff to plan for the next Sunday’s worship services.
URL:https://www.faithlc.com/event/worship-planning-meeting-3/2026-01-06/
CATEGORIES:Staff
END:VEVENT
BEGIN:VEVENT
DTSTART;TZID=America/Chicago:20260107T103000
DTEND;TZID=America/Chicago:20260107T113000
DTSTAMP:20260422T131427
CREATED:20250311T160213Z
LAST-MODIFIED:20250311T160215Z
UID:10007309-1767781800-1767785400@www.faithlc.com
SUMMARY:Weekly Staff Meeting
DESCRIPTION:The Faith Lutheran staff gathers weekly for a time of devotion\, support\, and planning.
URL:https://www.faithlc.com/event/weekly-staff-meeting-2/2026-01-07/
CATEGORIES:Staff
END:VEVENT
BEGIN:VEVENT
DTSTART;TZID=America/Chicago:20260107T113000
DTEND;TZID=America/Chicago:20260107T121500
DTSTAMP:20260422T131427
CREATED:20250311T160257Z
LAST-MODIFIED:20250311T160259Z
UID:10007569-1767785400-1767788100@www.faithlc.com
SUMMARY:Pastoral Care Team Meeting
DESCRIPTION:The Pastoral Care (PC) Team meets weekly to review the needs of members who are homebound\, hospitalized\, etc.
URL:https://www.faithlc.com/event/pastoral-care-team-meeting-2/2026-01-07/
CATEGORIES:Staff
END:VEVENT
BEGIN:VEVENT
DTSTART;TZID=America/Chicago:20260113T091500
DTEND;TZID=America/Chicago:20260113T103000
DTSTAMP:20260422T131427
CREATED:20240726T205654Z
LAST-MODIFIED:20241216T211743Z
UID:10002954-1768295700-1768300200@www.faithlc.com
SUMMARY:Pastoral Planning Meeting
DESCRIPTION:A weekly planning meeting of the FLC Pastors.
URL:https://www.faithlc.com/event/pastoral-planning-meeting/2026-01-13/
CATEGORIES:Staff
END:VEVENT
BEGIN:VEVENT
DTSTART;TZID=America/Chicago:20260113T150000
DTEND;TZID=America/Chicago:20260113T160000
DTSTAMP:20260422T131427
CREATED:20241216T211604Z
LAST-MODIFIED:20241216T211605Z
UID:10005949-1768316400-1768320000@www.faithlc.com
SUMMARY:Worship Planning Meeting
DESCRIPTION:A weekly meeting of staff to plan for the next Sunday’s worship services.
URL:https://www.faithlc.com/event/worship-planning-meeting-3/2026-01-13/
CATEGORIES:Staff
END:VEVENT
BEGIN:VEVENT
DTSTART;TZID=America/Chicago:20260114T103000
DTEND;TZID=America/Chicago:20260114T113000
DTSTAMP:20260422T131427
CREATED:20250311T160213Z
LAST-MODIFIED:20250311T160215Z
UID:10007310-1768386600-1768390200@www.faithlc.com
SUMMARY:Weekly Staff Meeting
DESCRIPTION:The Faith Lutheran staff gathers weekly for a time of devotion\, support\, and planning.
URL:https://www.faithlc.com/event/weekly-staff-meeting-2/2026-01-14/
CATEGORIES:Staff
END:VEVENT
BEGIN:VEVENT
DTSTART;TZID=America/Chicago:20260114T113000
DTEND;TZID=America/Chicago:20260114T121500
DTSTAMP:20260422T131427
CREATED:20250311T160257Z
LAST-MODIFIED:20250311T160259Z
UID:10007570-1768390200-1768392900@www.faithlc.com
SUMMARY:Pastoral Care Team Meeting
DESCRIPTION:The Pastoral Care (PC) Team meets weekly to review the needs of members who are homebound\, hospitalized\, etc.
URL:https://www.faithlc.com/event/pastoral-care-team-meeting-2/2026-01-14/
CATEGORIES:Staff
END:VEVENT
BEGIN:VEVENT
DTSTART;TZID=America/Chicago:20260120T091500
DTEND;TZID=America/Chicago:20260120T103000
DTSTAMP:20260422T131427
CREATED:20240726T205654Z
LAST-MODIFIED:20241216T211743Z
UID:10002955-1768900500-1768905000@www.faithlc.com
SUMMARY:Pastoral Planning Meeting
DESCRIPTION:A weekly planning meeting of the FLC Pastors.
URL:https://www.faithlc.com/event/pastoral-planning-meeting/2026-01-20/
CATEGORIES:Staff
END:VEVENT
BEGIN:VEVENT
DTSTART;TZID=America/Chicago:20260120T150000
DTEND;TZID=America/Chicago:20260120T160000
DTSTAMP:20260422T131427
CREATED:20241216T211604Z
LAST-MODIFIED:20241216T211605Z
UID:10005950-1768921200-1768924800@www.faithlc.com
SUMMARY:Worship Planning Meeting
DESCRIPTION:A weekly meeting of staff to plan for the next Sunday’s worship services.
URL:https://www.faithlc.com/event/worship-planning-meeting-3/2026-01-20/
CATEGORIES:Staff
END:VEVENT
BEGIN:VEVENT
DTSTART;TZID=America/Chicago:20260121T103000
DTEND;TZID=America/Chicago:20260121T113000
DTSTAMP:20260422T131427
CREATED:20250311T160213Z
LAST-MODIFIED:20250311T160215Z
UID:10007311-1768991400-1768995000@www.faithlc.com
SUMMARY:Weekly Staff Meeting
DESCRIPTION:The Faith Lutheran staff gathers weekly for a time of devotion\, support\, and planning.
URL:https://www.faithlc.com/event/weekly-staff-meeting-2/2026-01-21/
CATEGORIES:Staff
END:VEVENT
BEGIN:VEVENT
DTSTART;TZID=America/Chicago:20260121T113000
DTEND;TZID=America/Chicago:20260121T121500
DTSTAMP:20260422T131427
CREATED:20250311T160257Z
LAST-MODIFIED:20250311T160259Z
UID:10007571-1768995000-1768997700@www.faithlc.com
SUMMARY:Pastoral Care Team Meeting
DESCRIPTION:The Pastoral Care (PC) Team meets weekly to review the needs of members who are homebound\, hospitalized\, etc.
URL:https://www.faithlc.com/event/pastoral-care-team-meeting-2/2026-01-21/
CATEGORIES:Staff
END:VEVENT
BEGIN:VEVENT
DTSTART;TZID=America/Chicago:20260127T091500
DTEND;TZID=America/Chicago:20260127T103000
DTSTAMP:20260422T131427
CREATED:20240726T205654Z
LAST-MODIFIED:20241216T211743Z
UID:10002956-1769505300-1769509800@www.faithlc.com
SUMMARY:Pastoral Planning Meeting
DESCRIPTION:A weekly planning meeting of the FLC Pastors.
URL:https://www.faithlc.com/event/pastoral-planning-meeting/2026-01-27/
CATEGORIES:Staff
END:VEVENT
BEGIN:VEVENT
DTSTART;TZID=America/Chicago:20260127T150000
DTEND;TZID=America/Chicago:20260127T160000
DTSTAMP:20260422T131427
CREATED:20241216T211604Z
LAST-MODIFIED:20241216T211605Z
UID:10005951-1769526000-1769529600@www.faithlc.com
SUMMARY:Worship Planning Meeting
DESCRIPTION:A weekly meeting of staff to plan for the next Sunday’s worship services.
URL:https://www.faithlc.com/event/worship-planning-meeting-3/2026-01-27/
CATEGORIES:Staff
END:VEVENT
BEGIN:VEVENT
DTSTART;TZID=America/Chicago:20260128T103000
DTEND;TZID=America/Chicago:20260128T113000
DTSTAMP:20260422T131427
CREATED:20250311T160213Z
LAST-MODIFIED:20250311T160215Z
UID:10007312-1769596200-1769599800@www.faithlc.com
SUMMARY:Weekly Staff Meeting
DESCRIPTION:The Faith Lutheran staff gathers weekly for a time of devotion\, support\, and planning.
URL:https://www.faithlc.com/event/weekly-staff-meeting-2/2026-01-28/
CATEGORIES:Staff
END:VEVENT
BEGIN:VEVENT
DTSTART;TZID=America/Chicago:20260128T113000
DTEND;TZID=America/Chicago:20260128T121500
DTSTAMP:20260422T131427
CREATED:20250311T160257Z
LAST-MODIFIED:20250311T160259Z
UID:10007572-1769599800-1769602500@www.faithlc.com
SUMMARY:Pastoral Care Team Meeting
DESCRIPTION:The Pastoral Care (PC) Team meets weekly to review the needs of members who are homebound\, hospitalized\, etc.
URL:https://www.faithlc.com/event/pastoral-care-team-meeting-2/2026-01-28/
CATEGORIES:Staff
END:VEVENT
BEGIN:VEVENT
DTSTART;TZID=America/Chicago:20260203T091500
DTEND;TZID=America/Chicago:20260203T103000
DTSTAMP:20260422T131427
CREATED:20240726T205654Z
LAST-MODIFIED:20241216T211743Z
UID:10002957-1770110100-1770114600@www.faithlc.com
SUMMARY:Pastoral Planning Meeting
DESCRIPTION:A weekly planning meeting of the FLC Pastors.
URL:https://www.faithlc.com/event/pastoral-planning-meeting/2026-02-03/
CATEGORIES:Staff
END:VEVENT
BEGIN:VEVENT
DTSTART;TZID=America/Chicago:20260203T150000
DTEND;TZID=America/Chicago:20260203T160000
DTSTAMP:20260422T131427
CREATED:20241216T211604Z
LAST-MODIFIED:20241216T211605Z
UID:10005952-1770130800-1770134400@www.faithlc.com
SUMMARY:Worship Planning Meeting
DESCRIPTION:A weekly meeting of staff to plan for the next Sunday’s worship services.
URL:https://www.faithlc.com/event/worship-planning-meeting-3/2026-02-03/
CATEGORIES:Staff
END:VEVENT
BEGIN:VEVENT
DTSTART;TZID=America/Chicago:20260204T103000
DTEND;TZID=America/Chicago:20260204T113000
DTSTAMP:20260422T131427
CREATED:20250311T160213Z
LAST-MODIFIED:20250311T160215Z
UID:10007313-1770201000-1770204600@www.faithlc.com
SUMMARY:Weekly Staff Meeting
DESCRIPTION:The Faith Lutheran staff gathers weekly for a time of devotion\, support\, and planning.
URL:https://www.faithlc.com/event/weekly-staff-meeting-2/2026-02-04/
CATEGORIES:Staff
END:VEVENT
BEGIN:VEVENT
DTSTART;TZID=America/Chicago:20260204T113000
DTEND;TZID=America/Chicago:20260204T121500
DTSTAMP:20260422T131427
CREATED:20250311T160257Z
LAST-MODIFIED:20250311T160259Z
UID:10007573-1770204600-1770207300@www.faithlc.com
SUMMARY:Pastoral Care Team Meeting
DESCRIPTION:The Pastoral Care (PC) Team meets weekly to review the needs of members who are homebound\, hospitalized\, etc.
URL:https://www.faithlc.com/event/pastoral-care-team-meeting-2/2026-02-04/
CATEGORIES:Staff
END:VEVENT
BEGIN:VEVENT
DTSTART;TZID=America/Chicago:20260210T091500
DTEND;TZID=America/Chicago:20260210T103000
DTSTAMP:20260422T131427
CREATED:20240726T205654Z
LAST-MODIFIED:20241216T211743Z
UID:10002958-1770714900-1770719400@www.faithlc.com
SUMMARY:Pastoral Planning Meeting
DESCRIPTION:A weekly planning meeting of the FLC Pastors.
URL:https://www.faithlc.com/event/pastoral-planning-meeting/2026-02-10/
CATEGORIES:Staff
END:VEVENT
BEGIN:VEVENT
DTSTART;TZID=America/Chicago:20260210T150000
DTEND;TZID=America/Chicago:20260210T160000
DTSTAMP:20260422T131427
CREATED:20241216T211604Z
LAST-MODIFIED:20241216T211605Z
UID:10005953-1770735600-1770739200@www.faithlc.com
SUMMARY:Worship Planning Meeting
DESCRIPTION:A weekly meeting of staff to plan for the next Sunday’s worship services.
URL:https://www.faithlc.com/event/worship-planning-meeting-3/2026-02-10/
CATEGORIES:Staff
END:VEVENT
BEGIN:VEVENT
DTSTART;TZID=America/Chicago:20260211T103000
DTEND;TZID=America/Chicago:20260211T113000
DTSTAMP:20260422T131427
CREATED:20250311T160213Z
LAST-MODIFIED:20250311T160215Z
UID:10007314-1770805800-1770809400@www.faithlc.com
SUMMARY:Weekly Staff Meeting
DESCRIPTION:The Faith Lutheran staff gathers weekly for a time of devotion\, support\, and planning.
URL:https://www.faithlc.com/event/weekly-staff-meeting-2/2026-02-11/
CATEGORIES:Staff
END:VEVENT
BEGIN:VEVENT
DTSTART;TZID=America/Chicago:20260211T113000
DTEND;TZID=America/Chicago:20260211T121500
DTSTAMP:20260422T131427
CREATED:20250311T160257Z
LAST-MODIFIED:20250311T160259Z
UID:10007574-1770809400-1770812100@www.faithlc.com
SUMMARY:Pastoral Care Team Meeting
DESCRIPTION:The Pastoral Care (PC) Team meets weekly to review the needs of members who are homebound\, hospitalized\, etc.
URL:https://www.faithlc.com/event/pastoral-care-team-meeting-2/2026-02-11/
CATEGORIES:Staff
END:VEVENT
BEGIN:VEVENT
DTSTART;TZID=America/Chicago:20260217T091500
DTEND;TZID=America/Chicago:20260217T103000
DTSTAMP:20260422T131427
CREATED:20240726T205654Z
LAST-MODIFIED:20241216T211743Z
UID:10002959-1771319700-1771324200@www.faithlc.com
SUMMARY:Pastoral Planning Meeting
DESCRIPTION:A weekly planning meeting of the FLC Pastors.
URL:https://www.faithlc.com/event/pastoral-planning-meeting/2026-02-17/
CATEGORIES:Staff
END:VEVENT
BEGIN:VEVENT
DTSTART;TZID=America/Chicago:20260217T150000
DTEND;TZID=America/Chicago:20260217T160000
DTSTAMP:20260422T131427
CREATED:20241216T211604Z
LAST-MODIFIED:20241216T211605Z
UID:10005954-1771340400-1771344000@www.faithlc.com
SUMMARY:Worship Planning Meeting
DESCRIPTION:A weekly meeting of staff to plan for the next Sunday’s worship services.
URL:https://www.faithlc.com/event/worship-planning-meeting-3/2026-02-17/
CATEGORIES:Staff
END:VEVENT
BEGIN:VEVENT
DTSTART;TZID=America/Chicago:20260218T103000
DTEND;TZID=America/Chicago:20260218T113000
DTSTAMP:20260422T131427
CREATED:20250311T160213Z
LAST-MODIFIED:20250311T160215Z
UID:10007315-1771410600-1771414200@www.faithlc.com
SUMMARY:Weekly Staff Meeting
DESCRIPTION:The Faith Lutheran staff gathers weekly for a time of devotion\, support\, and planning.
URL:https://www.faithlc.com/event/weekly-staff-meeting-2/2026-02-18/
CATEGORIES:Staff
END:VEVENT
END:VCALENDAR