BEGIN:VCALENDAR
VERSION:2.0
PRODID:-//Faith Lutheran Church - ECPv6.15.20//NONSGML v1.0//EN
CALSCALE:GREGORIAN
METHOD:PUBLISH
X-WR-CALNAME:Faith Lutheran Church
X-ORIGINAL-URL:https://www.faithlc.com
X-WR-CALDESC:Events for Faith Lutheran Church
REFRESH-INTERVAL;VALUE=DURATION:PT1H
X-Robots-Tag:noindex
X-PUBLISHED-TTL:PT1H
BEGIN:VTIMEZONE
TZID:America/Chicago
BEGIN:DAYLIGHT
TZOFFSETFROM:-0600
TZOFFSETTO:-0500
TZNAME:CDT
DTSTART:20250309T080000
END:DAYLIGHT
BEGIN:STANDARD
TZOFFSETFROM:-0500
TZOFFSETTO:-0600
TZNAME:CST
DTSTART:20251102T070000
END:STANDARD
BEGIN:DAYLIGHT
TZOFFSETFROM:-0600
TZOFFSETTO:-0500
TZNAME:CDT
DTSTART:20260308T080000
END:DAYLIGHT
BEGIN:STANDARD
TZOFFSETFROM:-0500
TZOFFSETTO:-0600
TZNAME:CST
DTSTART:20261101T070000
END:STANDARD
BEGIN:DAYLIGHT
TZOFFSETFROM:-0600
TZOFFSETTO:-0500
TZNAME:CDT
DTSTART:20270314T080000
END:DAYLIGHT
BEGIN:STANDARD
TZOFFSETFROM:-0500
TZOFFSETTO:-0600
TZNAME:CST
DTSTART:20271107T070000
END:STANDARD
END:VTIMEZONE
BEGIN:VEVENT
DTSTART;TZID=America/Chicago:20260407T091500
DTEND;TZID=America/Chicago:20260407T103000
DTSTAMP:20260420T172935
CREATED:20240726T205654Z
LAST-MODIFIED:20241216T211743Z
UID:10002966-1775553300-1775557800@www.faithlc.com
SUMMARY:Pastoral Planning Meeting
DESCRIPTION:A weekly planning meeting of the FLC Pastors.
URL:https://www.faithlc.com/event/pastoral-planning-meeting/2026-04-07/
CATEGORIES:Staff
END:VEVENT
BEGIN:VEVENT
DTSTART;TZID=America/Chicago:20260407T150000
DTEND;TZID=America/Chicago:20260407T160000
DTSTAMP:20260420T172935
CREATED:20241216T211604Z
LAST-MODIFIED:20241216T211605Z
UID:10005961-1775574000-1775577600@www.faithlc.com
SUMMARY:Worship Planning Meeting
DESCRIPTION:A weekly meeting of staff to plan for the next Sunday’s worship services.
URL:https://www.faithlc.com/event/worship-planning-meeting-3/2026-04-07/
CATEGORIES:Staff
END:VEVENT
BEGIN:VEVENT
DTSTART;TZID=America/Chicago:20260408T103000
DTEND;TZID=America/Chicago:20260408T113000
DTSTAMP:20260420T172935
CREATED:20250311T160213Z
LAST-MODIFIED:20250311T160215Z
UID:10007322-1775644200-1775647800@www.faithlc.com
SUMMARY:Weekly Staff Meeting
DESCRIPTION:The Faith Lutheran staff gathers weekly for a time of devotion\, support\, and planning.
URL:https://www.faithlc.com/event/weekly-staff-meeting-2/2026-04-08/
CATEGORIES:Staff
END:VEVENT
BEGIN:VEVENT
DTSTART;TZID=America/Chicago:20260408T113000
DTEND;TZID=America/Chicago:20260408T121500
DTSTAMP:20260420T172935
CREATED:20250311T160257Z
LAST-MODIFIED:20250311T160259Z
UID:10007582-1775647800-1775650500@www.faithlc.com
SUMMARY:Pastoral Care Team Meeting
DESCRIPTION:The Pastoral Care (PC) Team meets weekly to review the needs of members who are homebound\, hospitalized\, etc.
URL:https://www.faithlc.com/event/pastoral-care-team-meeting-2/2026-04-08/
CATEGORIES:Staff
END:VEVENT
END:VCALENDAR