BEGIN:VCALENDAR
VERSION:2.0
PRODID:-//Faith Lutheran Church - ECPv6.15.20//NONSGML v1.0//EN
CALSCALE:GREGORIAN
METHOD:PUBLISH
X-WR-CALNAME:Faith Lutheran Church
X-ORIGINAL-URL:https://www.faithlc.com
X-WR-CALDESC:Events for Faith Lutheran Church
REFRESH-INTERVAL;VALUE=DURATION:PT1H
X-Robots-Tag:noindex
X-PUBLISHED-TTL:PT1H
BEGIN:VTIMEZONE
TZID:America/Chicago
BEGIN:DAYLIGHT
TZOFFSETFROM:-0600
TZOFFSETTO:-0500
TZNAME:CDT
DTSTART:20250309T080000
END:DAYLIGHT
BEGIN:STANDARD
TZOFFSETFROM:-0500
TZOFFSETTO:-0600
TZNAME:CST
DTSTART:20251102T070000
END:STANDARD
BEGIN:DAYLIGHT
TZOFFSETFROM:-0600
TZOFFSETTO:-0500
TZNAME:CDT
DTSTART:20260308T080000
END:DAYLIGHT
BEGIN:STANDARD
TZOFFSETFROM:-0500
TZOFFSETTO:-0600
TZNAME:CST
DTSTART:20261101T070000
END:STANDARD
BEGIN:DAYLIGHT
TZOFFSETFROM:-0600
TZOFFSETTO:-0500
TZNAME:CDT
DTSTART:20270314T080000
END:DAYLIGHT
BEGIN:STANDARD
TZOFFSETFROM:-0500
TZOFFSETTO:-0600
TZNAME:CST
DTSTART:20271107T070000
END:STANDARD
END:VTIMEZONE
BEGIN:VEVENT
DTSTART;TZID=America/Chicago:20260527T090000
DTEND;TZID=America/Chicago:20260527T093000
DTSTAMP:20260421T210330
CREATED:20260226T205456Z
LAST-MODIFIED:20260226T205458Z
UID:10012041-1779872400-1779874200@www.faithlc.com
SUMMARY:Matins
DESCRIPTION:Join the Faith staff in person in the sanctuary\, or via Facebook Tuesday – Thursday at 9 a.m. for a morning matins service.Tuesday and Thursday will be two readings and a brief homily.Wednesdays format is a musical version of matins.
URL:https://www.faithlc.com/event/matins/2026-05-27/
CATEGORIES:Worship Times
ATTACH;FMTTYPE=image/png:https://www.faithlc.com/wp-content/uploads/2026/02/Matins-Logo.png
END:VEVENT
BEGIN:VEVENT
DTSTART;TZID=America/Chicago:20260528T090000
DTEND;TZID=America/Chicago:20260528T093000
DTSTAMP:20260421T210330
CREATED:20260226T205456Z
LAST-MODIFIED:20260226T205458Z
UID:10012042-1779958800-1779960600@www.faithlc.com
SUMMARY:Matins
DESCRIPTION:Join the Faith staff in person in the sanctuary\, or via Facebook Tuesday – Thursday at 9 a.m. for a morning matins service.Tuesday and Thursday will be two readings and a brief homily.Wednesdays format is a musical version of matins.
URL:https://www.faithlc.com/event/matins/2026-05-28/
CATEGORIES:Worship Times
ATTACH;FMTTYPE=image/png:https://www.faithlc.com/wp-content/uploads/2026/02/Matins-Logo.png
END:VEVENT
BEGIN:VEVENT
DTSTART;TZID=America/Chicago:20260531T080000
DTEND;TZID=America/Chicago:20260531T090000
DTSTAMP:20260421T210330
CREATED:20240726T201255Z
LAST-MODIFIED:20250721T203538Z
UID:10010056-1780214400-1780218000@www.faithlc.com
SUMMARY:First Word Worship Service
DESCRIPTION:This is a traditional worship service in the sanctuary using the Lutheran Book of Worship. Holy Communion is celebrated on the first and second Sunday of each month as well as on some of the major church holy days.
URL:https://www.faithlc.com/event/first-word-worship-service/2026-05-31/
LOCATION:Sanctuary\, 335 Main Street S.\, Hutchinson\, 55350
CATEGORIES:Worship Times
ATTACH;FMTTYPE=image/jpeg:https://www.faithlc.com/wp-content/uploads/2013/06/sanctuary_empty.jpg
GEO:44.8884443;-94.3691943
X-APPLE-STRUCTURED-LOCATION;VALUE=URI;X-ADDRESS=Sanctuary 335 Main Street S. Hutchinson 55350;X-APPLE-RADIUS=500;X-TITLE=335 Main Street S.:geo:-94.3691943,44.8884443
END:VEVENT
BEGIN:VEVENT
DTSTART;TZID=America/Chicago:20260602T090000
DTEND;TZID=America/Chicago:20260602T093000
DTSTAMP:20260421T210330
CREATED:20260226T205456Z
LAST-MODIFIED:20260226T205458Z
UID:10012043-1780390800-1780392600@www.faithlc.com
SUMMARY:Matins
DESCRIPTION:Join the Faith staff in person in the sanctuary\, or via Facebook Tuesday – Thursday at 9 a.m. for a morning matins service.Tuesday and Thursday will be two readings and a brief homily.Wednesdays format is a musical version of matins.
URL:https://www.faithlc.com/event/matins/2026-06-02/
CATEGORIES:Worship Times
ATTACH;FMTTYPE=image/png:https://www.faithlc.com/wp-content/uploads/2026/02/Matins-Logo.png
END:VEVENT
BEGIN:VEVENT
DTSTART;TZID=America/Chicago:20260603T070000
DTEND;TZID=America/Chicago:20260603T073000
DTSTAMP:20260421T210330
CREATED:20250625T202847Z
LAST-MODIFIED:20250625T202849Z
UID:10008012-1780470000-1780471800@www.faithlc.com
SUMMARY:Morning Prayer
DESCRIPTION:A time to gether for prayer. You are invited to join the leading pastor in the sanctuary or tune in via Facebook live to participate.
URL:https://www.faithlc.com/event/morning-prayer-2/2026-06-03/
CATEGORIES:Worship Times
ATTACH;FMTTYPE=image/png:https://www.faithlc.com/wp-content/uploads/2023/01/Matins-praying-hands.png
END:VEVENT
BEGIN:VEVENT
DTSTART;TZID=America/Chicago:20260603T090000
DTEND;TZID=America/Chicago:20260603T093000
DTSTAMP:20260421T210330
CREATED:20260226T205456Z
LAST-MODIFIED:20260226T205458Z
UID:10012044-1780477200-1780479000@www.faithlc.com
SUMMARY:Matins
DESCRIPTION:Join the Faith staff in person in the sanctuary\, or via Facebook Tuesday – Thursday at 9 a.m. for a morning matins service.Tuesday and Thursday will be two readings and a brief homily.Wednesdays format is a musical version of matins.
URL:https://www.faithlc.com/event/matins/2026-06-03/
CATEGORIES:Worship Times
ATTACH;FMTTYPE=image/png:https://www.faithlc.com/wp-content/uploads/2026/02/Matins-Logo.png
END:VEVENT
BEGIN:VEVENT
DTSTART;TZID=America/Chicago:20260604T090000
DTEND;TZID=America/Chicago:20260604T093000
DTSTAMP:20260421T210330
CREATED:20260226T205456Z
LAST-MODIFIED:20260226T205458Z
UID:10012045-1780563600-1780565400@www.faithlc.com
SUMMARY:Matins
DESCRIPTION:Join the Faith staff in person in the sanctuary\, or via Facebook Tuesday – Thursday at 9 a.m. for a morning matins service.Tuesday and Thursday will be two readings and a brief homily.Wednesdays format is a musical version of matins.
URL:https://www.faithlc.com/event/matins/2026-06-04/
CATEGORIES:Worship Times
ATTACH;FMTTYPE=image/png:https://www.faithlc.com/wp-content/uploads/2026/02/Matins-Logo.png
END:VEVENT
BEGIN:VEVENT
DTSTART;TZID=America/Chicago:20260607T080000
DTEND;TZID=America/Chicago:20260607T090000
DTSTAMP:20260421T210330
CREATED:20240726T201255Z
LAST-MODIFIED:20250721T203538Z
UID:10010057-1780819200-1780822800@www.faithlc.com
SUMMARY:First Word Worship Service
DESCRIPTION:This is a traditional worship service in the sanctuary using the Lutheran Book of Worship. Holy Communion is celebrated on the first and second Sunday of each month as well as on some of the major church holy days.
URL:https://www.faithlc.com/event/first-word-worship-service/2026-06-07/
LOCATION:Sanctuary\, 335 Main Street S.\, Hutchinson\, 55350
CATEGORIES:Worship Times
ATTACH;FMTTYPE=image/jpeg:https://www.faithlc.com/wp-content/uploads/2013/06/sanctuary_empty.jpg
GEO:44.8884443;-94.3691943
X-APPLE-STRUCTURED-LOCATION;VALUE=URI;X-ADDRESS=Sanctuary 335 Main Street S. Hutchinson 55350;X-APPLE-RADIUS=500;X-TITLE=335 Main Street S.:geo:-94.3691943,44.8884443
END:VEVENT
BEGIN:VEVENT
DTSTART;TZID=America/Chicago:20260609T090000
DTEND;TZID=America/Chicago:20260609T093000
DTSTAMP:20260421T210330
CREATED:20260226T205456Z
LAST-MODIFIED:20260226T205458Z
UID:10012046-1780995600-1780997400@www.faithlc.com
SUMMARY:Matins
DESCRIPTION:Join the Faith staff in person in the sanctuary\, or via Facebook Tuesday – Thursday at 9 a.m. for a morning matins service.Tuesday and Thursday will be two readings and a brief homily.Wednesdays format is a musical version of matins.
URL:https://www.faithlc.com/event/matins/2026-06-09/
CATEGORIES:Worship Times
ATTACH;FMTTYPE=image/png:https://www.faithlc.com/wp-content/uploads/2026/02/Matins-Logo.png
END:VEVENT
BEGIN:VEVENT
DTSTART;TZID=America/Chicago:20260610T070000
DTEND;TZID=America/Chicago:20260610T073000
DTSTAMP:20260421T210330
CREATED:20250625T202847Z
LAST-MODIFIED:20250625T202849Z
UID:10008013-1781074800-1781076600@www.faithlc.com
SUMMARY:Morning Prayer
DESCRIPTION:A time to gether for prayer. You are invited to join the leading pastor in the sanctuary or tune in via Facebook live to participate.
URL:https://www.faithlc.com/event/morning-prayer-2/2026-06-10/
CATEGORIES:Worship Times
ATTACH;FMTTYPE=image/png:https://www.faithlc.com/wp-content/uploads/2023/01/Matins-praying-hands.png
END:VEVENT
BEGIN:VEVENT
DTSTART;TZID=America/Chicago:20260610T090000
DTEND;TZID=America/Chicago:20260610T093000
DTSTAMP:20260421T210330
CREATED:20260226T205456Z
LAST-MODIFIED:20260226T205458Z
UID:10012047-1781082000-1781083800@www.faithlc.com
SUMMARY:Matins
DESCRIPTION:Join the Faith staff in person in the sanctuary\, or via Facebook Tuesday – Thursday at 9 a.m. for a morning matins service.Tuesday and Thursday will be two readings and a brief homily.Wednesdays format is a musical version of matins.
URL:https://www.faithlc.com/event/matins/2026-06-10/
CATEGORIES:Worship Times
ATTACH;FMTTYPE=image/png:https://www.faithlc.com/wp-content/uploads/2026/02/Matins-Logo.png
END:VEVENT
BEGIN:VEVENT
DTSTART;TZID=America/Chicago:20260611T090000
DTEND;TZID=America/Chicago:20260611T093000
DTSTAMP:20260421T210330
CREATED:20260226T205456Z
LAST-MODIFIED:20260226T205458Z
UID:10012048-1781168400-1781170200@www.faithlc.com
SUMMARY:Matins
DESCRIPTION:Join the Faith staff in person in the sanctuary\, or via Facebook Tuesday – Thursday at 9 a.m. for a morning matins service.Tuesday and Thursday will be two readings and a brief homily.Wednesdays format is a musical version of matins.
URL:https://www.faithlc.com/event/matins/2026-06-11/
CATEGORIES:Worship Times
ATTACH;FMTTYPE=image/png:https://www.faithlc.com/wp-content/uploads/2026/02/Matins-Logo.png
END:VEVENT
BEGIN:VEVENT
DTSTART;TZID=America/Chicago:20260614T080000
DTEND;TZID=America/Chicago:20260614T090000
DTSTAMP:20260421T210330
CREATED:20240726T201255Z
LAST-MODIFIED:20250721T203538Z
UID:10010058-1781424000-1781427600@www.faithlc.com
SUMMARY:First Word Worship Service
DESCRIPTION:This is a traditional worship service in the sanctuary using the Lutheran Book of Worship. Holy Communion is celebrated on the first and second Sunday of each month as well as on some of the major church holy days.
URL:https://www.faithlc.com/event/first-word-worship-service/2026-06-14/
LOCATION:Sanctuary\, 335 Main Street S.\, Hutchinson\, 55350
CATEGORIES:Worship Times
ATTACH;FMTTYPE=image/jpeg:https://www.faithlc.com/wp-content/uploads/2013/06/sanctuary_empty.jpg
GEO:44.8884443;-94.3691943
X-APPLE-STRUCTURED-LOCATION;VALUE=URI;X-ADDRESS=Sanctuary 335 Main Street S. Hutchinson 55350;X-APPLE-RADIUS=500;X-TITLE=335 Main Street S.:geo:-94.3691943,44.8884443
END:VEVENT
BEGIN:VEVENT
DTSTART;TZID=America/Chicago:20260616T090000
DTEND;TZID=America/Chicago:20260616T093000
DTSTAMP:20260421T210330
CREATED:20260226T205456Z
LAST-MODIFIED:20260226T205458Z
UID:10012049-1781600400-1781602200@www.faithlc.com
SUMMARY:Matins
DESCRIPTION:Join the Faith staff in person in the sanctuary\, or via Facebook Tuesday – Thursday at 9 a.m. for a morning matins service.Tuesday and Thursday will be two readings and a brief homily.Wednesdays format is a musical version of matins.
URL:https://www.faithlc.com/event/matins/2026-06-16/
CATEGORIES:Worship Times
ATTACH;FMTTYPE=image/png:https://www.faithlc.com/wp-content/uploads/2026/02/Matins-Logo.png
END:VEVENT
BEGIN:VEVENT
DTSTART;TZID=America/Chicago:20260617T070000
DTEND;TZID=America/Chicago:20260617T073000
DTSTAMP:20260421T210330
CREATED:20250625T202847Z
LAST-MODIFIED:20250625T202849Z
UID:10008014-1781679600-1781681400@www.faithlc.com
SUMMARY:Morning Prayer
DESCRIPTION:A time to gether for prayer. You are invited to join the leading pastor in the sanctuary or tune in via Facebook live to participate.
URL:https://www.faithlc.com/event/morning-prayer-2/2026-06-17/
CATEGORIES:Worship Times
ATTACH;FMTTYPE=image/png:https://www.faithlc.com/wp-content/uploads/2023/01/Matins-praying-hands.png
END:VEVENT
BEGIN:VEVENT
DTSTART;TZID=America/Chicago:20260617T090000
DTEND;TZID=America/Chicago:20260617T093000
DTSTAMP:20260421T210330
CREATED:20260226T205456Z
LAST-MODIFIED:20260226T205458Z
UID:10012050-1781686800-1781688600@www.faithlc.com
SUMMARY:Matins
DESCRIPTION:Join the Faith staff in person in the sanctuary\, or via Facebook Tuesday – Thursday at 9 a.m. for a morning matins service.Tuesday and Thursday will be two readings and a brief homily.Wednesdays format is a musical version of matins.
URL:https://www.faithlc.com/event/matins/2026-06-17/
CATEGORIES:Worship Times
ATTACH;FMTTYPE=image/png:https://www.faithlc.com/wp-content/uploads/2026/02/Matins-Logo.png
END:VEVENT
BEGIN:VEVENT
DTSTART;TZID=America/Chicago:20260618T090000
DTEND;TZID=America/Chicago:20260618T093000
DTSTAMP:20260421T210330
CREATED:20260226T205456Z
LAST-MODIFIED:20260226T205458Z
UID:10012051-1781773200-1781775000@www.faithlc.com
SUMMARY:Matins
DESCRIPTION:Join the Faith staff in person in the sanctuary\, or via Facebook Tuesday – Thursday at 9 a.m. for a morning matins service.Tuesday and Thursday will be two readings and a brief homily.Wednesdays format is a musical version of matins.
URL:https://www.faithlc.com/event/matins/2026-06-18/
CATEGORIES:Worship Times
ATTACH;FMTTYPE=image/png:https://www.faithlc.com/wp-content/uploads/2026/02/Matins-Logo.png
END:VEVENT
BEGIN:VEVENT
DTSTART;TZID=America/Chicago:20260621T080000
DTEND;TZID=America/Chicago:20260621T090000
DTSTAMP:20260421T210330
CREATED:20240726T201255Z
LAST-MODIFIED:20250721T203538Z
UID:10010059-1782028800-1782032400@www.faithlc.com
SUMMARY:First Word Worship Service
DESCRIPTION:This is a traditional worship service in the sanctuary using the Lutheran Book of Worship. Holy Communion is celebrated on the first and second Sunday of each month as well as on some of the major church holy days.
URL:https://www.faithlc.com/event/first-word-worship-service/2026-06-21/
LOCATION:Sanctuary\, 335 Main Street S.\, Hutchinson\, 55350
CATEGORIES:Worship Times
ATTACH;FMTTYPE=image/jpeg:https://www.faithlc.com/wp-content/uploads/2013/06/sanctuary_empty.jpg
GEO:44.8884443;-94.3691943
X-APPLE-STRUCTURED-LOCATION;VALUE=URI;X-ADDRESS=Sanctuary 335 Main Street S. Hutchinson 55350;X-APPLE-RADIUS=500;X-TITLE=335 Main Street S.:geo:-94.3691943,44.8884443
END:VEVENT
BEGIN:VEVENT
DTSTART;TZID=America/Chicago:20260623T090000
DTEND;TZID=America/Chicago:20260623T093000
DTSTAMP:20260421T210330
CREATED:20260226T205456Z
LAST-MODIFIED:20260226T205458Z
UID:10012052-1782205200-1782207000@www.faithlc.com
SUMMARY:Matins
DESCRIPTION:Join the Faith staff in person in the sanctuary\, or via Facebook Tuesday – Thursday at 9 a.m. for a morning matins service.Tuesday and Thursday will be two readings and a brief homily.Wednesdays format is a musical version of matins.
URL:https://www.faithlc.com/event/matins/2026-06-23/
CATEGORIES:Worship Times
ATTACH;FMTTYPE=image/png:https://www.faithlc.com/wp-content/uploads/2026/02/Matins-Logo.png
END:VEVENT
BEGIN:VEVENT
DTSTART;TZID=America/Chicago:20260624T070000
DTEND;TZID=America/Chicago:20260624T073000
DTSTAMP:20260421T210330
CREATED:20250625T202847Z
LAST-MODIFIED:20250625T202849Z
UID:10008015-1782284400-1782286200@www.faithlc.com
SUMMARY:Morning Prayer
DESCRIPTION:A time to gether for prayer. You are invited to join the leading pastor in the sanctuary or tune in via Facebook live to participate.
URL:https://www.faithlc.com/event/morning-prayer-2/2026-06-24/
CATEGORIES:Worship Times
ATTACH;FMTTYPE=image/png:https://www.faithlc.com/wp-content/uploads/2023/01/Matins-praying-hands.png
END:VEVENT
BEGIN:VEVENT
DTSTART;TZID=America/Chicago:20260624T090000
DTEND;TZID=America/Chicago:20260624T093000
DTSTAMP:20260421T210330
CREATED:20260226T205456Z
LAST-MODIFIED:20260226T205458Z
UID:10012053-1782291600-1782293400@www.faithlc.com
SUMMARY:Matins
DESCRIPTION:Join the Faith staff in person in the sanctuary\, or via Facebook Tuesday – Thursday at 9 a.m. for a morning matins service.Tuesday and Thursday will be two readings and a brief homily.Wednesdays format is a musical version of matins.
URL:https://www.faithlc.com/event/matins/2026-06-24/
CATEGORIES:Worship Times
ATTACH;FMTTYPE=image/png:https://www.faithlc.com/wp-content/uploads/2026/02/Matins-Logo.png
END:VEVENT
BEGIN:VEVENT
DTSTART;TZID=America/Chicago:20260625T090000
DTEND;TZID=America/Chicago:20260625T093000
DTSTAMP:20260421T210330
CREATED:20260226T205456Z
LAST-MODIFIED:20260226T205458Z
UID:10012054-1782378000-1782379800@www.faithlc.com
SUMMARY:Matins
DESCRIPTION:Join the Faith staff in person in the sanctuary\, or via Facebook Tuesday – Thursday at 9 a.m. for a morning matins service.Tuesday and Thursday will be two readings and a brief homily.Wednesdays format is a musical version of matins.
URL:https://www.faithlc.com/event/matins/2026-06-25/
CATEGORIES:Worship Times
ATTACH;FMTTYPE=image/png:https://www.faithlc.com/wp-content/uploads/2026/02/Matins-Logo.png
END:VEVENT
BEGIN:VEVENT
DTSTART;TZID=America/Chicago:20260628T080000
DTEND;TZID=America/Chicago:20260628T090000
DTSTAMP:20260421T210330
CREATED:20240726T201255Z
LAST-MODIFIED:20250721T203538Z
UID:10010060-1782633600-1782637200@www.faithlc.com
SUMMARY:First Word Worship Service
DESCRIPTION:This is a traditional worship service in the sanctuary using the Lutheran Book of Worship. Holy Communion is celebrated on the first and second Sunday of each month as well as on some of the major church holy days.
URL:https://www.faithlc.com/event/first-word-worship-service/2026-06-28/
LOCATION:Sanctuary\, 335 Main Street S.\, Hutchinson\, 55350
CATEGORIES:Worship Times
ATTACH;FMTTYPE=image/jpeg:https://www.faithlc.com/wp-content/uploads/2013/06/sanctuary_empty.jpg
GEO:44.8884443;-94.3691943
X-APPLE-STRUCTURED-LOCATION;VALUE=URI;X-ADDRESS=Sanctuary 335 Main Street S. Hutchinson 55350;X-APPLE-RADIUS=500;X-TITLE=335 Main Street S.:geo:-94.3691943,44.8884443
END:VEVENT
BEGIN:VEVENT
DTSTART;TZID=America/Chicago:20260630T090000
DTEND;TZID=America/Chicago:20260630T093000
DTSTAMP:20260421T210330
CREATED:20260226T205456Z
LAST-MODIFIED:20260226T205458Z
UID:10012055-1782810000-1782811800@www.faithlc.com
SUMMARY:Matins
DESCRIPTION:Join the Faith staff in person in the sanctuary\, or via Facebook Tuesday – Thursday at 9 a.m. for a morning matins service.Tuesday and Thursday will be two readings and a brief homily.Wednesdays format is a musical version of matins.
URL:https://www.faithlc.com/event/matins/2026-06-30/
CATEGORIES:Worship Times
ATTACH;FMTTYPE=image/png:https://www.faithlc.com/wp-content/uploads/2026/02/Matins-Logo.png
END:VEVENT
BEGIN:VEVENT
DTSTART;TZID=America/Chicago:20260701T070000
DTEND;TZID=America/Chicago:20260701T073000
DTSTAMP:20260421T210330
CREATED:20250625T202847Z
LAST-MODIFIED:20250625T202849Z
UID:10008016-1782889200-1782891000@www.faithlc.com
SUMMARY:Morning Prayer
DESCRIPTION:A time to gether for prayer. You are invited to join the leading pastor in the sanctuary or tune in via Facebook live to participate.
URL:https://www.faithlc.com/event/morning-prayer-2/2026-07-01/
CATEGORIES:Worship Times
ATTACH;FMTTYPE=image/png:https://www.faithlc.com/wp-content/uploads/2023/01/Matins-praying-hands.png
END:VEVENT
BEGIN:VEVENT
DTSTART;TZID=America/Chicago:20260701T090000
DTEND;TZID=America/Chicago:20260701T093000
DTSTAMP:20260421T210330
CREATED:20260226T205456Z
LAST-MODIFIED:20260226T205458Z
UID:10012056-1782896400-1782898200@www.faithlc.com
SUMMARY:Matins
DESCRIPTION:Join the Faith staff in person in the sanctuary\, or via Facebook Tuesday – Thursday at 9 a.m. for a morning matins service.Tuesday and Thursday will be two readings and a brief homily.Wednesdays format is a musical version of matins.
URL:https://www.faithlc.com/event/matins/2026-07-01/
CATEGORIES:Worship Times
ATTACH;FMTTYPE=image/png:https://www.faithlc.com/wp-content/uploads/2026/02/Matins-Logo.png
END:VEVENT
BEGIN:VEVENT
DTSTART;TZID=America/Chicago:20260702T090000
DTEND;TZID=America/Chicago:20260702T093000
DTSTAMP:20260421T210330
CREATED:20260226T205456Z
LAST-MODIFIED:20260226T205458Z
UID:10012057-1782982800-1782984600@www.faithlc.com
SUMMARY:Matins
DESCRIPTION:Join the Faith staff in person in the sanctuary\, or via Facebook Tuesday – Thursday at 9 a.m. for a morning matins service.Tuesday and Thursday will be two readings and a brief homily.Wednesdays format is a musical version of matins.
URL:https://www.faithlc.com/event/matins/2026-07-02/
CATEGORIES:Worship Times
ATTACH;FMTTYPE=image/png:https://www.faithlc.com/wp-content/uploads/2026/02/Matins-Logo.png
END:VEVENT
BEGIN:VEVENT
DTSTART;TZID=America/Chicago:20260705T080000
DTEND;TZID=America/Chicago:20260705T090000
DTSTAMP:20260421T210330
CREATED:20240726T201255Z
LAST-MODIFIED:20250721T203538Z
UID:10010061-1783238400-1783242000@www.faithlc.com
SUMMARY:First Word Worship Service
DESCRIPTION:This is a traditional worship service in the sanctuary using the Lutheran Book of Worship. Holy Communion is celebrated on the first and second Sunday of each month as well as on some of the major church holy days.
URL:https://www.faithlc.com/event/first-word-worship-service/2026-07-05/
LOCATION:Sanctuary\, 335 Main Street S.\, Hutchinson\, 55350
CATEGORIES:Worship Times
ATTACH;FMTTYPE=image/jpeg:https://www.faithlc.com/wp-content/uploads/2013/06/sanctuary_empty.jpg
GEO:44.8884443;-94.3691943
X-APPLE-STRUCTURED-LOCATION;VALUE=URI;X-ADDRESS=Sanctuary 335 Main Street S. Hutchinson 55350;X-APPLE-RADIUS=500;X-TITLE=335 Main Street S.:geo:-94.3691943,44.8884443
END:VEVENT
BEGIN:VEVENT
DTSTART;TZID=America/Chicago:20260707T090000
DTEND;TZID=America/Chicago:20260707T093000
DTSTAMP:20260421T210330
CREATED:20260226T205456Z
LAST-MODIFIED:20260226T205458Z
UID:10012058-1783414800-1783416600@www.faithlc.com
SUMMARY:Matins
DESCRIPTION:Join the Faith staff in person in the sanctuary\, or via Facebook Tuesday – Thursday at 9 a.m. for a morning matins service.Tuesday and Thursday will be two readings and a brief homily.Wednesdays format is a musical version of matins.
URL:https://www.faithlc.com/event/matins/2026-07-07/
CATEGORIES:Worship Times
ATTACH;FMTTYPE=image/png:https://www.faithlc.com/wp-content/uploads/2026/02/Matins-Logo.png
END:VEVENT
BEGIN:VEVENT
DTSTART;TZID=America/Chicago:20260708T070000
DTEND;TZID=America/Chicago:20260708T073000
DTSTAMP:20260421T210330
CREATED:20250625T202847Z
LAST-MODIFIED:20250625T202849Z
UID:10008017-1783494000-1783495800@www.faithlc.com
SUMMARY:Morning Prayer
DESCRIPTION:A time to gether for prayer. You are invited to join the leading pastor in the sanctuary or tune in via Facebook live to participate.
URL:https://www.faithlc.com/event/morning-prayer-2/2026-07-08/
CATEGORIES:Worship Times
ATTACH;FMTTYPE=image/png:https://www.faithlc.com/wp-content/uploads/2023/01/Matins-praying-hands.png
END:VEVENT
END:VCALENDAR