BEGIN:VCALENDAR
VERSION:2.0
PRODID:-//Faith Lutheran Church - ECPv6.15.20//NONSGML v1.0//EN
CALSCALE:GREGORIAN
METHOD:PUBLISH
X-ORIGINAL-URL:https://www.faithlc.com
X-WR-CALDESC:Events for Faith Lutheran Church
REFRESH-INTERVAL;VALUE=DURATION:PT1H
X-Robots-Tag:noindex
X-PUBLISHED-TTL:PT1H
BEGIN:VTIMEZONE
TZID:America/Chicago
BEGIN:DAYLIGHT
TZOFFSETFROM:-0600
TZOFFSETTO:-0500
TZNAME:CDT
DTSTART:20240310T080000
END:DAYLIGHT
BEGIN:STANDARD
TZOFFSETFROM:-0500
TZOFFSETTO:-0600
TZNAME:CST
DTSTART:20241103T070000
END:STANDARD
BEGIN:DAYLIGHT
TZOFFSETFROM:-0600
TZOFFSETTO:-0500
TZNAME:CDT
DTSTART:20250309T080000
END:DAYLIGHT
BEGIN:STANDARD
TZOFFSETFROM:-0500
TZOFFSETTO:-0600
TZNAME:CST
DTSTART:20251102T070000
END:STANDARD
BEGIN:DAYLIGHT
TZOFFSETFROM:-0600
TZOFFSETTO:-0500
TZNAME:CDT
DTSTART:20260308T080000
END:DAYLIGHT
BEGIN:STANDARD
TZOFFSETFROM:-0500
TZOFFSETTO:-0600
TZNAME:CST
DTSTART:20261101T070000
END:STANDARD
END:VTIMEZONE
BEGIN:VEVENT
DTSTART;TZID=America/Chicago:20251123T080000
DTEND;TZID=America/Chicago:20251123T090000
DTSTAMP:20260422T005259
CREATED:20240726T201255Z
LAST-MODIFIED:20250721T203538Z
UID:10010029-1763884800-1763888400@www.faithlc.com
SUMMARY:First Word Worship Service
DESCRIPTION:This is a traditional worship service in the sanctuary using the Lutheran Book of Worship. Holy Communion is celebrated on the first and second Sunday of each month as well as on some of the major church holy days.
URL:https://www.faithlc.com/event/first-word-worship-service/2025-11-23/
LOCATION:Sanctuary\, 335 Main Street S.\, Hutchinson\, 55350
CATEGORIES:Worship Times
ATTACH;FMTTYPE=image/jpeg:https://www.faithlc.com/wp-content/uploads/2013/06/sanctuary_empty.jpg
GEO:44.8884443;-94.3691943
X-APPLE-STRUCTURED-LOCATION;VALUE=URI;X-ADDRESS=Sanctuary 335 Main Street S. Hutchinson 55350;X-APPLE-RADIUS=500;X-TITLE=335 Main Street S.:geo:-94.3691943,44.8884443
END:VEVENT
BEGIN:VEVENT
DTSTART;TZID=America/Chicago:20251123T101000
DTEND;TZID=America/Chicago:20251123T111000
DTSTAMP:20260422T005259
CREATED:20250721T213002Z
LAST-MODIFIED:20250721T214237Z
UID:10010367-1763892600-1763896200@www.faithlc.com
SUMMARY:Sanctuary Service and Foundation Service
DESCRIPTION:Simultaneous services\, a contemporary service in the Foundation and a blended service in the Sanctuary at the same time.Holy Communion is celebrated in the Sanctuary the 1st and 2nd Sunday of each month and in the Foundation on the 3rd and 4th Sunday’s.
URL:https://www.faithlc.com/event/sanctuary-service-and-foundation-service/2025-11-23/
CATEGORIES:Worship Times
ATTACH;FMTTYPE=image/jpeg:https://www.faithlc.com/wp-content/uploads/2024/09/Worship-1-scaled.jpg
END:VEVENT
BEGIN:VEVENT
DTSTART;TZID=America/Chicago:20251126T070000
DTEND;TZID=America/Chicago:20251126T073000
DTSTAMP:20260422T005259
CREATED:20250625T202847Z
LAST-MODIFIED:20250625T202849Z
UID:10007985-1764140400-1764142200@www.faithlc.com
SUMMARY:Morning Prayer
DESCRIPTION:A time to gether for prayer. You are invited to join the leading pastor in the sanctuary or tune in via Facebook live to participate.
URL:https://www.faithlc.com/event/morning-prayer-2/2025-11-26/
CATEGORIES:Worship Times
ATTACH;FMTTYPE=image/png:https://www.faithlc.com/wp-content/uploads/2023/01/Matins-praying-hands.png
END:VEVENT
BEGIN:VEVENT
DTSTART;TZID=America/Chicago:20251126T183000
DTEND;TZID=America/Chicago:20251126T193000
DTSTAMP:20260422T005259
CREATED:20251106T220246Z
LAST-MODIFIED:20251106T220247Z
UID:10011371-1764181800-1764185400@www.faithlc.com
SUMMARY:Thanksgiving Eve worship service with Holy Communion
DESCRIPTION:
URL:https://www.faithlc.com/event/thanksgiving-eve-worship-service-with-holy-communion/
CATEGORIES:Worship Times
ATTACH;FMTTYPE=image/jpeg:https://www.faithlc.com/wp-content/uploads/2015/11/017-HIGH-RESOLUTION-e1636663858731.jpg
END:VEVENT
BEGIN:VEVENT
DTSTART;TZID=America/Chicago:20251127T100000
DTEND;TZID=America/Chicago:20251127T110000
DTSTAMP:20260422T005259
CREATED:20251106T220355Z
LAST-MODIFIED:20251106T220356Z
UID:10011372-1764237600-1764241200@www.faithlc.com
SUMMARY:Thanksgiving Day worship service with Holy Communion
DESCRIPTION:
URL:https://www.faithlc.com/event/thanksgiving-day-worship-service-with-holy-communion/
CATEGORIES:Worship Times
ATTACH;FMTTYPE=image/jpeg:https://www.faithlc.com/wp-content/uploads/2015/10/Thanksgiving2015-e1448381398231.jpg
END:VEVENT
END:VCALENDAR