BEGIN:VCALENDAR
VERSION:2.0
PRODID:-//Faith Lutheran Church - ECPv6.15.20//NONSGML v1.0//EN
CALSCALE:GREGORIAN
METHOD:PUBLISH
X-ORIGINAL-URL:https://www.faithlc.com
X-WR-CALDESC:Events for Faith Lutheran Church
REFRESH-INTERVAL;VALUE=DURATION:PT1H
X-Robots-Tag:noindex
X-PUBLISHED-TTL:PT1H
BEGIN:VTIMEZONE
TZID:America/Chicago
BEGIN:DAYLIGHT
TZOFFSETFROM:-0600
TZOFFSETTO:-0500
TZNAME:CDT
DTSTART:20250309T080000
END:DAYLIGHT
BEGIN:STANDARD
TZOFFSETFROM:-0500
TZOFFSETTO:-0600
TZNAME:CST
DTSTART:20251102T070000
END:STANDARD
BEGIN:DAYLIGHT
TZOFFSETFROM:-0600
TZOFFSETTO:-0500
TZNAME:CDT
DTSTART:20260308T080000
END:DAYLIGHT
BEGIN:STANDARD
TZOFFSETFROM:-0500
TZOFFSETTO:-0600
TZNAME:CST
DTSTART:20261101T070000
END:STANDARD
BEGIN:DAYLIGHT
TZOFFSETFROM:-0600
TZOFFSETTO:-0500
TZNAME:CDT
DTSTART:20270314T080000
END:DAYLIGHT
BEGIN:STANDARD
TZOFFSETFROM:-0500
TZOFFSETTO:-0600
TZNAME:CST
DTSTART:20271107T070000
END:STANDARD
BEGIN:DAYLIGHT
TZOFFSETFROM:-0600
TZOFFSETTO:-0500
TZNAME:CDT
DTSTART:20280312T080000
END:DAYLIGHT
BEGIN:STANDARD
TZOFFSETFROM:-0500
TZOFFSETTO:-0600
TZNAME:CST
DTSTART:20281105T070000
END:STANDARD
END:VTIMEZONE
BEGIN:VEVENT
DTSTART;TZID=America/Chicago:20260909T190000
DTEND;TZID=America/Chicago:20260909T213000
DTSTAMP:20260422T165002
CREATED:20240726T211826Z
LAST-MODIFIED:20241216T213057Z
UID:10004343-1788980400-1788989400@www.faithlc.com
SUMMARY:FLY (Faith Lutheran Youth) Night
DESCRIPTION:Wednesday nights beginning at 7 p.m. in the Youth Space at Faith Lutheran Church. We dig into the Bible\, play games\, and grow in comunity together. Completed 8th grade through high school seniors welcome!
URL:https://www.faithlc.com/event/fly-faith-lutheran-youth-night/2026-09-09/
LOCATION:Youth Space
CATEGORIES:Youth
ATTACH;FMTTYPE=image/gif:https://www.faithlc.com/wp-content/uploads/2013/08/FLYouth.gif
ORGANIZER;CN="Kristen Durst":MAILTO:kristenm@faithlc.com
END:VEVENT
BEGIN:VEVENT
DTSTART;TZID=America/Chicago:20260916T190000
DTEND;TZID=America/Chicago:20260916T213000
DTSTAMP:20260422T165002
CREATED:20240726T211826Z
LAST-MODIFIED:20241216T213057Z
UID:10004344-1789585200-1789594200@www.faithlc.com
SUMMARY:FLY (Faith Lutheran Youth) Night
DESCRIPTION:Wednesday nights beginning at 7 p.m. in the Youth Space at Faith Lutheran Church. We dig into the Bible\, play games\, and grow in comunity together. Completed 8th grade through high school seniors welcome!
URL:https://www.faithlc.com/event/fly-faith-lutheran-youth-night/2026-09-16/
LOCATION:Youth Space
CATEGORIES:Youth
ATTACH;FMTTYPE=image/gif:https://www.faithlc.com/wp-content/uploads/2013/08/FLYouth.gif
ORGANIZER;CN="Kristen Durst":MAILTO:kristenm@faithlc.com
END:VEVENT
BEGIN:VEVENT
DTSTART;TZID=America/Chicago:20260923T190000
DTEND;TZID=America/Chicago:20260923T213000
DTSTAMP:20260422T165002
CREATED:20240726T211826Z
LAST-MODIFIED:20241216T213057Z
UID:10004345-1790190000-1790199000@www.faithlc.com
SUMMARY:FLY (Faith Lutheran Youth) Night
DESCRIPTION:Wednesday nights beginning at 7 p.m. in the Youth Space at Faith Lutheran Church. We dig into the Bible\, play games\, and grow in comunity together. Completed 8th grade through high school seniors welcome!
URL:https://www.faithlc.com/event/fly-faith-lutheran-youth-night/2026-09-23/
LOCATION:Youth Space
CATEGORIES:Youth
ATTACH;FMTTYPE=image/gif:https://www.faithlc.com/wp-content/uploads/2013/08/FLYouth.gif
ORGANIZER;CN="Kristen Durst":MAILTO:kristenm@faithlc.com
END:VEVENT
BEGIN:VEVENT
DTSTART;TZID=America/Chicago:20260930T190000
DTEND;TZID=America/Chicago:20260930T213000
DTSTAMP:20260422T165002
CREATED:20240726T211826Z
LAST-MODIFIED:20241216T213057Z
UID:10004346-1790794800-1790803800@www.faithlc.com
SUMMARY:FLY (Faith Lutheran Youth) Night
DESCRIPTION:Wednesday nights beginning at 7 p.m. in the Youth Space at Faith Lutheran Church. We dig into the Bible\, play games\, and grow in comunity together. Completed 8th grade through high school seniors welcome!
URL:https://www.faithlc.com/event/fly-faith-lutheran-youth-night/2026-09-30/
LOCATION:Youth Space
CATEGORIES:Youth
ATTACH;FMTTYPE=image/gif:https://www.faithlc.com/wp-content/uploads/2013/08/FLYouth.gif
ORGANIZER;CN="Kristen Durst":MAILTO:kristenm@faithlc.com
END:VEVENT
BEGIN:VEVENT
DTSTART;TZID=America/Chicago:20261007T190000
DTEND;TZID=America/Chicago:20261007T213000
DTSTAMP:20260422T165002
CREATED:20240726T211826Z
LAST-MODIFIED:20241216T213057Z
UID:10004347-1791399600-1791408600@www.faithlc.com
SUMMARY:FLY (Faith Lutheran Youth) Night
DESCRIPTION:Wednesday nights beginning at 7 p.m. in the Youth Space at Faith Lutheran Church. We dig into the Bible\, play games\, and grow in comunity together. Completed 8th grade through high school seniors welcome!
URL:https://www.faithlc.com/event/fly-faith-lutheran-youth-night/2026-10-07/
LOCATION:Youth Space
CATEGORIES:Youth
ATTACH;FMTTYPE=image/gif:https://www.faithlc.com/wp-content/uploads/2013/08/FLYouth.gif
ORGANIZER;CN="Kristen Durst":MAILTO:kristenm@faithlc.com
END:VEVENT
BEGIN:VEVENT
DTSTART;TZID=America/Chicago:20261014T190000
DTEND;TZID=America/Chicago:20261014T213000
DTSTAMP:20260422T165002
CREATED:20240726T211826Z
LAST-MODIFIED:20241216T213057Z
UID:10004348-1792004400-1792013400@www.faithlc.com
SUMMARY:FLY (Faith Lutheran Youth) Night
DESCRIPTION:Wednesday nights beginning at 7 p.m. in the Youth Space at Faith Lutheran Church. We dig into the Bible\, play games\, and grow in comunity together. Completed 8th grade through high school seniors welcome!
URL:https://www.faithlc.com/event/fly-faith-lutheran-youth-night/2026-10-14/
LOCATION:Youth Space
CATEGORIES:Youth
ATTACH;FMTTYPE=image/gif:https://www.faithlc.com/wp-content/uploads/2013/08/FLYouth.gif
ORGANIZER;CN="Kristen Durst":MAILTO:kristenm@faithlc.com
END:VEVENT
BEGIN:VEVENT
DTSTART;TZID=America/Chicago:20261021T190000
DTEND;TZID=America/Chicago:20261021T213000
DTSTAMP:20260422T165002
CREATED:20240726T211826Z
LAST-MODIFIED:20241216T213057Z
UID:10004349-1792609200-1792618200@www.faithlc.com
SUMMARY:FLY (Faith Lutheran Youth) Night
DESCRIPTION:Wednesday nights beginning at 7 p.m. in the Youth Space at Faith Lutheran Church. We dig into the Bible\, play games\, and grow in comunity together. Completed 8th grade through high school seniors welcome!
URL:https://www.faithlc.com/event/fly-faith-lutheran-youth-night/2026-10-21/
LOCATION:Youth Space
CATEGORIES:Youth
ATTACH;FMTTYPE=image/gif:https://www.faithlc.com/wp-content/uploads/2013/08/FLYouth.gif
ORGANIZER;CN="Kristen Durst":MAILTO:kristenm@faithlc.com
END:VEVENT
BEGIN:VEVENT
DTSTART;TZID=America/Chicago:20261028T190000
DTEND;TZID=America/Chicago:20261028T213000
DTSTAMP:20260422T165002
CREATED:20240726T211826Z
LAST-MODIFIED:20241216T213057Z
UID:10004350-1793214000-1793223000@www.faithlc.com
SUMMARY:FLY (Faith Lutheran Youth) Night
DESCRIPTION:Wednesday nights beginning at 7 p.m. in the Youth Space at Faith Lutheran Church. We dig into the Bible\, play games\, and grow in comunity together. Completed 8th grade through high school seniors welcome!
URL:https://www.faithlc.com/event/fly-faith-lutheran-youth-night/2026-10-28/
LOCATION:Youth Space
CATEGORIES:Youth
ATTACH;FMTTYPE=image/gif:https://www.faithlc.com/wp-content/uploads/2013/08/FLYouth.gif
ORGANIZER;CN="Kristen Durst":MAILTO:kristenm@faithlc.com
END:VEVENT
BEGIN:VEVENT
DTSTART;TZID=America/Chicago:20261104T190000
DTEND;TZID=America/Chicago:20261104T213000
DTSTAMP:20260422T165002
CREATED:20240726T211826Z
LAST-MODIFIED:20241216T213057Z
UID:10004351-1793818800-1793827800@www.faithlc.com
SUMMARY:FLY (Faith Lutheran Youth) Night
DESCRIPTION:Wednesday nights beginning at 7 p.m. in the Youth Space at Faith Lutheran Church. We dig into the Bible\, play games\, and grow in comunity together. Completed 8th grade through high school seniors welcome!
URL:https://www.faithlc.com/event/fly-faith-lutheran-youth-night/2026-11-04/
LOCATION:Youth Space
CATEGORIES:Youth
ATTACH;FMTTYPE=image/gif:https://www.faithlc.com/wp-content/uploads/2013/08/FLYouth.gif
ORGANIZER;CN="Kristen Durst":MAILTO:kristenm@faithlc.com
END:VEVENT
BEGIN:VEVENT
DTSTART;TZID=America/Chicago:20261111T190000
DTEND;TZID=America/Chicago:20261111T213000
DTSTAMP:20260422T165002
CREATED:20240726T211826Z
LAST-MODIFIED:20241216T213057Z
UID:10004352-1794423600-1794432600@www.faithlc.com
SUMMARY:FLY (Faith Lutheran Youth) Night
DESCRIPTION:Wednesday nights beginning at 7 p.m. in the Youth Space at Faith Lutheran Church. We dig into the Bible\, play games\, and grow in comunity together. Completed 8th grade through high school seniors welcome!
URL:https://www.faithlc.com/event/fly-faith-lutheran-youth-night/2026-11-11/
LOCATION:Youth Space
CATEGORIES:Youth
ATTACH;FMTTYPE=image/gif:https://www.faithlc.com/wp-content/uploads/2013/08/FLYouth.gif
ORGANIZER;CN="Kristen Durst":MAILTO:kristenm@faithlc.com
END:VEVENT
BEGIN:VEVENT
DTSTART;TZID=America/Chicago:20261118T190000
DTEND;TZID=America/Chicago:20261118T213000
DTSTAMP:20260422T165002
CREATED:20240726T211826Z
LAST-MODIFIED:20241216T213057Z
UID:10004353-1795028400-1795037400@www.faithlc.com
SUMMARY:FLY (Faith Lutheran Youth) Night
DESCRIPTION:Wednesday nights beginning at 7 p.m. in the Youth Space at Faith Lutheran Church. We dig into the Bible\, play games\, and grow in comunity together. Completed 8th grade through high school seniors welcome!
URL:https://www.faithlc.com/event/fly-faith-lutheran-youth-night/2026-11-18/
LOCATION:Youth Space
CATEGORIES:Youth
ATTACH;FMTTYPE=image/gif:https://www.faithlc.com/wp-content/uploads/2013/08/FLYouth.gif
ORGANIZER;CN="Kristen Durst":MAILTO:kristenm@faithlc.com
END:VEVENT
BEGIN:VEVENT
DTSTART;TZID=America/Chicago:20261125T190000
DTEND;TZID=America/Chicago:20261125T213000
DTSTAMP:20260422T165002
CREATED:20240726T211826Z
LAST-MODIFIED:20241216T213057Z
UID:10004354-1795633200-1795642200@www.faithlc.com
SUMMARY:FLY (Faith Lutheran Youth) Night
DESCRIPTION:Wednesday nights beginning at 7 p.m. in the Youth Space at Faith Lutheran Church. We dig into the Bible\, play games\, and grow in comunity together. Completed 8th grade through high school seniors welcome!
URL:https://www.faithlc.com/event/fly-faith-lutheran-youth-night/2026-11-25/
LOCATION:Youth Space
CATEGORIES:Youth
ATTACH;FMTTYPE=image/gif:https://www.faithlc.com/wp-content/uploads/2013/08/FLYouth.gif
ORGANIZER;CN="Kristen Durst":MAILTO:kristenm@faithlc.com
END:VEVENT
BEGIN:VEVENT
DTSTART;TZID=America/Chicago:20261202T190000
DTEND;TZID=America/Chicago:20261202T213000
DTSTAMP:20260422T165002
CREATED:20240726T211826Z
LAST-MODIFIED:20241216T213057Z
UID:10004355-1796238000-1796247000@www.faithlc.com
SUMMARY:FLY (Faith Lutheran Youth) Night
DESCRIPTION:Wednesday nights beginning at 7 p.m. in the Youth Space at Faith Lutheran Church. We dig into the Bible\, play games\, and grow in comunity together. Completed 8th grade through high school seniors welcome!
URL:https://www.faithlc.com/event/fly-faith-lutheran-youth-night/2026-12-02/
LOCATION:Youth Space
CATEGORIES:Youth
ATTACH;FMTTYPE=image/gif:https://www.faithlc.com/wp-content/uploads/2013/08/FLYouth.gif
ORGANIZER;CN="Kristen Durst":MAILTO:kristenm@faithlc.com
END:VEVENT
BEGIN:VEVENT
DTSTART;TZID=America/Chicago:20261209T190000
DTEND;TZID=America/Chicago:20261209T213000
DTSTAMP:20260422T165002
CREATED:20240726T211826Z
LAST-MODIFIED:20241216T213057Z
UID:10004356-1796842800-1796851800@www.faithlc.com
SUMMARY:FLY (Faith Lutheran Youth) Night
DESCRIPTION:Wednesday nights beginning at 7 p.m. in the Youth Space at Faith Lutheran Church. We dig into the Bible\, play games\, and grow in comunity together. Completed 8th grade through high school seniors welcome!
URL:https://www.faithlc.com/event/fly-faith-lutheran-youth-night/2026-12-09/
LOCATION:Youth Space
CATEGORIES:Youth
ATTACH;FMTTYPE=image/gif:https://www.faithlc.com/wp-content/uploads/2013/08/FLYouth.gif
ORGANIZER;CN="Kristen Durst":MAILTO:kristenm@faithlc.com
END:VEVENT
BEGIN:VEVENT
DTSTART;TZID=America/Chicago:20261216T190000
DTEND;TZID=America/Chicago:20261216T213000
DTSTAMP:20260422T165002
CREATED:20240726T211826Z
LAST-MODIFIED:20241216T213057Z
UID:10004357-1797447600-1797456600@www.faithlc.com
SUMMARY:FLY (Faith Lutheran Youth) Night
DESCRIPTION:Wednesday nights beginning at 7 p.m. in the Youth Space at Faith Lutheran Church. We dig into the Bible\, play games\, and grow in comunity together. Completed 8th grade through high school seniors welcome!
URL:https://www.faithlc.com/event/fly-faith-lutheran-youth-night/2026-12-16/
LOCATION:Youth Space
CATEGORIES:Youth
ATTACH;FMTTYPE=image/gif:https://www.faithlc.com/wp-content/uploads/2013/08/FLYouth.gif
ORGANIZER;CN="Kristen Durst":MAILTO:kristenm@faithlc.com
END:VEVENT
BEGIN:VEVENT
DTSTART;TZID=America/Chicago:20261223T190000
DTEND;TZID=America/Chicago:20261223T213000
DTSTAMP:20260422T165002
CREATED:20240726T211826Z
LAST-MODIFIED:20241216T213057Z
UID:10004358-1798052400-1798061400@www.faithlc.com
SUMMARY:FLY (Faith Lutheran Youth) Night
DESCRIPTION:Wednesday nights beginning at 7 p.m. in the Youth Space at Faith Lutheran Church. We dig into the Bible\, play games\, and grow in comunity together. Completed 8th grade through high school seniors welcome!
URL:https://www.faithlc.com/event/fly-faith-lutheran-youth-night/2026-12-23/
LOCATION:Youth Space
CATEGORIES:Youth
ATTACH;FMTTYPE=image/gif:https://www.faithlc.com/wp-content/uploads/2013/08/FLYouth.gif
ORGANIZER;CN="Kristen Durst":MAILTO:kristenm@faithlc.com
END:VEVENT
BEGIN:VEVENT
DTSTART;TZID=America/Chicago:20261230T190000
DTEND;TZID=America/Chicago:20261230T213000
DTSTAMP:20260422T165002
CREATED:20240726T211826Z
LAST-MODIFIED:20241216T213057Z
UID:10004359-1798657200-1798666200@www.faithlc.com
SUMMARY:FLY (Faith Lutheran Youth) Night
DESCRIPTION:Wednesday nights beginning at 7 p.m. in the Youth Space at Faith Lutheran Church. We dig into the Bible\, play games\, and grow in comunity together. Completed 8th grade through high school seniors welcome!
URL:https://www.faithlc.com/event/fly-faith-lutheran-youth-night/2026-12-30/
LOCATION:Youth Space
CATEGORIES:Youth
ATTACH;FMTTYPE=image/gif:https://www.faithlc.com/wp-content/uploads/2013/08/FLYouth.gif
ORGANIZER;CN="Kristen Durst":MAILTO:kristenm@faithlc.com
END:VEVENT
BEGIN:VEVENT
DTSTART;TZID=America/Chicago:20270106T190000
DTEND;TZID=America/Chicago:20270106T213000
DTSTAMP:20260422T165002
CREATED:20240726T211826Z
LAST-MODIFIED:20241216T213057Z
UID:10004360-1799262000-1799271000@www.faithlc.com
SUMMARY:FLY (Faith Lutheran Youth) Night
DESCRIPTION:Wednesday nights beginning at 7 p.m. in the Youth Space at Faith Lutheran Church. We dig into the Bible\, play games\, and grow in comunity together. Completed 8th grade through high school seniors welcome!
URL:https://www.faithlc.com/event/fly-faith-lutheran-youth-night/2027-01-06/
LOCATION:Youth Space
CATEGORIES:Youth
ATTACH;FMTTYPE=image/gif:https://www.faithlc.com/wp-content/uploads/2013/08/FLYouth.gif
ORGANIZER;CN="Kristen Durst":MAILTO:kristenm@faithlc.com
END:VEVENT
BEGIN:VEVENT
DTSTART;TZID=America/Chicago:20270113T190000
DTEND;TZID=America/Chicago:20270113T213000
DTSTAMP:20260422T165002
CREATED:20240726T211826Z
LAST-MODIFIED:20241216T213057Z
UID:10004361-1799866800-1799875800@www.faithlc.com
SUMMARY:FLY (Faith Lutheran Youth) Night
DESCRIPTION:Wednesday nights beginning at 7 p.m. in the Youth Space at Faith Lutheran Church. We dig into the Bible\, play games\, and grow in comunity together. Completed 8th grade through high school seniors welcome!
URL:https://www.faithlc.com/event/fly-faith-lutheran-youth-night/2027-01-13/
LOCATION:Youth Space
CATEGORIES:Youth
ATTACH;FMTTYPE=image/gif:https://www.faithlc.com/wp-content/uploads/2013/08/FLYouth.gif
ORGANIZER;CN="Kristen Durst":MAILTO:kristenm@faithlc.com
END:VEVENT
BEGIN:VEVENT
DTSTART;TZID=America/Chicago:20270120T190000
DTEND;TZID=America/Chicago:20270120T213000
DTSTAMP:20260422T165002
CREATED:20240726T211826Z
LAST-MODIFIED:20241216T213057Z
UID:10004362-1800471600-1800480600@www.faithlc.com
SUMMARY:FLY (Faith Lutheran Youth) Night
DESCRIPTION:Wednesday nights beginning at 7 p.m. in the Youth Space at Faith Lutheran Church. We dig into the Bible\, play games\, and grow in comunity together. Completed 8th grade through high school seniors welcome!
URL:https://www.faithlc.com/event/fly-faith-lutheran-youth-night/2027-01-20/
LOCATION:Youth Space
CATEGORIES:Youth
ATTACH;FMTTYPE=image/gif:https://www.faithlc.com/wp-content/uploads/2013/08/FLYouth.gif
ORGANIZER;CN="Kristen Durst":MAILTO:kristenm@faithlc.com
END:VEVENT
BEGIN:VEVENT
DTSTART;TZID=America/Chicago:20270127T190000
DTEND;TZID=America/Chicago:20270127T213000
DTSTAMP:20260422T165002
CREATED:20240726T211826Z
LAST-MODIFIED:20241216T213057Z
UID:10004363-1801076400-1801085400@www.faithlc.com
SUMMARY:FLY (Faith Lutheran Youth) Night
DESCRIPTION:Wednesday nights beginning at 7 p.m. in the Youth Space at Faith Lutheran Church. We dig into the Bible\, play games\, and grow in comunity together. Completed 8th grade through high school seniors welcome!
URL:https://www.faithlc.com/event/fly-faith-lutheran-youth-night/2027-01-27/
LOCATION:Youth Space
CATEGORIES:Youth
ATTACH;FMTTYPE=image/gif:https://www.faithlc.com/wp-content/uploads/2013/08/FLYouth.gif
ORGANIZER;CN="Kristen Durst":MAILTO:kristenm@faithlc.com
END:VEVENT
BEGIN:VEVENT
DTSTART;TZID=America/Chicago:20270203T190000
DTEND;TZID=America/Chicago:20270203T213000
DTSTAMP:20260422T165002
CREATED:20240726T211826Z
LAST-MODIFIED:20241216T213057Z
UID:10004364-1801681200-1801690200@www.faithlc.com
SUMMARY:FLY (Faith Lutheran Youth) Night
DESCRIPTION:Wednesday nights beginning at 7 p.m. in the Youth Space at Faith Lutheran Church. We dig into the Bible\, play games\, and grow in comunity together. Completed 8th grade through high school seniors welcome!
URL:https://www.faithlc.com/event/fly-faith-lutheran-youth-night/2027-02-03/
LOCATION:Youth Space
CATEGORIES:Youth
ATTACH;FMTTYPE=image/gif:https://www.faithlc.com/wp-content/uploads/2013/08/FLYouth.gif
ORGANIZER;CN="Kristen Durst":MAILTO:kristenm@faithlc.com
END:VEVENT
BEGIN:VEVENT
DTSTART;TZID=America/Chicago:20270210T190000
DTEND;TZID=America/Chicago:20270210T213000
DTSTAMP:20260422T165002
CREATED:20240726T211826Z
LAST-MODIFIED:20241216T213057Z
UID:10004365-1802286000-1802295000@www.faithlc.com
SUMMARY:FLY (Faith Lutheran Youth) Night
DESCRIPTION:Wednesday nights beginning at 7 p.m. in the Youth Space at Faith Lutheran Church. We dig into the Bible\, play games\, and grow in comunity together. Completed 8th grade through high school seniors welcome!
URL:https://www.faithlc.com/event/fly-faith-lutheran-youth-night/2027-02-10/
LOCATION:Youth Space
CATEGORIES:Youth
ATTACH;FMTTYPE=image/gif:https://www.faithlc.com/wp-content/uploads/2013/08/FLYouth.gif
ORGANIZER;CN="Kristen Durst":MAILTO:kristenm@faithlc.com
END:VEVENT
BEGIN:VEVENT
DTSTART;TZID=America/Chicago:20270217T190000
DTEND;TZID=America/Chicago:20270217T213000
DTSTAMP:20260422T165002
CREATED:20240726T211826Z
LAST-MODIFIED:20241216T213057Z
UID:10004366-1802890800-1802899800@www.faithlc.com
SUMMARY:FLY (Faith Lutheran Youth) Night
DESCRIPTION:Wednesday nights beginning at 7 p.m. in the Youth Space at Faith Lutheran Church. We dig into the Bible\, play games\, and grow in comunity together. Completed 8th grade through high school seniors welcome!
URL:https://www.faithlc.com/event/fly-faith-lutheran-youth-night/2027-02-17/
LOCATION:Youth Space
CATEGORIES:Youth
ATTACH;FMTTYPE=image/gif:https://www.faithlc.com/wp-content/uploads/2013/08/FLYouth.gif
ORGANIZER;CN="Kristen Durst":MAILTO:kristenm@faithlc.com
END:VEVENT
BEGIN:VEVENT
DTSTART;TZID=America/Chicago:20270224T190000
DTEND;TZID=America/Chicago:20270224T213000
DTSTAMP:20260422T165002
CREATED:20240726T211826Z
LAST-MODIFIED:20241216T213057Z
UID:10004367-1803495600-1803504600@www.faithlc.com
SUMMARY:FLY (Faith Lutheran Youth) Night
DESCRIPTION:Wednesday nights beginning at 7 p.m. in the Youth Space at Faith Lutheran Church. We dig into the Bible\, play games\, and grow in comunity together. Completed 8th grade through high school seniors welcome!
URL:https://www.faithlc.com/event/fly-faith-lutheran-youth-night/2027-02-24/
LOCATION:Youth Space
CATEGORIES:Youth
ATTACH;FMTTYPE=image/gif:https://www.faithlc.com/wp-content/uploads/2013/08/FLYouth.gif
ORGANIZER;CN="Kristen Durst":MAILTO:kristenm@faithlc.com
END:VEVENT
BEGIN:VEVENT
DTSTART;TZID=America/Chicago:20270303T190000
DTEND;TZID=America/Chicago:20270303T213000
DTSTAMP:20260422T165002
CREATED:20240726T211826Z
LAST-MODIFIED:20241216T213057Z
UID:10004368-1804100400-1804109400@www.faithlc.com
SUMMARY:FLY (Faith Lutheran Youth) Night
DESCRIPTION:Wednesday nights beginning at 7 p.m. in the Youth Space at Faith Lutheran Church. We dig into the Bible\, play games\, and grow in comunity together. Completed 8th grade through high school seniors welcome!
URL:https://www.faithlc.com/event/fly-faith-lutheran-youth-night/2027-03-03/
LOCATION:Youth Space
CATEGORIES:Youth
ATTACH;FMTTYPE=image/gif:https://www.faithlc.com/wp-content/uploads/2013/08/FLYouth.gif
ORGANIZER;CN="Kristen Durst":MAILTO:kristenm@faithlc.com
END:VEVENT
BEGIN:VEVENT
DTSTART;TZID=America/Chicago:20270310T190000
DTEND;TZID=America/Chicago:20270310T213000
DTSTAMP:20260422T165002
CREATED:20240726T211826Z
LAST-MODIFIED:20241216T213057Z
UID:10004369-1804705200-1804714200@www.faithlc.com
SUMMARY:FLY (Faith Lutheran Youth) Night
DESCRIPTION:Wednesday nights beginning at 7 p.m. in the Youth Space at Faith Lutheran Church. We dig into the Bible\, play games\, and grow in comunity together. Completed 8th grade through high school seniors welcome!
URL:https://www.faithlc.com/event/fly-faith-lutheran-youth-night/2027-03-10/
LOCATION:Youth Space
CATEGORIES:Youth
ATTACH;FMTTYPE=image/gif:https://www.faithlc.com/wp-content/uploads/2013/08/FLYouth.gif
ORGANIZER;CN="Kristen Durst":MAILTO:kristenm@faithlc.com
END:VEVENT
BEGIN:VEVENT
DTSTART;TZID=America/Chicago:20270317T190000
DTEND;TZID=America/Chicago:20270317T213000
DTSTAMP:20260422T165002
CREATED:20240726T211826Z
LAST-MODIFIED:20241216T213057Z
UID:10004370-1805310000-1805319000@www.faithlc.com
SUMMARY:FLY (Faith Lutheran Youth) Night
DESCRIPTION:Wednesday nights beginning at 7 p.m. in the Youth Space at Faith Lutheran Church. We dig into the Bible\, play games\, and grow in comunity together. Completed 8th grade through high school seniors welcome!
URL:https://www.faithlc.com/event/fly-faith-lutheran-youth-night/2027-03-17/
LOCATION:Youth Space
CATEGORIES:Youth
ATTACH;FMTTYPE=image/gif:https://www.faithlc.com/wp-content/uploads/2013/08/FLYouth.gif
ORGANIZER;CN="Kristen Durst":MAILTO:kristenm@faithlc.com
END:VEVENT
BEGIN:VEVENT
DTSTART;TZID=America/Chicago:20270324T190000
DTEND;TZID=America/Chicago:20270324T213000
DTSTAMP:20260422T165002
CREATED:20240726T211826Z
LAST-MODIFIED:20241216T213057Z
UID:10004371-1805914800-1805923800@www.faithlc.com
SUMMARY:FLY (Faith Lutheran Youth) Night
DESCRIPTION:Wednesday nights beginning at 7 p.m. in the Youth Space at Faith Lutheran Church. We dig into the Bible\, play games\, and grow in comunity together. Completed 8th grade through high school seniors welcome!
URL:https://www.faithlc.com/event/fly-faith-lutheran-youth-night/2027-03-24/
LOCATION:Youth Space
CATEGORIES:Youth
ATTACH;FMTTYPE=image/gif:https://www.faithlc.com/wp-content/uploads/2013/08/FLYouth.gif
ORGANIZER;CN="Kristen Durst":MAILTO:kristenm@faithlc.com
END:VEVENT
BEGIN:VEVENT
DTSTART;TZID=America/Chicago:20270331T190000
DTEND;TZID=America/Chicago:20270331T213000
DTSTAMP:20260422T165002
CREATED:20240726T211826Z
LAST-MODIFIED:20241216T213057Z
UID:10004372-1806519600-1806528600@www.faithlc.com
SUMMARY:FLY (Faith Lutheran Youth) Night
DESCRIPTION:Wednesday nights beginning at 7 p.m. in the Youth Space at Faith Lutheran Church. We dig into the Bible\, play games\, and grow in comunity together. Completed 8th grade through high school seniors welcome!
URL:https://www.faithlc.com/event/fly-faith-lutheran-youth-night/2027-03-31/
LOCATION:Youth Space
CATEGORIES:Youth
ATTACH;FMTTYPE=image/gif:https://www.faithlc.com/wp-content/uploads/2013/08/FLYouth.gif
ORGANIZER;CN="Kristen Durst":MAILTO:kristenm@faithlc.com
END:VEVENT
END:VCALENDAR