BEGIN:VCALENDAR
VERSION:2.0
PRODID:-//Faith Lutheran Church - ECPv6.15.20//NONSGML v1.0//EN
CALSCALE:GREGORIAN
METHOD:PUBLISH
X-ORIGINAL-URL:https://www.faithlc.com
X-WR-CALDESC:Events for Faith Lutheran Church
REFRESH-INTERVAL;VALUE=DURATION:PT1H
X-Robots-Tag:noindex
X-PUBLISHED-TTL:PT1H
BEGIN:VTIMEZONE
TZID:America/Chicago
BEGIN:DAYLIGHT
TZOFFSETFROM:-0600
TZOFFSETTO:-0500
TZNAME:CDT
DTSTART:20250309T080000
END:DAYLIGHT
BEGIN:STANDARD
TZOFFSETFROM:-0500
TZOFFSETTO:-0600
TZNAME:CST
DTSTART:20251102T070000
END:STANDARD
BEGIN:DAYLIGHT
TZOFFSETFROM:-0600
TZOFFSETTO:-0500
TZNAME:CDT
DTSTART:20260308T080000
END:DAYLIGHT
BEGIN:STANDARD
TZOFFSETFROM:-0500
TZOFFSETTO:-0600
TZNAME:CST
DTSTART:20261101T070000
END:STANDARD
BEGIN:DAYLIGHT
TZOFFSETFROM:-0600
TZOFFSETTO:-0500
TZNAME:CDT
DTSTART:20270314T080000
END:DAYLIGHT
BEGIN:STANDARD
TZOFFSETFROM:-0500
TZOFFSETTO:-0600
TZNAME:CST
DTSTART:20271107T070000
END:STANDARD
END:VTIMEZONE
BEGIN:VEVENT
DTSTART;TZID=America/Chicago:20260616T140000
DTEND;TZID=America/Chicago:20260616T143000
DTSTAMP:20260423T002102
CREATED:20240930T180117Z
LAST-MODIFIED:20260102T210240Z
UID:10011713-1781618400-1781620200@www.faithlc.com
SUMMARY:Communion at Harmony River
DESCRIPTION:
URL:https://www.faithlc.com/event/communion-at-harmony-river/2026-06-16/
LOCATION:Minnesota
ATTACH;FMTTYPE=image/bmp:https://www.faithlc.com/wp-content/uploads/2018/03/Communion.bmp
END:VEVENT
BEGIN:VEVENT
DTSTART;TZID=America/Chicago:20260616T150000
DTEND;TZID=America/Chicago:20260616T160000
DTSTAMP:20260423T002102
CREATED:20241216T211604Z
LAST-MODIFIED:20241216T211605Z
UID:10005971-1781622000-1781625600@www.faithlc.com
SUMMARY:Worship Planning Meeting
DESCRIPTION:A weekly meeting of staff to plan for the next Sunday’s worship services.
URL:https://www.faithlc.com/event/worship-planning-meeting-3/2026-06-16/
LOCATION:Minnesota
CATEGORIES:Staff
END:VEVENT
BEGIN:VEVENT
DTSTART;TZID=America/Chicago:20260616T170000
DTEND;TZID=America/Chicago:20260616T180000
DTSTAMP:20260423T002102
CREATED:20240726T210227Z
LAST-MODIFIED:20240726T210231Z
UID:10003498-1781629200-1781632800@www.faithlc.com
SUMMARY:Pre-Recorded TV Broadcast
DESCRIPTION:Pre-recorded service from the past Sunday (rotating between Sanctuary and Foundation Services: Nuvera Ch. 10\, Mediacom Ch. 8
URL:https://www.faithlc.com/event/pre-recorded-tv-broadcast/2026-06-16/
LOCATION:Minnesota
CATEGORIES:TV Broadcast
ATTACH;FMTTYPE=image/jpeg:https://www.faithlc.com/wp-content/uploads/2021/05/HCVN.jpg
END:VEVENT
BEGIN:VEVENT
DTSTART;TZID=America/Chicago:20260616T180000
DTEND;TZID=America/Chicago:20260616T193000
DTSTAMP:20260423T002102
CREATED:20250107T181925Z
LAST-MODIFIED:20260102T193522Z
UID:10005170-1781632800-1781638200@www.faithlc.com
SUMMARY:Ministry Team Meetings
DESCRIPTION:The Faith Lutheran Church Ministry Teams are elected each year at the January Annual Meeting. They assist the staff and council in leadership roles throughout the year. Teams meet one Tuesday a month before the church council meeting.
URL:https://www.faithlc.com/event/ministry-team-meetings-2/2026-06-16/
LOCATION:Minnesota
CATEGORIES:Miscellaneous
END:VEVENT
BEGIN:VEVENT
DTSTART;TZID=America/Chicago:20260616T193000
DTEND;TZID=America/Chicago:20260616T210000
DTSTAMP:20260423T002102
CREATED:20250107T182001Z
LAST-MODIFIED:20260102T193431Z
UID:10005230-1781638200-1781643600@www.faithlc.com
SUMMARY:Church Council
DESCRIPTION:The Church Council members are elected at the January Congregational Annual Meeting.  Each Council member is also on a ministry team. They\, along with staff\, meet after the ministry team meetings each month. In January the council meets a week early in order to prepare for the annual meeting.
URL:https://www.faithlc.com/event/church-council-2/2026-06-16/
LOCATION:Minnesota
CATEGORIES:Miscellaneous
ATTACH;FMTTYPE=image/jpeg:https://www.faithlc.com/wp-content/uploads/2019/12/Church-council.jpg
END:VEVENT
BEGIN:VEVENT
DTSTART;TZID=America/Chicago:20260617T070000
DTEND;TZID=America/Chicago:20260617T073000
DTSTAMP:20260423T002102
CREATED:20250625T202847Z
LAST-MODIFIED:20250625T202849Z
UID:10008014-1781679600-1781681400@www.faithlc.com
SUMMARY:Morning Prayer
DESCRIPTION:A time to gether for prayer. You are invited to join the leading pastor in the sanctuary or tune in via Facebook live to participate.
URL:https://www.faithlc.com/event/morning-prayer-2/2026-06-17/
LOCATION:Minnesota
CATEGORIES:Worship Times
ATTACH;FMTTYPE=image/png:https://www.faithlc.com/wp-content/uploads/2023/01/Matins-praying-hands.png
END:VEVENT
BEGIN:VEVENT
DTSTART;TZID=America/Chicago:20260617T090000
DTEND;TZID=America/Chicago:20260617T093000
DTSTAMP:20260423T002102
CREATED:20260226T205456Z
LAST-MODIFIED:20260226T205458Z
UID:10012050-1781686800-1781688600@www.faithlc.com
SUMMARY:Matins
DESCRIPTION:Join the Faith staff in person in the sanctuary\, or via Facebook Tuesday – Thursday at 9 a.m. for a morning matins service.Tuesday and Thursday will be two readings and a brief homily.Wednesdays format is a musical version of matins.
URL:https://www.faithlc.com/event/matins/2026-06-17/
LOCATION:Minnesota
CATEGORIES:Worship Times
ATTACH;FMTTYPE=image/png:https://www.faithlc.com/wp-content/uploads/2026/02/Matins-Logo.png
END:VEVENT
BEGIN:VEVENT
DTSTART;TZID=America/Chicago:20260617T103000
DTEND;TZID=America/Chicago:20260617T113000
DTSTAMP:20260423T002102
CREATED:20250311T160213Z
LAST-MODIFIED:20250311T160215Z
UID:10007332-1781692200-1781695800@www.faithlc.com
SUMMARY:Weekly Staff Meeting
DESCRIPTION:The Faith Lutheran staff gathers weekly for a time of devotion\, support\, and planning.
URL:https://www.faithlc.com/event/weekly-staff-meeting-2/2026-06-17/
LOCATION:Minnesota
CATEGORIES:Staff
END:VEVENT
BEGIN:VEVENT
DTSTART;TZID=America/Chicago:20260617T113000
DTEND;TZID=America/Chicago:20260617T121500
DTSTAMP:20260423T002102
CREATED:20250311T160257Z
LAST-MODIFIED:20250311T160259Z
UID:10007592-1781695800-1781698500@www.faithlc.com
SUMMARY:Pastoral Care Team Meeting
DESCRIPTION:The Pastoral Care (PC) Team meets weekly to review the needs of members who are homebound\, hospitalized\, etc.
URL:https://www.faithlc.com/event/pastoral-care-team-meeting-2/2026-06-17/
LOCATION:Minnesota
CATEGORIES:Staff
END:VEVENT
BEGIN:VEVENT
DTSTART;TZID=America/Chicago:20260617T190000
DTEND;TZID=America/Chicago:20260617T213000
DTSTAMP:20260423T002102
CREATED:20240726T211826Z
LAST-MODIFIED:20241216T213057Z
UID:10004331-1781722800-1781731800@www.faithlc.com
SUMMARY:FLY (Faith Lutheran Youth) Night
DESCRIPTION:Wednesday nights beginning at 7 p.m. in the Youth Space at Faith Lutheran Church. We dig into the Bible\, play games\, and grow in comunity together. Completed 8th grade through high school seniors welcome!
URL:https://www.faithlc.com/event/fly-faith-lutheran-youth-night/2026-06-17/
LOCATION:Youth Space
CATEGORIES:Youth
ATTACH;FMTTYPE=image/gif:https://www.faithlc.com/wp-content/uploads/2013/08/FLYouth.gif
ORGANIZER;CN="Kristen Durst":MAILTO:kristenm@faithlc.com
END:VEVENT
BEGIN:VEVENT
DTSTART;TZID=America/Chicago:20260618T063000
DTEND;TZID=America/Chicago:20260618T073000
DTSTAMP:20260423T002102
CREATED:20250625T203013Z
LAST-MODIFIED:20251106T220823Z
UID:10008272-1781764200-1781767800@www.faithlc.com
SUMMARY:Men's Bible Study
DESCRIPTION:This is a Bible study for men of all ages that meets year round.
URL:https://www.faithlc.com/event/mens-bible-study-3/2026-06-18/
LOCATION:Office Conference room\, 335 Main St. S.\, Hutchinson\, Minnesota\, 55350-2510
CATEGORIES:Adult
ATTACH;FMTTYPE=image/jpeg:https://www.faithlc.com/wp-content/uploads/2014/02/Bible.jpg
END:VEVENT
BEGIN:VEVENT
DTSTART;TZID=America/Chicago:20260618T080000
DTEND;TZID=America/Chicago:20260618T093000
DTSTAMP:20260423T002102
CREATED:20241111T210801Z
LAST-MODIFIED:20251106T220918Z
UID:10009568-1781769600-1781775000@www.faithlc.com
SUMMARY:TOPS (Take Pounds of Sensibly)
DESCRIPTION:
URL:https://www.faithlc.com/event/tops-take-pounds-of-sensibly-2/2026-06-18/
LOCATION:Third Floor Conference Room\, 335 Main St. S.\, Hutchinson\, Minnesota\, 55350-2510
CATEGORIES:Reserved Space
END:VEVENT
BEGIN:VEVENT
DTSTART;TZID=America/Chicago:20260618T090000
DTEND;TZID=America/Chicago:20260618T093000
DTSTAMP:20260423T002102
CREATED:20260226T205456Z
LAST-MODIFIED:20260226T205458Z
UID:10012051-1781773200-1781775000@www.faithlc.com
SUMMARY:Matins
DESCRIPTION:Join the Faith staff in person in the sanctuary\, or via Facebook Tuesday – Thursday at 9 a.m. for a morning matins service.Tuesday and Thursday will be two readings and a brief homily.Wednesdays format is a musical version of matins.
URL:https://www.faithlc.com/event/matins/2026-06-18/
LOCATION:Minnesota
CATEGORIES:Worship Times
ATTACH;FMTTYPE=image/png:https://www.faithlc.com/wp-content/uploads/2026/02/Matins-Logo.png
END:VEVENT
BEGIN:VEVENT
DTSTART;TZID=America/Chicago:20260618T140000
DTEND;TZID=America/Chicago:20260618T150000
DTSTAMP:20260423T002102
CREATED:20250107T181428Z
LAST-MODIFIED:20250107T181430Z
UID:10006927-1781791200-1781794800@www.faithlc.com
SUMMARY:Bible study at the Pines and Oaks
DESCRIPTION:A monthly time of Bible study led by Faith pastors at the Pines (2 p.m.) and Oaks (2:30 p.m.)
URL:https://www.faithlc.com/event/bible-study-at-the-pines-and-oaks/2026-06-18/
LOCATION:Minnesota
CATEGORIES:Adult
ATTACH;FMTTYPE=image/jpeg:https://www.faithlc.com/wp-content/uploads/2013/07/bible_love_CaptPiper.jpg
END:VEVENT
BEGIN:VEVENT
DTSTART;TZID=America/Chicago:20260618T190000
DTEND;TZID=America/Chicago:20260618T200000
DTSTAMP:20260423T002102
CREATED:20241125T202354Z
LAST-MODIFIED:20251106T221215Z
UID:10009623-1781809200-1781812800@www.faithlc.com
SUMMARY:NA Meeting
DESCRIPTION:
URL:https://www.faithlc.com/event/na-meeting-2/2026-06-18/
LOCATION:Third Floor Conference Room\, 335 Main St. S.\, Hutchinson\, Minnesota\, 55350-2510
CATEGORIES:Reserved Space
END:VEVENT
BEGIN:VEVENT
DTSTART;TZID=America/Chicago:20260618T220000
DTEND;TZID=America/Chicago:20260618T230000
DTSTAMP:20260423T002102
CREATED:20240726T210445Z
LAST-MODIFIED:20240726T210452Z
UID:10003759-1781820000-1781823600@www.faithlc.com
SUMMARY:Pre-Recorded TV Services
DESCRIPTION:Pre-recorded service from the past Sunday (rotating between Sanctuary and Foundation Services: Nuvera Ch. 10\, Mediacom Ch. 8
URL:https://www.faithlc.com/event/pre-recorded-tv-services-2/2026-06-18/
LOCATION:Minnesota
CATEGORIES:TV Broadcast
ATTACH;FMTTYPE=image/jpeg:https://www.faithlc.com/wp-content/uploads/2021/05/HCVN.jpg
END:VEVENT
BEGIN:VEVENT
DTSTART;TZID=America/Chicago:20260619T123000
DTEND;TZID=America/Chicago:20260619T133000
DTSTAMP:20260423T002102
CREATED:20250625T201714Z
LAST-MODIFIED:20250625T204402Z
UID:10008541-1781872200-1781875800@www.faithlc.com
SUMMARY:Bulletin Assembly
DESCRIPTION:This group of volunteers gathers each week to but the service orders and announcements together into packets for Sunday morning. New hands are always welcome.
URL:https://www.faithlc.com/event/bulletin-assembly-2/2026-06-19/
LOCATION:Office Conference Room
CATEGORIES:Adult
ATTACH;FMTTYPE=image/jpeg:https://www.faithlc.com/wp-content/uploads/2019/06/Bulletin-Assembly.jpg
END:VEVENT
BEGIN:VEVENT
DTSTART;TZID=America/Chicago:20260621T080000
DTEND;TZID=America/Chicago:20260621T090000
DTSTAMP:20260423T002102
CREATED:20240726T201255Z
LAST-MODIFIED:20250721T203538Z
UID:10010059-1782028800-1782032400@www.faithlc.com
SUMMARY:First Word Worship Service
DESCRIPTION:This is a traditional worship service in the sanctuary using the Lutheran Book of Worship. Holy Communion is celebrated on the first and second Sunday of each month as well as on some of the major church holy days.
URL:https://www.faithlc.com/event/first-word-worship-service/2026-06-21/
LOCATION:Sanctuary\, 335 Main Street S.\, Hutchinson\, 55350
CATEGORIES:Worship Times
ATTACH;FMTTYPE=image/jpeg:https://www.faithlc.com/wp-content/uploads/2013/06/sanctuary_empty.jpg
GEO:44.8884443;-94.3691943
X-APPLE-STRUCTURED-LOCATION;VALUE=URI;X-ADDRESS=Sanctuary 335 Main Street S. Hutchinson 55350;X-APPLE-RADIUS=500;X-TITLE=335 Main Street S.:geo:-94.3691943,44.8884443
END:VEVENT
BEGIN:VEVENT
DTSTART;TZID=America/Chicago:20260621T080000
DTEND;TZID=America/Chicago:20260621T090000
DTSTAMP:20260423T002102
CREATED:20240726T203116Z
LAST-MODIFIED:20240726T203120Z
UID:10001883-1782028800-1782032400@www.faithlc.com
SUMMARY:Radio Broadcast (Pre-Recorded from previous week)
DESCRIPTION:The First Word worship services are recorded and submitted to KDUZ to be aired the following Sunday at 8 a.m.
URL:https://www.faithlc.com/event/radio-broadcast-pre-recorded-from-previous-week/2026-06-21/
LOCATION:Minnesota
CATEGORIES:TV Broadcast
ATTACH;FMTTYPE=image/png:https://www.faithlc.com/wp-content/uploads/2021/06/KDUZ-2022.png
END:VEVENT
BEGIN:VEVENT
DTSTART;TZID=America/Chicago:20260621T080000
DTEND;TZID=America/Chicago:20260621T090000
DTSTAMP:20260423T002102
CREATED:20240726T203740Z
LAST-MODIFIED:20240726T203743Z
UID:10002144-1782028800-1782032400@www.faithlc.com
SUMMARY:Live TV Broadcast of First Word Service
DESCRIPTION:The First Word Service is broadcast live on HCVN Ch. 7 and on Mediacom on Ch. 7 each Sunday.
URL:https://www.faithlc.com/event/live-tv-broadcast-of-first-word-service/2026-06-21/
LOCATION:Minnesota
CATEGORIES:TV Broadcast
ATTACH;FMTTYPE=image/jpeg:https://www.faithlc.com/wp-content/uploads/2021/05/HCVN.jpg
END:VEVENT
BEGIN:VEVENT
DTSTART;TZID=America/Chicago:20260621T100000
DTEND;TZID=America/Chicago:20260621T110000
DTSTAMP:20260423T002102
CREATED:20240726T204313Z
LAST-MODIFIED:20240726T204316Z
UID:10002405-1782036000-1782039600@www.faithlc.com
SUMMARY:Pre-Recorded Services on TV
DESCRIPTION:To watch the pre-recorded service from the past Sunday you can tune into Nuvera: Ch. 10  or Mediacom: Ch. 8 at 10 a.m.
URL:https://www.faithlc.com/event/pre-recorded-services-on-tv/2026-06-21/
LOCATION:Minnesota
CATEGORIES:TV Broadcast
ATTACH;FMTTYPE=image/jpeg:https://www.faithlc.com/wp-content/uploads/2021/05/HCVN.jpg
END:VEVENT
BEGIN:VEVENT
DTSTART;TZID=America/Chicago:20260621T170000
DTEND;TZID=America/Chicago:20260621T180000
DTSTAMP:20260423T002102
CREATED:20240726T204632Z
LAST-MODIFIED:20240726T204637Z
UID:10002666-1782061200-1782064800@www.faithlc.com
SUMMARY:Pre-Recorded TV Services
DESCRIPTION:Tune into HCVN Ch. 10 or Mediacom Ch. 8 to watch the service pre-recorded this morning.
URL:https://www.faithlc.com/event/pre-recorded-tv-services/2026-06-21/
LOCATION:Minnesota
CATEGORIES:TV Broadcast
ATTACH;FMTTYPE=image/jpeg:https://www.faithlc.com/wp-content/uploads/2021/05/HCVN.jpg
END:VEVENT
BEGIN:VEVENT
DTSTART;TZID=America/Chicago:20260623T090000
DTEND;TZID=America/Chicago:20260623T093000
DTSTAMP:20260423T002102
CREATED:20260226T205456Z
LAST-MODIFIED:20260226T205458Z
UID:10012052-1782205200-1782207000@www.faithlc.com
SUMMARY:Matins
DESCRIPTION:Join the Faith staff in person in the sanctuary\, or via Facebook Tuesday – Thursday at 9 a.m. for a morning matins service.Tuesday and Thursday will be two readings and a brief homily.Wednesdays format is a musical version of matins.
URL:https://www.faithlc.com/event/matins/2026-06-23/
LOCATION:Minnesota
CATEGORIES:Worship Times
ATTACH;FMTTYPE=image/png:https://www.faithlc.com/wp-content/uploads/2026/02/Matins-Logo.png
END:VEVENT
BEGIN:VEVENT
DTSTART;TZID=America/Chicago:20260623T090000
DTEND;TZID=America/Chicago:20260623T103000
DTSTAMP:20260423T002102
CREATED:20240729T220514Z
LAST-MODIFIED:20250721T214017Z
UID:10005439-1782205200-1782210600@www.faithlc.com
SUMMARY:Faith Matters Assembly
DESCRIPTION:A group of volunteers gather to put prepare the monthly newsletter for the mail. Extra hands are always welcome!
URL:https://www.faithlc.com/event/faith-matters-assembly/2026-06-23/
LOCATION:Third Floor Multi-Purpose Space\, 335 Main St. S.\, Hutchinson\, Minnesota\, 55350-2510
CATEGORIES:Adult
ATTACH;FMTTYPE=image/bmp:https://www.faithlc.com/wp-content/uploads/2008/10/FaithMatters-e1432926837457.bmp
END:VEVENT
BEGIN:VEVENT
DTSTART;TZID=America/Chicago:20260623T091500
DTEND;TZID=America/Chicago:20260623T100000
DTSTAMP:20260423T002102
CREATED:20250625T211136Z
LAST-MODIFIED:20250625T211138Z
UID:10009679-1782206100-1782208800@www.faithlc.com
SUMMARY:Exercise Group
DESCRIPTION:This is a group that likes to move. They meet every Tuesday throughout the year to walk/exercise to a video. Once in a while when the weather is nice the take a little walk outside.  After this light workout there is time to rehydate and visit for a bit. Any and all are welcome anytime.
URL:https://www.faithlc.com/event/exercise-group-2/2026-06-23/
LOCATION:Minnesota
CATEGORIES:Miscellaneous
ATTACH;FMTTYPE=image/jpeg:https://www.faithlc.com/wp-content/uploads/2020/12/Exercise-walking.jpg
END:VEVENT
BEGIN:VEVENT
DTSTART;TZID=America/Chicago:20260623T091500
DTEND;TZID=America/Chicago:20260623T103000
DTSTAMP:20260423T002102
CREATED:20240726T205654Z
LAST-MODIFIED:20241216T211743Z
UID:10002977-1782206100-1782210600@www.faithlc.com
SUMMARY:Pastoral Planning Meeting
DESCRIPTION:A weekly planning meeting of the FLC Pastors.
URL:https://www.faithlc.com/event/pastoral-planning-meeting/2026-06-23/
LOCATION:Minnesota
CATEGORIES:Staff
END:VEVENT
BEGIN:VEVENT
DTSTART;TZID=America/Chicago:20260623T110000
DTEND;TZID=America/Chicago:20260623T120000
DTSTAMP:20260423T002102
CREATED:20250107T181059Z
LAST-MODIFIED:20250107T181114Z
UID:10006725-1782212400-1782216000@www.faithlc.com
SUMMARY:Prayer Group
DESCRIPTION:This group meets weekly for one hour to pray for the church\, the community\, the world\, etc. All are welcome to join on Tuesday’s at 11 a.m. in the office conference room.
URL:https://www.faithlc.com/event/prayer-group-3/2026-06-23/
LOCATION:Minnesota
CATEGORIES:Adult
ATTACH;FMTTYPE=image/png:https://www.faithlc.com/wp-content/uploads/2023/01/Matins-praying-hands.png
END:VEVENT
BEGIN:VEVENT
DTSTART;TZID=America/Chicago:20260623T120000
DTEND;TZID=America/Chicago:20260623T130000
DTSTAMP:20260423T002102
CREATED:20240726T210927Z
LAST-MODIFIED:20240726T210934Z
UID:10004021-1782216000-1782219600@www.faithlc.com
SUMMARY:Lectionary Study
DESCRIPTION:Prepare for next Sunday’s worship by studying the Bible texts with the pastor who will be preaching. Every Tuesday\, all year\, noon – 1 p.m. in the church office conference room. No commitment\, just come when you can. This group meets all year long and you are welcome to bring your lunch if you are on a lunch break from work.
URL:https://www.faithlc.com/event/lectionary-study/2026-06-23/
LOCATION:Minnesota
CATEGORIES:Adult
ATTACH;FMTTYPE=image/jpeg:https://www.faithlc.com/wp-content/uploads/2014/10/Bible.jpg
END:VEVENT
BEGIN:VEVENT
DTSTART;TZID=America/Chicago:20260623T150000
DTEND;TZID=America/Chicago:20260623T160000
DTSTAMP:20260423T002102
CREATED:20241216T211604Z
LAST-MODIFIED:20241216T211605Z
UID:10005972-1782226800-1782230400@www.faithlc.com
SUMMARY:Worship Planning Meeting
DESCRIPTION:A weekly meeting of staff to plan for the next Sunday’s worship services.
URL:https://www.faithlc.com/event/worship-planning-meeting-3/2026-06-23/
LOCATION:Minnesota
CATEGORIES:Staff
END:VEVENT
BEGIN:VEVENT
DTSTART;TZID=America/Chicago:20260623T170000
DTEND;TZID=America/Chicago:20260623T180000
DTSTAMP:20260423T002102
CREATED:20240726T210227Z
LAST-MODIFIED:20240726T210231Z
UID:10003499-1782234000-1782237600@www.faithlc.com
SUMMARY:Pre-Recorded TV Broadcast
DESCRIPTION:Pre-recorded service from the past Sunday (rotating between Sanctuary and Foundation Services: Nuvera Ch. 10\, Mediacom Ch. 8
URL:https://www.faithlc.com/event/pre-recorded-tv-broadcast/2026-06-23/
LOCATION:Minnesota
CATEGORIES:TV Broadcast
ATTACH;FMTTYPE=image/jpeg:https://www.faithlc.com/wp-content/uploads/2021/05/HCVN.jpg
END:VEVENT
END:VCALENDAR