BEGIN:VCALENDAR
VERSION:2.0
PRODID:-//Faith Lutheran Church - ECPv6.15.20//NONSGML v1.0//EN
CALSCALE:GREGORIAN
METHOD:PUBLISH
X-WR-CALNAME:Faith Lutheran Church
X-ORIGINAL-URL:https://www.faithlc.com
X-WR-CALDESC:Events for Faith Lutheran Church
REFRESH-INTERVAL;VALUE=DURATION:PT1H
X-Robots-Tag:noindex
X-PUBLISHED-TTL:PT1H
BEGIN:VTIMEZONE
TZID:America/Chicago
BEGIN:DAYLIGHT
TZOFFSETFROM:-0600
TZOFFSETTO:-0500
TZNAME:CDT
DTSTART:20250309T080000
END:DAYLIGHT
BEGIN:STANDARD
TZOFFSETFROM:-0500
TZOFFSETTO:-0600
TZNAME:CST
DTSTART:20251102T070000
END:STANDARD
BEGIN:DAYLIGHT
TZOFFSETFROM:-0600
TZOFFSETTO:-0500
TZNAME:CDT
DTSTART:20260308T080000
END:DAYLIGHT
BEGIN:STANDARD
TZOFFSETFROM:-0500
TZOFFSETTO:-0600
TZNAME:CST
DTSTART:20261101T070000
END:STANDARD
BEGIN:DAYLIGHT
TZOFFSETFROM:-0600
TZOFFSETTO:-0500
TZNAME:CDT
DTSTART:20270314T080000
END:DAYLIGHT
BEGIN:STANDARD
TZOFFSETFROM:-0500
TZOFFSETTO:-0600
TZNAME:CST
DTSTART:20271107T070000
END:STANDARD
END:VTIMEZONE
BEGIN:VEVENT
DTSTART;TZID=America/Chicago:20260422T070000
DTEND;TZID=America/Chicago:20260422T073000
DTSTAMP:20260421T142613
CREATED:20250625T202847Z
LAST-MODIFIED:20250625T202849Z
UID:10008006-1776841200-1776843000@www.faithlc.com
SUMMARY:Morning Prayer
DESCRIPTION:A time to gether for prayer. You are invited to join the leading pastor in the sanctuary or tune in via Facebook live to participate.
URL:https://www.faithlc.com/event/morning-prayer-2/2026-04-22/
CATEGORIES:Worship Times
ATTACH;FMTTYPE=image/png:https://www.faithlc.com/wp-content/uploads/2023/01/Matins-praying-hands.png
END:VEVENT
BEGIN:VEVENT
DTSTART;TZID=America/Chicago:20260429T070000
DTEND;TZID=America/Chicago:20260429T073000
DTSTAMP:20260421T142613
CREATED:20250625T202847Z
LAST-MODIFIED:20250625T202849Z
UID:10008007-1777446000-1777447800@www.faithlc.com
SUMMARY:Morning Prayer
DESCRIPTION:A time to gether for prayer. You are invited to join the leading pastor in the sanctuary or tune in via Facebook live to participate.
URL:https://www.faithlc.com/event/morning-prayer-2/2026-04-29/
CATEGORIES:Worship Times
ATTACH;FMTTYPE=image/png:https://www.faithlc.com/wp-content/uploads/2023/01/Matins-praying-hands.png
END:VEVENT
BEGIN:VEVENT
DTSTART;TZID=America/Chicago:20260506T070000
DTEND;TZID=America/Chicago:20260506T073000
DTSTAMP:20260421T142613
CREATED:20250625T202847Z
LAST-MODIFIED:20250625T202849Z
UID:10008008-1778050800-1778052600@www.faithlc.com
SUMMARY:Morning Prayer
DESCRIPTION:A time to gether for prayer. You are invited to join the leading pastor in the sanctuary or tune in via Facebook live to participate.
URL:https://www.faithlc.com/event/morning-prayer-2/2026-05-06/
CATEGORIES:Worship Times
ATTACH;FMTTYPE=image/png:https://www.faithlc.com/wp-content/uploads/2023/01/Matins-praying-hands.png
END:VEVENT
BEGIN:VEVENT
DTSTART;TZID=America/Chicago:20260513T070000
DTEND;TZID=America/Chicago:20260513T073000
DTSTAMP:20260421T142613
CREATED:20250625T202847Z
LAST-MODIFIED:20250625T202849Z
UID:10008009-1778655600-1778657400@www.faithlc.com
SUMMARY:Morning Prayer
DESCRIPTION:A time to gether for prayer. You are invited to join the leading pastor in the sanctuary or tune in via Facebook live to participate.
URL:https://www.faithlc.com/event/morning-prayer-2/2026-05-13/
CATEGORIES:Worship Times
ATTACH;FMTTYPE=image/png:https://www.faithlc.com/wp-content/uploads/2023/01/Matins-praying-hands.png
END:VEVENT
BEGIN:VEVENT
DTSTART;TZID=America/Chicago:20260520T070000
DTEND;TZID=America/Chicago:20260520T073000
DTSTAMP:20260421T142613
CREATED:20250625T202847Z
LAST-MODIFIED:20250625T202849Z
UID:10008010-1779260400-1779262200@www.faithlc.com
SUMMARY:Morning Prayer
DESCRIPTION:A time to gether for prayer. You are invited to join the leading pastor in the sanctuary or tune in via Facebook live to participate.
URL:https://www.faithlc.com/event/morning-prayer-2/2026-05-20/
CATEGORIES:Worship Times
ATTACH;FMTTYPE=image/png:https://www.faithlc.com/wp-content/uploads/2023/01/Matins-praying-hands.png
END:VEVENT
BEGIN:VEVENT
DTSTART;TZID=America/Chicago:20260527T070000
DTEND;TZID=America/Chicago:20260527T073000
DTSTAMP:20260421T142613
CREATED:20250625T202847Z
LAST-MODIFIED:20250625T202849Z
UID:10008011-1779865200-1779867000@www.faithlc.com
SUMMARY:Morning Prayer
DESCRIPTION:A time to gether for prayer. You are invited to join the leading pastor in the sanctuary or tune in via Facebook live to participate.
URL:https://www.faithlc.com/event/morning-prayer-2/2026-05-27/
CATEGORIES:Worship Times
ATTACH;FMTTYPE=image/png:https://www.faithlc.com/wp-content/uploads/2023/01/Matins-praying-hands.png
END:VEVENT
BEGIN:VEVENT
DTSTART;TZID=America/Chicago:20260603T070000
DTEND;TZID=America/Chicago:20260603T073000
DTSTAMP:20260421T142613
CREATED:20250625T202847Z
LAST-MODIFIED:20250625T202849Z
UID:10008012-1780470000-1780471800@www.faithlc.com
SUMMARY:Morning Prayer
DESCRIPTION:A time to gether for prayer. You are invited to join the leading pastor in the sanctuary or tune in via Facebook live to participate.
URL:https://www.faithlc.com/event/morning-prayer-2/2026-06-03/
CATEGORIES:Worship Times
ATTACH;FMTTYPE=image/png:https://www.faithlc.com/wp-content/uploads/2023/01/Matins-praying-hands.png
END:VEVENT
BEGIN:VEVENT
DTSTART;TZID=America/Chicago:20260610T070000
DTEND;TZID=America/Chicago:20260610T073000
DTSTAMP:20260421T142613
CREATED:20250625T202847Z
LAST-MODIFIED:20250625T202849Z
UID:10008013-1781074800-1781076600@www.faithlc.com
SUMMARY:Morning Prayer
DESCRIPTION:A time to gether for prayer. You are invited to join the leading pastor in the sanctuary or tune in via Facebook live to participate.
URL:https://www.faithlc.com/event/morning-prayer-2/2026-06-10/
CATEGORIES:Worship Times
ATTACH;FMTTYPE=image/png:https://www.faithlc.com/wp-content/uploads/2023/01/Matins-praying-hands.png
END:VEVENT
BEGIN:VEVENT
DTSTART;TZID=America/Chicago:20260617T070000
DTEND;TZID=America/Chicago:20260617T073000
DTSTAMP:20260421T142613
CREATED:20250625T202847Z
LAST-MODIFIED:20250625T202849Z
UID:10008014-1781679600-1781681400@www.faithlc.com
SUMMARY:Morning Prayer
DESCRIPTION:A time to gether for prayer. You are invited to join the leading pastor in the sanctuary or tune in via Facebook live to participate.
URL:https://www.faithlc.com/event/morning-prayer-2/2026-06-17/
CATEGORIES:Worship Times
ATTACH;FMTTYPE=image/png:https://www.faithlc.com/wp-content/uploads/2023/01/Matins-praying-hands.png
END:VEVENT
BEGIN:VEVENT
DTSTART;TZID=America/Chicago:20260624T070000
DTEND;TZID=America/Chicago:20260624T073000
DTSTAMP:20260421T142613
CREATED:20250625T202847Z
LAST-MODIFIED:20250625T202849Z
UID:10008015-1782284400-1782286200@www.faithlc.com
SUMMARY:Morning Prayer
DESCRIPTION:A time to gether for prayer. You are invited to join the leading pastor in the sanctuary or tune in via Facebook live to participate.
URL:https://www.faithlc.com/event/morning-prayer-2/2026-06-24/
CATEGORIES:Worship Times
ATTACH;FMTTYPE=image/png:https://www.faithlc.com/wp-content/uploads/2023/01/Matins-praying-hands.png
END:VEVENT
BEGIN:VEVENT
DTSTART;TZID=America/Chicago:20260701T070000
DTEND;TZID=America/Chicago:20260701T073000
DTSTAMP:20260421T142613
CREATED:20250625T202847Z
LAST-MODIFIED:20250625T202849Z
UID:10008016-1782889200-1782891000@www.faithlc.com
SUMMARY:Morning Prayer
DESCRIPTION:A time to gether for prayer. You are invited to join the leading pastor in the sanctuary or tune in via Facebook live to participate.
URL:https://www.faithlc.com/event/morning-prayer-2/2026-07-01/
CATEGORIES:Worship Times
ATTACH;FMTTYPE=image/png:https://www.faithlc.com/wp-content/uploads/2023/01/Matins-praying-hands.png
END:VEVENT
BEGIN:VEVENT
DTSTART;TZID=America/Chicago:20260708T070000
DTEND;TZID=America/Chicago:20260708T073000
DTSTAMP:20260421T142613
CREATED:20250625T202847Z
LAST-MODIFIED:20250625T202849Z
UID:10008017-1783494000-1783495800@www.faithlc.com
SUMMARY:Morning Prayer
DESCRIPTION:A time to gether for prayer. You are invited to join the leading pastor in the sanctuary or tune in via Facebook live to participate.
URL:https://www.faithlc.com/event/morning-prayer-2/2026-07-08/
CATEGORIES:Worship Times
ATTACH;FMTTYPE=image/png:https://www.faithlc.com/wp-content/uploads/2023/01/Matins-praying-hands.png
END:VEVENT
BEGIN:VEVENT
DTSTART;TZID=America/Chicago:20260715T070000
DTEND;TZID=America/Chicago:20260715T073000
DTSTAMP:20260421T142613
CREATED:20250625T202847Z
LAST-MODIFIED:20250625T202849Z
UID:10008018-1784098800-1784100600@www.faithlc.com
SUMMARY:Morning Prayer
DESCRIPTION:A time to gether for prayer. You are invited to join the leading pastor in the sanctuary or tune in via Facebook live to participate.
URL:https://www.faithlc.com/event/morning-prayer-2/2026-07-15/
CATEGORIES:Worship Times
ATTACH;FMTTYPE=image/png:https://www.faithlc.com/wp-content/uploads/2023/01/Matins-praying-hands.png
END:VEVENT
BEGIN:VEVENT
DTSTART;TZID=America/Chicago:20260722T070000
DTEND;TZID=America/Chicago:20260722T073000
DTSTAMP:20260421T142613
CREATED:20250625T202847Z
LAST-MODIFIED:20250625T202849Z
UID:10008019-1784703600-1784705400@www.faithlc.com
SUMMARY:Morning Prayer
DESCRIPTION:A time to gether for prayer. You are invited to join the leading pastor in the sanctuary or tune in via Facebook live to participate.
URL:https://www.faithlc.com/event/morning-prayer-2/2026-07-22/
CATEGORIES:Worship Times
ATTACH;FMTTYPE=image/png:https://www.faithlc.com/wp-content/uploads/2023/01/Matins-praying-hands.png
END:VEVENT
BEGIN:VEVENT
DTSTART;TZID=America/Chicago:20260729T070000
DTEND;TZID=America/Chicago:20260729T073000
DTSTAMP:20260421T142613
CREATED:20250625T202847Z
LAST-MODIFIED:20250625T202849Z
UID:10008020-1785308400-1785310200@www.faithlc.com
SUMMARY:Morning Prayer
DESCRIPTION:A time to gether for prayer. You are invited to join the leading pastor in the sanctuary or tune in via Facebook live to participate.
URL:https://www.faithlc.com/event/morning-prayer-2/2026-07-29/
CATEGORIES:Worship Times
ATTACH;FMTTYPE=image/png:https://www.faithlc.com/wp-content/uploads/2023/01/Matins-praying-hands.png
END:VEVENT
BEGIN:VEVENT
DTSTART;TZID=America/Chicago:20260805T070000
DTEND;TZID=America/Chicago:20260805T073000
DTSTAMP:20260421T142613
CREATED:20250625T202847Z
LAST-MODIFIED:20250625T202849Z
UID:10008021-1785913200-1785915000@www.faithlc.com
SUMMARY:Morning Prayer
DESCRIPTION:A time to gether for prayer. You are invited to join the leading pastor in the sanctuary or tune in via Facebook live to participate.
URL:https://www.faithlc.com/event/morning-prayer-2/2026-08-05/
CATEGORIES:Worship Times
ATTACH;FMTTYPE=image/png:https://www.faithlc.com/wp-content/uploads/2023/01/Matins-praying-hands.png
END:VEVENT
BEGIN:VEVENT
DTSTART;TZID=America/Chicago:20260812T070000
DTEND;TZID=America/Chicago:20260812T073000
DTSTAMP:20260421T142613
CREATED:20250625T202847Z
LAST-MODIFIED:20250625T202849Z
UID:10008022-1786518000-1786519800@www.faithlc.com
SUMMARY:Morning Prayer
DESCRIPTION:A time to gether for prayer. You are invited to join the leading pastor in the sanctuary or tune in via Facebook live to participate.
URL:https://www.faithlc.com/event/morning-prayer-2/2026-08-12/
CATEGORIES:Worship Times
ATTACH;FMTTYPE=image/png:https://www.faithlc.com/wp-content/uploads/2023/01/Matins-praying-hands.png
END:VEVENT
BEGIN:VEVENT
DTSTART;TZID=America/Chicago:20260819T070000
DTEND;TZID=America/Chicago:20260819T073000
DTSTAMP:20260421T142613
CREATED:20250625T202847Z
LAST-MODIFIED:20250625T202849Z
UID:10008023-1787122800-1787124600@www.faithlc.com
SUMMARY:Morning Prayer
DESCRIPTION:A time to gether for prayer. You are invited to join the leading pastor in the sanctuary or tune in via Facebook live to participate.
URL:https://www.faithlc.com/event/morning-prayer-2/2026-08-19/
CATEGORIES:Worship Times
ATTACH;FMTTYPE=image/png:https://www.faithlc.com/wp-content/uploads/2023/01/Matins-praying-hands.png
END:VEVENT
BEGIN:VEVENT
DTSTART;TZID=America/Chicago:20260826T070000
DTEND;TZID=America/Chicago:20260826T073000
DTSTAMP:20260421T142613
CREATED:20250625T202847Z
LAST-MODIFIED:20250625T202849Z
UID:10008024-1787727600-1787729400@www.faithlc.com
SUMMARY:Morning Prayer
DESCRIPTION:A time to gether for prayer. You are invited to join the leading pastor in the sanctuary or tune in via Facebook live to participate.
URL:https://www.faithlc.com/event/morning-prayer-2/2026-08-26/
CATEGORIES:Worship Times
ATTACH;FMTTYPE=image/png:https://www.faithlc.com/wp-content/uploads/2023/01/Matins-praying-hands.png
END:VEVENT
BEGIN:VEVENT
DTSTART;TZID=America/Chicago:20260902T070000
DTEND;TZID=America/Chicago:20260902T073000
DTSTAMP:20260421T142613
CREATED:20250625T202847Z
LAST-MODIFIED:20250625T202849Z
UID:10008025-1788332400-1788334200@www.faithlc.com
SUMMARY:Morning Prayer
DESCRIPTION:A time to gether for prayer. You are invited to join the leading pastor in the sanctuary or tune in via Facebook live to participate.
URL:https://www.faithlc.com/event/morning-prayer-2/2026-09-02/
CATEGORIES:Worship Times
ATTACH;FMTTYPE=image/png:https://www.faithlc.com/wp-content/uploads/2023/01/Matins-praying-hands.png
END:VEVENT
BEGIN:VEVENT
DTSTART;TZID=America/Chicago:20260909T070000
DTEND;TZID=America/Chicago:20260909T073000
DTSTAMP:20260421T142613
CREATED:20250625T202847Z
LAST-MODIFIED:20250625T202849Z
UID:10008026-1788937200-1788939000@www.faithlc.com
SUMMARY:Morning Prayer
DESCRIPTION:A time to gether for prayer. You are invited to join the leading pastor in the sanctuary or tune in via Facebook live to participate.
URL:https://www.faithlc.com/event/morning-prayer-2/2026-09-09/
CATEGORIES:Worship Times
ATTACH;FMTTYPE=image/png:https://www.faithlc.com/wp-content/uploads/2023/01/Matins-praying-hands.png
END:VEVENT
BEGIN:VEVENT
DTSTART;TZID=America/Chicago:20260916T070000
DTEND;TZID=America/Chicago:20260916T073000
DTSTAMP:20260421T142613
CREATED:20250625T202847Z
LAST-MODIFIED:20250625T202849Z
UID:10008027-1789542000-1789543800@www.faithlc.com
SUMMARY:Morning Prayer
DESCRIPTION:A time to gether for prayer. You are invited to join the leading pastor in the sanctuary or tune in via Facebook live to participate.
URL:https://www.faithlc.com/event/morning-prayer-2/2026-09-16/
CATEGORIES:Worship Times
ATTACH;FMTTYPE=image/png:https://www.faithlc.com/wp-content/uploads/2023/01/Matins-praying-hands.png
END:VEVENT
BEGIN:VEVENT
DTSTART;TZID=America/Chicago:20260923T070000
DTEND;TZID=America/Chicago:20260923T073000
DTSTAMP:20260421T142613
CREATED:20250625T202847Z
LAST-MODIFIED:20250625T202849Z
UID:10008028-1790146800-1790148600@www.faithlc.com
SUMMARY:Morning Prayer
DESCRIPTION:A time to gether for prayer. You are invited to join the leading pastor in the sanctuary or tune in via Facebook live to participate.
URL:https://www.faithlc.com/event/morning-prayer-2/2026-09-23/
CATEGORIES:Worship Times
ATTACH;FMTTYPE=image/png:https://www.faithlc.com/wp-content/uploads/2023/01/Matins-praying-hands.png
END:VEVENT
BEGIN:VEVENT
DTSTART;TZID=America/Chicago:20260930T070000
DTEND;TZID=America/Chicago:20260930T073000
DTSTAMP:20260421T142613
CREATED:20250625T202847Z
LAST-MODIFIED:20250625T202849Z
UID:10008029-1790751600-1790753400@www.faithlc.com
SUMMARY:Morning Prayer
DESCRIPTION:A time to gether for prayer. You are invited to join the leading pastor in the sanctuary or tune in via Facebook live to participate.
URL:https://www.faithlc.com/event/morning-prayer-2/2026-09-30/
CATEGORIES:Worship Times
ATTACH;FMTTYPE=image/png:https://www.faithlc.com/wp-content/uploads/2023/01/Matins-praying-hands.png
END:VEVENT
BEGIN:VEVENT
DTSTART;TZID=America/Chicago:20261007T070000
DTEND;TZID=America/Chicago:20261007T073000
DTSTAMP:20260421T142613
CREATED:20250625T202847Z
LAST-MODIFIED:20250625T202849Z
UID:10008030-1791356400-1791358200@www.faithlc.com
SUMMARY:Morning Prayer
DESCRIPTION:A time to gether for prayer. You are invited to join the leading pastor in the sanctuary or tune in via Facebook live to participate.
URL:https://www.faithlc.com/event/morning-prayer-2/2026-10-07/
CATEGORIES:Worship Times
ATTACH;FMTTYPE=image/png:https://www.faithlc.com/wp-content/uploads/2023/01/Matins-praying-hands.png
END:VEVENT
BEGIN:VEVENT
DTSTART;TZID=America/Chicago:20261014T070000
DTEND;TZID=America/Chicago:20261014T073000
DTSTAMP:20260421T142613
CREATED:20250625T202847Z
LAST-MODIFIED:20250625T202849Z
UID:10008031-1791961200-1791963000@www.faithlc.com
SUMMARY:Morning Prayer
DESCRIPTION:A time to gether for prayer. You are invited to join the leading pastor in the sanctuary or tune in via Facebook live to participate.
URL:https://www.faithlc.com/event/morning-prayer-2/2026-10-14/
CATEGORIES:Worship Times
ATTACH;FMTTYPE=image/png:https://www.faithlc.com/wp-content/uploads/2023/01/Matins-praying-hands.png
END:VEVENT
BEGIN:VEVENT
DTSTART;TZID=America/Chicago:20261021T070000
DTEND;TZID=America/Chicago:20261021T073000
DTSTAMP:20260421T142613
CREATED:20250625T202847Z
LAST-MODIFIED:20250625T202849Z
UID:10008032-1792566000-1792567800@www.faithlc.com
SUMMARY:Morning Prayer
DESCRIPTION:A time to gether for prayer. You are invited to join the leading pastor in the sanctuary or tune in via Facebook live to participate.
URL:https://www.faithlc.com/event/morning-prayer-2/2026-10-21/
CATEGORIES:Worship Times
ATTACH;FMTTYPE=image/png:https://www.faithlc.com/wp-content/uploads/2023/01/Matins-praying-hands.png
END:VEVENT
BEGIN:VEVENT
DTSTART;TZID=America/Chicago:20261028T070000
DTEND;TZID=America/Chicago:20261028T073000
DTSTAMP:20260421T142613
CREATED:20250625T202847Z
LAST-MODIFIED:20250625T202849Z
UID:10008033-1793170800-1793172600@www.faithlc.com
SUMMARY:Morning Prayer
DESCRIPTION:A time to gether for prayer. You are invited to join the leading pastor in the sanctuary or tune in via Facebook live to participate.
URL:https://www.faithlc.com/event/morning-prayer-2/2026-10-28/
CATEGORIES:Worship Times
ATTACH;FMTTYPE=image/png:https://www.faithlc.com/wp-content/uploads/2023/01/Matins-praying-hands.png
END:VEVENT
BEGIN:VEVENT
DTSTART;TZID=America/Chicago:20261104T070000
DTEND;TZID=America/Chicago:20261104T073000
DTSTAMP:20260421T142613
CREATED:20250625T202847Z
LAST-MODIFIED:20250625T202849Z
UID:10008034-1793775600-1793777400@www.faithlc.com
SUMMARY:Morning Prayer
DESCRIPTION:A time to gether for prayer. You are invited to join the leading pastor in the sanctuary or tune in via Facebook live to participate.
URL:https://www.faithlc.com/event/morning-prayer-2/2026-11-04/
CATEGORIES:Worship Times
ATTACH;FMTTYPE=image/png:https://www.faithlc.com/wp-content/uploads/2023/01/Matins-praying-hands.png
END:VEVENT
BEGIN:VEVENT
DTSTART;TZID=America/Chicago:20261111T070000
DTEND;TZID=America/Chicago:20261111T073000
DTSTAMP:20260421T142613
CREATED:20250625T202847Z
LAST-MODIFIED:20250625T202849Z
UID:10008035-1794380400-1794382200@www.faithlc.com
SUMMARY:Morning Prayer
DESCRIPTION:A time to gether for prayer. You are invited to join the leading pastor in the sanctuary or tune in via Facebook live to participate.
URL:https://www.faithlc.com/event/morning-prayer-2/2026-11-11/
CATEGORIES:Worship Times
ATTACH;FMTTYPE=image/png:https://www.faithlc.com/wp-content/uploads/2023/01/Matins-praying-hands.png
END:VEVENT
END:VCALENDAR