BEGIN:VCALENDAR
VERSION:2.0
PRODID:-//Faith Lutheran Church - ECPv6.15.20//NONSGML v1.0//EN
CALSCALE:GREGORIAN
METHOD:PUBLISH
X-WR-CALNAME:Faith Lutheran Church
X-ORIGINAL-URL:https://www.faithlc.com
X-WR-CALDESC:Events for Faith Lutheran Church
REFRESH-INTERVAL;VALUE=DURATION:PT1H
X-Robots-Tag:noindex
X-PUBLISHED-TTL:PT1H
BEGIN:VTIMEZONE
TZID:America/Chicago
BEGIN:DAYLIGHT
TZOFFSETFROM:-0600
TZOFFSETTO:-0500
TZNAME:CDT
DTSTART:20250309T080000
END:DAYLIGHT
BEGIN:STANDARD
TZOFFSETFROM:-0500
TZOFFSETTO:-0600
TZNAME:CST
DTSTART:20251102T070000
END:STANDARD
BEGIN:DAYLIGHT
TZOFFSETFROM:-0600
TZOFFSETTO:-0500
TZNAME:CDT
DTSTART:20260308T080000
END:DAYLIGHT
BEGIN:STANDARD
TZOFFSETFROM:-0500
TZOFFSETTO:-0600
TZNAME:CST
DTSTART:20261101T070000
END:STANDARD
BEGIN:DAYLIGHT
TZOFFSETFROM:-0600
TZOFFSETTO:-0500
TZNAME:CDT
DTSTART:20270314T080000
END:DAYLIGHT
BEGIN:STANDARD
TZOFFSETFROM:-0500
TZOFFSETTO:-0600
TZNAME:CST
DTSTART:20271107T070000
END:STANDARD
END:VTIMEZONE
BEGIN:VEVENT
DTSTART;TZID=America/Chicago:20260422T153000
DTEND;TZID=America/Chicago:20260422T173000
DTSTAMP:20260420T092628
CREATED:20260408T211902Z
LAST-MODIFIED:20260408T211930Z
UID:10013067-1776871800-1776879000@www.faithlc.com
SUMMARY:Confirmation
DESCRIPTION:Wednesday schedules vary – a typical week is from 3:45-5:30 p.m.\, however\, there are some mentor meetings which are from 5:30-6:30 p.m.\, during Lent students (and families) attend worship at 6:30 and then meet with their small groups for about a half hour after worship. Please follow information from Kristen (orientation handouts\, emails\, etc.) over this calendar to have the most accurate and up to date information.
URL:https://www.faithlc.com/event/confirmation-2/2026-04-22/
LOCATION:Faith Center
ATTACH;FMTTYPE=image/jpeg:https://www.faithlc.com/wp-content/uploads/2022/07/Confirmation-2022.jpg
ORGANIZER;CN="Kristen Durst":MAILTO:kristenm@faithlc.com
END:VEVENT
BEGIN:VEVENT
DTSTART;TZID=America/Chicago:20260429T153000
DTEND;TZID=America/Chicago:20260429T173000
DTSTAMP:20260420T092628
CREATED:20260408T211902Z
LAST-MODIFIED:20260408T211930Z
UID:10013068-1777476600-1777483800@www.faithlc.com
SUMMARY:Confirmation
DESCRIPTION:Wednesday schedules vary – a typical week is from 3:45-5:30 p.m.\, however\, there are some mentor meetings which are from 5:30-6:30 p.m.\, during Lent students (and families) attend worship at 6:30 and then meet with their small groups for about a half hour after worship. Please follow information from Kristen (orientation handouts\, emails\, etc.) over this calendar to have the most accurate and up to date information.
URL:https://www.faithlc.com/event/confirmation-2/2026-04-29/
LOCATION:Faith Center
ATTACH;FMTTYPE=image/jpeg:https://www.faithlc.com/wp-content/uploads/2022/07/Confirmation-2022.jpg
ORGANIZER;CN="Kristen Durst":MAILTO:kristenm@faithlc.com
END:VEVENT
BEGIN:VEVENT
DTSTART;TZID=America/Chicago:20260506T153000
DTEND;TZID=America/Chicago:20260506T173000
DTSTAMP:20260420T092628
CREATED:20260408T211902Z
LAST-MODIFIED:20260408T211930Z
UID:10013069-1778081400-1778088600@www.faithlc.com
SUMMARY:Confirmation
DESCRIPTION:Wednesday schedules vary – a typical week is from 3:45-5:30 p.m.\, however\, there are some mentor meetings which are from 5:30-6:30 p.m.\, during Lent students (and families) attend worship at 6:30 and then meet with their small groups for about a half hour after worship. Please follow information from Kristen (orientation handouts\, emails\, etc.) over this calendar to have the most accurate and up to date information.
URL:https://www.faithlc.com/event/confirmation-2/2026-05-06/
LOCATION:Faith Center
ATTACH;FMTTYPE=image/jpeg:https://www.faithlc.com/wp-content/uploads/2022/07/Confirmation-2022.jpg
ORGANIZER;CN="Kristen Durst":MAILTO:kristenm@faithlc.com
END:VEVENT
BEGIN:VEVENT
DTSTART;TZID=America/Chicago:20260513T153000
DTEND;TZID=America/Chicago:20260513T173000
DTSTAMP:20260420T092628
CREATED:20260408T211902Z
LAST-MODIFIED:20260408T211930Z
UID:10013070-1778686200-1778693400@www.faithlc.com
SUMMARY:Confirmation
DESCRIPTION:Wednesday schedules vary – a typical week is from 3:45-5:30 p.m.\, however\, there are some mentor meetings which are from 5:30-6:30 p.m.\, during Lent students (and families) attend worship at 6:30 and then meet with their small groups for about a half hour after worship. Please follow information from Kristen (orientation handouts\, emails\, etc.) over this calendar to have the most accurate and up to date information.
URL:https://www.faithlc.com/event/confirmation-2/2026-05-13/
LOCATION:Faith Center
ATTACH;FMTTYPE=image/jpeg:https://www.faithlc.com/wp-content/uploads/2022/07/Confirmation-2022.jpg
ORGANIZER;CN="Kristen Durst":MAILTO:kristenm@faithlc.com
END:VEVENT
BEGIN:VEVENT
DTSTART;TZID=America/Chicago:20260520T153000
DTEND;TZID=America/Chicago:20260520T173000
DTSTAMP:20260420T092628
CREATED:20260408T211902Z
LAST-MODIFIED:20260408T211930Z
UID:10013071-1779291000-1779298200@www.faithlc.com
SUMMARY:Confirmation
DESCRIPTION:Wednesday schedules vary – a typical week is from 3:45-5:30 p.m.\, however\, there are some mentor meetings which are from 5:30-6:30 p.m.\, during Lent students (and families) attend worship at 6:30 and then meet with their small groups for about a half hour after worship. Please follow information from Kristen (orientation handouts\, emails\, etc.) over this calendar to have the most accurate and up to date information.
URL:https://www.faithlc.com/event/confirmation-2/2026-05-20/
LOCATION:Faith Center
ATTACH;FMTTYPE=image/jpeg:https://www.faithlc.com/wp-content/uploads/2022/07/Confirmation-2022.jpg
ORGANIZER;CN="Kristen Durst":MAILTO:kristenm@faithlc.com
END:VEVENT
END:VCALENDAR