BEGIN:VCALENDAR
VERSION:2.0
PRODID:-//Faith Lutheran Church - ECPv6.15.20//NONSGML v1.0//EN
CALSCALE:GREGORIAN
METHOD:PUBLISH
X-ORIGINAL-URL:https://www.faithlc.com
X-WR-CALDESC:Events for Faith Lutheran Church
REFRESH-INTERVAL;VALUE=DURATION:PT1H
X-Robots-Tag:noindex
X-PUBLISHED-TTL:PT1H
BEGIN:VTIMEZONE
TZID:America/Chicago
BEGIN:DAYLIGHT
TZOFFSETFROM:-0600
TZOFFSETTO:-0500
TZNAME:CDT
DTSTART:20250309T080000
END:DAYLIGHT
BEGIN:STANDARD
TZOFFSETFROM:-0500
TZOFFSETTO:-0600
TZNAME:CST
DTSTART:20251102T070000
END:STANDARD
BEGIN:DAYLIGHT
TZOFFSETFROM:-0600
TZOFFSETTO:-0500
TZNAME:CDT
DTSTART:20260308T080000
END:DAYLIGHT
BEGIN:STANDARD
TZOFFSETFROM:-0500
TZOFFSETTO:-0600
TZNAME:CST
DTSTART:20261101T070000
END:STANDARD
BEGIN:DAYLIGHT
TZOFFSETFROM:-0600
TZOFFSETTO:-0500
TZNAME:CDT
DTSTART:20270314T080000
END:DAYLIGHT
BEGIN:STANDARD
TZOFFSETFROM:-0500
TZOFFSETTO:-0600
TZNAME:CST
DTSTART:20271107T070000
END:STANDARD
END:VTIMEZONE
BEGIN:VEVENT
DTSTART;TZID=America/Chicago:20260424T070000
DTEND;TZID=America/Chicago:20260424T080000
DTSTAMP:20260420T080926
CREATED:20250625T201343Z
LAST-MODIFIED:20251230T195614Z
UID:10007952-1777014000-1777017600@www.faithlc.com
SUMMARY:Women's Early Bible Study
DESCRIPTION:A Women’s Bible study that meets Friday mornings year-round. This group digs into a variety of book and Bibles studies throughout the year.
URL:https://www.faithlc.com/event/womens-early-bible-study-3/2026-04-24/
LOCATION:Office Conference Room
CATEGORIES:Adult
ATTACH;FMTTYPE=image/jpeg:https://www.faithlc.com/wp-content/uploads/2015/05/Bible.jpg
END:VEVENT
BEGIN:VEVENT
DTSTART;TZID=America/Chicago:20260424T123000
DTEND;TZID=America/Chicago:20260424T133000
DTSTAMP:20260420T080926
CREATED:20250625T201714Z
LAST-MODIFIED:20250625T204402Z
UID:10008533-1777033800-1777037400@www.faithlc.com
SUMMARY:Bulletin Assembly
DESCRIPTION:This group of volunteers gathers each week to but the service orders and announcements together into packets for Sunday morning. New hands are always welcome.
URL:https://www.faithlc.com/event/bulletin-assembly-2/2026-04-24/
LOCATION:Office Conference Room
CATEGORIES:Adult
ATTACH;FMTTYPE=image/jpeg:https://www.faithlc.com/wp-content/uploads/2019/06/Bulletin-Assembly.jpg
END:VEVENT
BEGIN:VEVENT
DTSTART;TZID=America/Chicago:20260501T070000
DTEND;TZID=America/Chicago:20260501T080000
DTSTAMP:20260420T080926
CREATED:20250625T201343Z
LAST-MODIFIED:20251230T195614Z
UID:10007953-1777618800-1777622400@www.faithlc.com
SUMMARY:Women's Early Bible Study
DESCRIPTION:A Women’s Bible study that meets Friday mornings year-round. This group digs into a variety of book and Bibles studies throughout the year.
URL:https://www.faithlc.com/event/womens-early-bible-study-3/2026-05-01/
LOCATION:Office Conference Room
CATEGORIES:Adult
ATTACH;FMTTYPE=image/jpeg:https://www.faithlc.com/wp-content/uploads/2015/05/Bible.jpg
END:VEVENT
BEGIN:VEVENT
DTSTART;TZID=America/Chicago:20260501T123000
DTEND;TZID=America/Chicago:20260501T133000
DTSTAMP:20260420T080926
CREATED:20250625T201714Z
LAST-MODIFIED:20250625T204402Z
UID:10008534-1777638600-1777642200@www.faithlc.com
SUMMARY:Bulletin Assembly
DESCRIPTION:This group of volunteers gathers each week to but the service orders and announcements together into packets for Sunday morning. New hands are always welcome.
URL:https://www.faithlc.com/event/bulletin-assembly-2/2026-05-01/
LOCATION:Office Conference Room
CATEGORIES:Adult
ATTACH;FMTTYPE=image/jpeg:https://www.faithlc.com/wp-content/uploads/2019/06/Bulletin-Assembly.jpg
END:VEVENT
BEGIN:VEVENT
DTSTART;TZID=America/Chicago:20260508T070000
DTEND;TZID=America/Chicago:20260508T080000
DTSTAMP:20260420T080926
CREATED:20250625T201343Z
LAST-MODIFIED:20251230T195614Z
UID:10007954-1778223600-1778227200@www.faithlc.com
SUMMARY:Women's Early Bible Study
DESCRIPTION:A Women’s Bible study that meets Friday mornings year-round. This group digs into a variety of book and Bibles studies throughout the year.
URL:https://www.faithlc.com/event/womens-early-bible-study-3/2026-05-08/
LOCATION:Office Conference Room
CATEGORIES:Adult
ATTACH;FMTTYPE=image/jpeg:https://www.faithlc.com/wp-content/uploads/2015/05/Bible.jpg
END:VEVENT
BEGIN:VEVENT
DTSTART;TZID=America/Chicago:20260508T123000
DTEND;TZID=America/Chicago:20260508T133000
DTSTAMP:20260420T080926
CREATED:20250625T201714Z
LAST-MODIFIED:20250625T204402Z
UID:10008535-1778243400-1778247000@www.faithlc.com
SUMMARY:Bulletin Assembly
DESCRIPTION:This group of volunteers gathers each week to but the service orders and announcements together into packets for Sunday morning. New hands are always welcome.
URL:https://www.faithlc.com/event/bulletin-assembly-2/2026-05-08/
LOCATION:Office Conference Room
CATEGORIES:Adult
ATTACH;FMTTYPE=image/jpeg:https://www.faithlc.com/wp-content/uploads/2019/06/Bulletin-Assembly.jpg
END:VEVENT
BEGIN:VEVENT
DTSTART;TZID=America/Chicago:20260511T153000
DTEND;TZID=America/Chicago:20260511T170000
DTSTAMP:20260420T080926
CREATED:20250224T182725Z
LAST-MODIFIED:20250224T182803Z
UID:10007221-1778513400-1778518800@www.faithlc.com
SUMMARY:FLCW Board Meeting
DESCRIPTION:
URL:https://www.faithlc.com/event/flcw-board-meeting-3/2026-05-11/
LOCATION:Office Conference Room
CATEGORIES:Adult,Miscellaneous
ATTACH;FMTTYPE=image/png:https://www.faithlc.com/wp-content/uploads/2018/09/Womens-Ministry.png
END:VEVENT
BEGIN:VEVENT
DTSTART;TZID=America/Chicago:20260511T183000
DTEND;TZID=America/Chicago:20260511T193000
DTSTAMP:20260420T080926
CREATED:20250721T195735Z
LAST-MODIFIED:20260129T221956Z
UID:10007831-1778524200-1778527800@www.faithlc.com
SUMMARY:Book Club
DESCRIPTION:This Book Club meets the second Tuesday of each month. In the summer they meet at 7 p.m. but during the winter months they meet in the afternoons. Contact Marsha Schmit for details on how to join\, what book is currently being read\, and what time the group is meeting this month.
URL:https://www.faithlc.com/event/book-club-3/2026-05-11/
LOCATION:Office Conference Room
CATEGORIES:Adult
ATTACH;FMTTYPE=image/jpeg:https://www.faithlc.com/wp-content/uploads/2015/05/Book-Club.jpeg
END:VEVENT
BEGIN:VEVENT
DTSTART;TZID=America/Chicago:20260515T070000
DTEND;TZID=America/Chicago:20260515T080000
DTSTAMP:20260420T080926
CREATED:20250625T201343Z
LAST-MODIFIED:20251230T195614Z
UID:10007955-1778828400-1778832000@www.faithlc.com
SUMMARY:Women's Early Bible Study
DESCRIPTION:A Women’s Bible study that meets Friday mornings year-round. This group digs into a variety of book and Bibles studies throughout the year.
URL:https://www.faithlc.com/event/womens-early-bible-study-3/2026-05-15/
LOCATION:Office Conference Room
CATEGORIES:Adult
ATTACH;FMTTYPE=image/jpeg:https://www.faithlc.com/wp-content/uploads/2015/05/Bible.jpg
END:VEVENT
BEGIN:VEVENT
DTSTART;TZID=America/Chicago:20260515T123000
DTEND;TZID=America/Chicago:20260515T133000
DTSTAMP:20260420T080926
CREATED:20250625T201714Z
LAST-MODIFIED:20250625T204402Z
UID:10008536-1778848200-1778851800@www.faithlc.com
SUMMARY:Bulletin Assembly
DESCRIPTION:This group of volunteers gathers each week to but the service orders and announcements together into packets for Sunday morning. New hands are always welcome.
URL:https://www.faithlc.com/event/bulletin-assembly-2/2026-05-15/
LOCATION:Office Conference Room
CATEGORIES:Adult
ATTACH;FMTTYPE=image/jpeg:https://www.faithlc.com/wp-content/uploads/2019/06/Bulletin-Assembly.jpg
END:VEVENT
BEGIN:VEVENT
DTSTART;TZID=America/Chicago:20260521T160000
DTEND;TZID=America/Chicago:20260521T170000
DTSTAMP:20260420T080926
CREATED:20250909T134543Z
LAST-MODIFIED:20250909T134544Z
UID:10011175-1779379200-1779382800@www.faithlc.com
SUMMARY:Caregiver Support Group
DESCRIPTION:A support group for those who find themselves in a caregiving role. Members and non-members are welcome. Contact Pastor Paulus Pilgrim or Marsha Schmit for more information.
URL:https://www.faithlc.com/event/caregiver-support-group/2026-05-21/
LOCATION:Office Conference Room
CATEGORIES:Adult
ATTACH;FMTTYPE=image/jpeg:https://www.faithlc.com/wp-content/uploads/2018/01/Caregiver-Support.jpeg
END:VEVENT
BEGIN:VEVENT
DTSTART;TZID=America/Chicago:20260522T070000
DTEND;TZID=America/Chicago:20260522T080000
DTSTAMP:20260420T080926
CREATED:20250625T201343Z
LAST-MODIFIED:20251230T195614Z
UID:10007956-1779433200-1779436800@www.faithlc.com
SUMMARY:Women's Early Bible Study
DESCRIPTION:A Women’s Bible study that meets Friday mornings year-round. This group digs into a variety of book and Bibles studies throughout the year.
URL:https://www.faithlc.com/event/womens-early-bible-study-3/2026-05-22/
LOCATION:Office Conference Room
CATEGORIES:Adult
ATTACH;FMTTYPE=image/jpeg:https://www.faithlc.com/wp-content/uploads/2015/05/Bible.jpg
END:VEVENT
BEGIN:VEVENT
DTSTART;TZID=America/Chicago:20260522T123000
DTEND;TZID=America/Chicago:20260522T133000
DTSTAMP:20260420T080926
CREATED:20250625T201714Z
LAST-MODIFIED:20250625T204402Z
UID:10008537-1779453000-1779456600@www.faithlc.com
SUMMARY:Bulletin Assembly
DESCRIPTION:This group of volunteers gathers each week to but the service orders and announcements together into packets for Sunday morning. New hands are always welcome.
URL:https://www.faithlc.com/event/bulletin-assembly-2/2026-05-22/
LOCATION:Office Conference Room
CATEGORIES:Adult
ATTACH;FMTTYPE=image/jpeg:https://www.faithlc.com/wp-content/uploads/2019/06/Bulletin-Assembly.jpg
END:VEVENT
BEGIN:VEVENT
DTSTART;TZID=America/Chicago:20260529T070000
DTEND;TZID=America/Chicago:20260529T080000
DTSTAMP:20260420T080926
CREATED:20250625T201343Z
LAST-MODIFIED:20251230T195614Z
UID:10007957-1780038000-1780041600@www.faithlc.com
SUMMARY:Women's Early Bible Study
DESCRIPTION:A Women’s Bible study that meets Friday mornings year-round. This group digs into a variety of book and Bibles studies throughout the year.
URL:https://www.faithlc.com/event/womens-early-bible-study-3/2026-05-29/
LOCATION:Office Conference Room
CATEGORIES:Adult
ATTACH;FMTTYPE=image/jpeg:https://www.faithlc.com/wp-content/uploads/2015/05/Bible.jpg
END:VEVENT
BEGIN:VEVENT
DTSTART;TZID=America/Chicago:20260529T123000
DTEND;TZID=America/Chicago:20260529T133000
DTSTAMP:20260420T080926
CREATED:20250625T201714Z
LAST-MODIFIED:20250625T204402Z
UID:10008538-1780057800-1780061400@www.faithlc.com
SUMMARY:Bulletin Assembly
DESCRIPTION:This group of volunteers gathers each week to but the service orders and announcements together into packets for Sunday morning. New hands are always welcome.
URL:https://www.faithlc.com/event/bulletin-assembly-2/2026-05-29/
LOCATION:Office Conference Room
CATEGORIES:Adult
ATTACH;FMTTYPE=image/jpeg:https://www.faithlc.com/wp-content/uploads/2019/06/Bulletin-Assembly.jpg
END:VEVENT
BEGIN:VEVENT
DTSTART;TZID=America/Chicago:20260605T070000
DTEND;TZID=America/Chicago:20260605T080000
DTSTAMP:20260420T080926
CREATED:20250625T201343Z
LAST-MODIFIED:20251230T195614Z
UID:10007958-1780642800-1780646400@www.faithlc.com
SUMMARY:Women's Early Bible Study
DESCRIPTION:A Women’s Bible study that meets Friday mornings year-round. This group digs into a variety of book and Bibles studies throughout the year.
URL:https://www.faithlc.com/event/womens-early-bible-study-3/2026-06-05/
LOCATION:Office Conference Room
CATEGORIES:Adult
ATTACH;FMTTYPE=image/jpeg:https://www.faithlc.com/wp-content/uploads/2015/05/Bible.jpg
END:VEVENT
BEGIN:VEVENT
DTSTART;TZID=America/Chicago:20260605T123000
DTEND;TZID=America/Chicago:20260605T133000
DTSTAMP:20260420T080926
CREATED:20250625T201714Z
LAST-MODIFIED:20250625T204402Z
UID:10008539-1780662600-1780666200@www.faithlc.com
SUMMARY:Bulletin Assembly
DESCRIPTION:This group of volunteers gathers each week to but the service orders and announcements together into packets for Sunday morning. New hands are always welcome.
URL:https://www.faithlc.com/event/bulletin-assembly-2/2026-06-05/
LOCATION:Office Conference Room
CATEGORIES:Adult
ATTACH;FMTTYPE=image/jpeg:https://www.faithlc.com/wp-content/uploads/2019/06/Bulletin-Assembly.jpg
END:VEVENT
BEGIN:VEVENT
DTSTART;TZID=America/Chicago:20260608T153000
DTEND;TZID=America/Chicago:20260608T170000
DTSTAMP:20260420T080926
CREATED:20250224T182725Z
LAST-MODIFIED:20250224T182803Z
UID:10007222-1780932600-1780938000@www.faithlc.com
SUMMARY:FLCW Board Meeting
DESCRIPTION:
URL:https://www.faithlc.com/event/flcw-board-meeting-3/2026-06-08/
LOCATION:Office Conference Room
CATEGORIES:Adult,Miscellaneous
ATTACH;FMTTYPE=image/png:https://www.faithlc.com/wp-content/uploads/2018/09/Womens-Ministry.png
END:VEVENT
BEGIN:VEVENT
DTSTART;TZID=America/Chicago:20260608T183000
DTEND;TZID=America/Chicago:20260608T193000
DTSTAMP:20260420T080926
CREATED:20250721T195735Z
LAST-MODIFIED:20260129T221956Z
UID:10007832-1780943400-1780947000@www.faithlc.com
SUMMARY:Book Club
DESCRIPTION:This Book Club meets the second Tuesday of each month. In the summer they meet at 7 p.m. but during the winter months they meet in the afternoons. Contact Marsha Schmit for details on how to join\, what book is currently being read\, and what time the group is meeting this month.
URL:https://www.faithlc.com/event/book-club-3/2026-06-08/
LOCATION:Office Conference Room
CATEGORIES:Adult
ATTACH;FMTTYPE=image/jpeg:https://www.faithlc.com/wp-content/uploads/2015/05/Book-Club.jpeg
END:VEVENT
BEGIN:VEVENT
DTSTART;TZID=America/Chicago:20260612T123000
DTEND;TZID=America/Chicago:20260612T133000
DTSTAMP:20260420T080926
CREATED:20250625T201714Z
LAST-MODIFIED:20250625T204402Z
UID:10008540-1781267400-1781271000@www.faithlc.com
SUMMARY:Bulletin Assembly
DESCRIPTION:This group of volunteers gathers each week to but the service orders and announcements together into packets for Sunday morning. New hands are always welcome.
URL:https://www.faithlc.com/event/bulletin-assembly-2/2026-06-12/
LOCATION:Office Conference Room
CATEGORIES:Adult
ATTACH;FMTTYPE=image/jpeg:https://www.faithlc.com/wp-content/uploads/2019/06/Bulletin-Assembly.jpg
END:VEVENT
BEGIN:VEVENT
DTSTART;TZID=America/Chicago:20260619T123000
DTEND;TZID=America/Chicago:20260619T133000
DTSTAMP:20260420T080926
CREATED:20250625T201714Z
LAST-MODIFIED:20250625T204402Z
UID:10008541-1781872200-1781875800@www.faithlc.com
SUMMARY:Bulletin Assembly
DESCRIPTION:This group of volunteers gathers each week to but the service orders and announcements together into packets for Sunday morning. New hands are always welcome.
URL:https://www.faithlc.com/event/bulletin-assembly-2/2026-06-19/
LOCATION:Office Conference Room
CATEGORIES:Adult
ATTACH;FMTTYPE=image/jpeg:https://www.faithlc.com/wp-content/uploads/2019/06/Bulletin-Assembly.jpg
END:VEVENT
BEGIN:VEVENT
DTSTART;TZID=America/Chicago:20260626T123000
DTEND;TZID=America/Chicago:20260626T133000
DTSTAMP:20260420T080926
CREATED:20250625T201714Z
LAST-MODIFIED:20250625T204402Z
UID:10008542-1782477000-1782480600@www.faithlc.com
SUMMARY:Bulletin Assembly
DESCRIPTION:This group of volunteers gathers each week to but the service orders and announcements together into packets for Sunday morning. New hands are always welcome.
URL:https://www.faithlc.com/event/bulletin-assembly-2/2026-06-26/
LOCATION:Office Conference Room
CATEGORIES:Adult
ATTACH;FMTTYPE=image/jpeg:https://www.faithlc.com/wp-content/uploads/2019/06/Bulletin-Assembly.jpg
END:VEVENT
BEGIN:VEVENT
DTSTART;TZID=America/Chicago:20260703T123000
DTEND;TZID=America/Chicago:20260703T133000
DTSTAMP:20260420T080926
CREATED:20250625T201714Z
LAST-MODIFIED:20250625T204402Z
UID:10008543-1783081800-1783085400@www.faithlc.com
SUMMARY:Bulletin Assembly
DESCRIPTION:This group of volunteers gathers each week to but the service orders and announcements together into packets for Sunday morning. New hands are always welcome.
URL:https://www.faithlc.com/event/bulletin-assembly-2/2026-07-03/
LOCATION:Office Conference Room
CATEGORIES:Adult
ATTACH;FMTTYPE=image/jpeg:https://www.faithlc.com/wp-content/uploads/2019/06/Bulletin-Assembly.jpg
END:VEVENT
BEGIN:VEVENT
DTSTART;TZID=America/Chicago:20260710T123000
DTEND;TZID=America/Chicago:20260710T133000
DTSTAMP:20260420T080926
CREATED:20250625T201714Z
LAST-MODIFIED:20250625T204402Z
UID:10008544-1783686600-1783690200@www.faithlc.com
SUMMARY:Bulletin Assembly
DESCRIPTION:This group of volunteers gathers each week to but the service orders and announcements together into packets for Sunday morning. New hands are always welcome.
URL:https://www.faithlc.com/event/bulletin-assembly-2/2026-07-10/
LOCATION:Office Conference Room
CATEGORIES:Adult
ATTACH;FMTTYPE=image/jpeg:https://www.faithlc.com/wp-content/uploads/2019/06/Bulletin-Assembly.jpg
END:VEVENT
BEGIN:VEVENT
DTSTART;TZID=America/Chicago:20260713T153000
DTEND;TZID=America/Chicago:20260713T170000
DTSTAMP:20260420T080926
CREATED:20250224T182725Z
LAST-MODIFIED:20250224T182803Z
UID:10007223-1783956600-1783962000@www.faithlc.com
SUMMARY:FLCW Board Meeting
DESCRIPTION:
URL:https://www.faithlc.com/event/flcw-board-meeting-3/2026-07-13/
LOCATION:Office Conference Room
CATEGORIES:Adult,Miscellaneous
ATTACH;FMTTYPE=image/png:https://www.faithlc.com/wp-content/uploads/2018/09/Womens-Ministry.png
END:VEVENT
BEGIN:VEVENT
DTSTART;TZID=America/Chicago:20260713T183000
DTEND;TZID=America/Chicago:20260713T193000
DTSTAMP:20260420T080926
CREATED:20250721T195735Z
LAST-MODIFIED:20260129T221956Z
UID:10007833-1783967400-1783971000@www.faithlc.com
SUMMARY:Book Club
DESCRIPTION:This Book Club meets the second Tuesday of each month. In the summer they meet at 7 p.m. but during the winter months they meet in the afternoons. Contact Marsha Schmit for details on how to join\, what book is currently being read\, and what time the group is meeting this month.
URL:https://www.faithlc.com/event/book-club-3/2026-07-13/
LOCATION:Office Conference Room
CATEGORIES:Adult
ATTACH;FMTTYPE=image/jpeg:https://www.faithlc.com/wp-content/uploads/2015/05/Book-Club.jpeg
END:VEVENT
BEGIN:VEVENT
DTSTART;TZID=America/Chicago:20260717T123000
DTEND;TZID=America/Chicago:20260717T133000
DTSTAMP:20260420T080926
CREATED:20250625T201714Z
LAST-MODIFIED:20250625T204402Z
UID:10008545-1784291400-1784295000@www.faithlc.com
SUMMARY:Bulletin Assembly
DESCRIPTION:This group of volunteers gathers each week to but the service orders and announcements together into packets for Sunday morning. New hands are always welcome.
URL:https://www.faithlc.com/event/bulletin-assembly-2/2026-07-17/
LOCATION:Office Conference Room
CATEGORIES:Adult
ATTACH;FMTTYPE=image/jpeg:https://www.faithlc.com/wp-content/uploads/2019/06/Bulletin-Assembly.jpg
END:VEVENT
BEGIN:VEVENT
DTSTART;TZID=America/Chicago:20260724T123000
DTEND;TZID=America/Chicago:20260724T133000
DTSTAMP:20260420T080926
CREATED:20250625T201714Z
LAST-MODIFIED:20250625T204402Z
UID:10008546-1784896200-1784899800@www.faithlc.com
SUMMARY:Bulletin Assembly
DESCRIPTION:This group of volunteers gathers each week to but the service orders and announcements together into packets for Sunday morning. New hands are always welcome.
URL:https://www.faithlc.com/event/bulletin-assembly-2/2026-07-24/
LOCATION:Office Conference Room
CATEGORIES:Adult
ATTACH;FMTTYPE=image/jpeg:https://www.faithlc.com/wp-content/uploads/2019/06/Bulletin-Assembly.jpg
END:VEVENT
BEGIN:VEVENT
DTSTART;TZID=America/Chicago:20260731T123000
DTEND;TZID=America/Chicago:20260731T133000
DTSTAMP:20260420T080926
CREATED:20250625T201714Z
LAST-MODIFIED:20250625T204402Z
UID:10008547-1785501000-1785504600@www.faithlc.com
SUMMARY:Bulletin Assembly
DESCRIPTION:This group of volunteers gathers each week to but the service orders and announcements together into packets for Sunday morning. New hands are always welcome.
URL:https://www.faithlc.com/event/bulletin-assembly-2/2026-07-31/
LOCATION:Office Conference Room
CATEGORIES:Adult
ATTACH;FMTTYPE=image/jpeg:https://www.faithlc.com/wp-content/uploads/2019/06/Bulletin-Assembly.jpg
END:VEVENT
BEGIN:VEVENT
DTSTART;TZID=America/Chicago:20260807T123000
DTEND;TZID=America/Chicago:20260807T133000
DTSTAMP:20260420T080926
CREATED:20250625T201714Z
LAST-MODIFIED:20250625T204402Z
UID:10008548-1786105800-1786109400@www.faithlc.com
SUMMARY:Bulletin Assembly
DESCRIPTION:This group of volunteers gathers each week to but the service orders and announcements together into packets for Sunday morning. New hands are always welcome.
URL:https://www.faithlc.com/event/bulletin-assembly-2/2026-08-07/
LOCATION:Office Conference Room
CATEGORIES:Adult
ATTACH;FMTTYPE=image/jpeg:https://www.faithlc.com/wp-content/uploads/2019/06/Bulletin-Assembly.jpg
END:VEVENT
END:VCALENDAR